Workbook
Name check_dosen: Dosen!$A$1:$R$447
Name dosen_lama: #REF!
Name tendik_lama: #REF!
Name tgllahir: #REF!
Name zrhr: #REF!

Sheet Dosen
A1: Data Dosen Universitas Kristen Maranatha
A2: data DSDI s.d. 1 Januari 2026
Q3: 46023
A4: No. | B4: NIK | C4: Nama Pegawai | D4: Status | E4: Jab. Akademik | F4: TMT JA Terakhir | G4: Golongan | H4: Pendidikan Terakhir | I4: Status Serdos | J4: No Registrasi | K4: Status Registrasi PDDIKTI | L4: NIDN | M4: NIDK | N4: NUPTK | O4: Fakultas | P4: Program Studi | Q4: Tgl. Lahir | R4: Usia s.d. 1 Desember 2025 | S4: Gender | T4: Agama | U4: Keterangan
A5: 1 | B5: 110035 | C5: dr. Jeanny Ervie Ladi, M.Kes. | D5: DPK | E5: Lektor | F5: 01-09-2022 | G5: IIID | H5: S2 | I5: Belum | J5: 13104100700702 | K5: NIDK | M5: 8960111024 | O5: Fakultas Kedokteran | P5: Program Sarjana Pendidikan Dokter Fakultas Kedokteran | Q5: 21818 | R5: =DATEDIF(Q5,$Q$3,"y")&" Tahun"&" "&DATEDIF(Q5,$Q$3,"ym")&" Bulan" -> 66 Tahun 3 Bulan | S5: Wanita | T5: Katolik
A6: 2 | B6: 110062 | C6: dr. Budi Liem, M.Med. | D6: DT | E6: Asisten Ahli | F6: 01-11-2011 | G6: IVA | H6: S2 | I6: Sudah | J6: 15104100706579 | K6: NIDN | L6: 0428086103 | N6: 8160739640130113 | O6: Fakultas Kedokteran | P6: Program Pendidikan Profesi Dokter Fakultas Kedokteran | Q6: 22521 | R6: =DATEDIF(Q6,$Q$3,"y")&" Tahun"&" "&DATEDIF(Q6,$Q$3,"ym")&" Bulan" -> 64 Tahun 4 Bulan | S6: Pria | T6: Kristen
A7: 3 | B7: 110067 | C7: dr. Franky Saputra Supriady, Sp.A. | D7: DT | E7: Asisten Ahli | F7: 01-08-2022 | G7: IVA | H7: Sp.1 | I7: Belum | K7: NIDN | L7: 0408016102 | N7: 2440739640130072 | O7: Fakultas Kedokteran | P7: Program Pendidikan Profesi Dokter Fakultas Kedokteran | Q7: 22289 | R7: =DATEDIF(Q7,$Q$3,"y")&" Tahun"&" "&DATEDIF(Q7,$Q$3,"ym")&" Bulan" -> 64 Tahun 11 Bulan | S7: Pria | T7: Kristen
A8: 4 | B8: 110068 | C8: dr. Sijani Prahastuti, M.Kes. | D8: DT | E8: Lektor Kepala | F8: 01-10-2025 | G8: IVA | H8: S2 | I8: Sudah | J8: 12104100712532 | K8: NIDN | L8: 0403036101 | N8: 3635739640230082 | O8: Fakultas Kedokteran | P8: Program Sarjana Pendidikan Dokter Fakultas Kedokteran | Q8: 22343 | R8: =DATEDIF(Q8,$Q$3,"y")&" Tahun"&" "&DATEDIF(Q8,$Q$3,"ym")&" Bulan" -> 64 Tahun 9 Bulan | S8: Wanita | T8: Kristen
A9: 5 | B9: 110165 | C9: Prof. Dr. dr. Meilinah Hidayat, M.Kes. | D9: DT | E9: Guru Besar | F9: 01-07-2021 | G9: IVD | H9: S3 | I9: Sudah | J9: 12104100705285 | K9: NIDN | L9: 0404126301 | N9: 1536741642230093 | O9: Fakultas Kedokteran | P9: Program Magister Kesehatan Penuaan Kulit dan Estetika | Q9: 23349 | R9: =DATEDIF(Q9,$Q$3,"y")&" Tahun"&" "&DATEDIF(Q9,$Q$3,"ym")&" Bulan" -> 62 Tahun 0 Bulan | S9: Wanita | T9: Katolik
A10: 6 | B10: 110178 | C10: dr. Penny Setyawati Martioso, Sp.PK., M.Kes. | D10: DT | E10: Lektor | F10: 01-11-2025 | G10: IVA | H10: S2 | I10: Sudah | J10: 13104100702794 | K10: NIDN | L10: 0412036203 | N10: 1644740641230112 | O10: Fakultas Kedokteran | P10: Program Sarjana Pendidikan Dokter Fakultas Kedokteran | Q10: 22717 | R10: =DATEDIF(Q10,$Q$3,"y")&" Tahun"&" "&DATEDIF(Q10,$Q$3,"ym")&" Bulan" -> 63 Tahun 9 Bulan | S10: Wanita | T10: Katolik
A11: 7 | B11: 110191 | C11: dr. Djaja Rusmana, M.Si. | D11: DT | E11: Lektor | F11: 01-10-2025 | G11: IIID | H11: S2 | I11: Sudah | J11: 14104100703230 | K11: NIDN | L11: 0413126704 | N11: 8545745646130083 | O11: Fakultas Kedokteran | P11: Program Sarjana Pendidikan Dokter Fakultas Kedokteran | Q11: 24819 | R11: =DATEDIF(Q11,$Q$3,"y")&" Tahun"&" "&DATEDIF(Q11,$Q$3,"ym")&" Bulan" -> 58 Tahun 0 Bulan | S11: Pria | T11: Budha
A12: 8 | B12: 110244 | C12: Dr.dr. Oeij Anindita Adhika, M.Kes. | D12: DT | E12: Lektor Kepala | F12: 01-07-2011 | G12: IVA | H12: S3 | I12: Sudah | J12: 15104100705240 | K12: NIDN | L12: 0409036501 | N12: 1641743644230082 | O12: Fakultas Kedokteran | P12: Program Sarjana Pendidikan Dokter Fakultas Kedokteran | Q12: 23810 | R12: =DATEDIF(Q12,$Q$3,"y")&" Tahun"&" "&DATEDIF(Q12,$Q$3,"ym")&" Bulan" -> 60 Tahun 9 Bulan | S12: Wanita | T12: Kristen
A13: 9 | B13: 110247 | C13: dr. Johan Lucianus, M.Si. | D13: DT | E13: Lektor | F13: 01-07-2025 | G13: IVA | H13: S2 | I13: Sudah | J13: 13104100701250 | K13: NIDN | L13: 0415036801 | N13: 0647746647130162 | O13: Fakultas Kedokteran | P13: Program Sarjana Pendidikan Dokter Fakultas Kedokteran | Q13: 24912 | R13: =DATEDIF(Q13,$Q$3,"y")&" Tahun"&" "&DATEDIF(Q13,$Q$3,"ym")&" Bulan" -> 57 Tahun 9 Bulan | S13: Pria | T13: Kristen
A14: 10 | B14: 110281 | C14: Dr. dr. Fanny Rahardja, M.Si. | D14: DT | E14: Lektor | F14: 01-08-2023 | G14: IVA | H14: S3 | I14: Sudah | J14: 12104100710462 | K14: NIDN | L14: 0413106901 | N14: 7345747648230083 | O14: Fakultas Kedokteran | P14: Program Sarjana Pendidikan Dokter Fakultas Kedokteran | Q14: 25489 | R14: =DATEDIF(Q14,$Q$3,"y")&" Tahun"&" "&DATEDIF(Q14,$Q$3,"ym")&" Bulan" -> 56 Tahun 2 Bulan | S14: Wanita | T14: Kristen
A15: 11 | B15: 110292 | C15: Dr.dr. Diana Krisanti Jasaputra, M.Kes. | D15: DT | E15: Lektor Kepala | F15: 01-04-2022 | G15: IVA | H15: S3 | I15: Sudah | J15: 11104100702661 | K15: NIDN | L15: 0414076701 | N15: 2046745646230123 | O15: Fakultas Kedokteran | P15: Program Magister Kesehatan Penuaan Kulit dan Estetika | Q15: 24667 | R15: =DATEDIF(Q15,$Q$3,"y")&" Tahun"&" "&DATEDIF(Q15,$Q$3,"ym")&" Bulan" -> 58 Tahun 5 Bulan | S15: Wanita | T15: Kristen
A16: 12 | B16: 110325 | C16: Prof. Dr. Teresa Liliana Wargasetia, S.Si., M.Kes., PA(K). | D16: DT | E16: Guru Besar | F16: 01-10-2023 | G16: IVD | H16: S3 | I16: Sudah | J16: 15104100704923 | K16: NIDN | L16: 0402077101 | N16: 8034749650230143 | O16: Fakultas Kedokteran | P16: Program Magister Kesehatan Penuaan Kulit dan Estetika | Q16: 26116 | R16: =DATEDIF(Q16,$Q$3,"y")&" Tahun"&" "&DATEDIF(Q16,$Q$3,"ym")&" Bulan" -> 54 Tahun 5 Bulan | S16: Wanita | T16: Kristen
A17: 13 | B17: 110343 | C17: dr. Laella Kinghua Liana, Sp.PA., M.Kes. | D17: DT | E17: Lektor | F17: 01-11-2025 | G17: IIID | H17: S2 | I17: Sudah | J17: 12104100711263 | K17: NIDN | L17: 0401097402 | N17: 5233752653230113 | O17: Fakultas Kedokteran | P17: Program Sarjana Pendidikan Dokter Fakultas Kedokteran | Q17: 27273 | R17: =DATEDIF(Q17,$Q$3,"y")&" Tahun"&" "&DATEDIF(Q17,$Q$3,"ym")&" Bulan" -> 51 Tahun 4 Bulan | S17: Wanita | T17: Kristen
A18: 14 | B18: 110346 | C18: dr. Lukas Mulyono Samuel, Sp.PD., K-GEH. | D18: DT | E18: Asisten Ahli | F18: 01-01-2021 | G18: IIID | H18: Sp.2 | I18: Belum | K18: NIDN | L18: 0408097304 | N18: 7240751652130123 | O18: Fakultas Kedokteran | P18: Program Pendidikan Profesi Dokter Fakultas Kedokteran | Q18: 26915 | R18: =DATEDIF(Q18,$Q$3,"y")&" Tahun"&" "&DATEDIF(Q18,$Q$3,"ym")&" Bulan" -> 52 Tahun 3 Bulan | S18: Pria | T18: Katolik
A19: 15 | B19: 110354 | C19: dr. July Ivone, M.K.K., M.Pd.Ked. | D19: DT | E19: Lektor Kepala | F19: 01-07-2025 | G19: IIID | H19: S2 | I19: Sudah | J19: 12104100711165 | K19: NIDN | L19: 0414077501 | N19: 1046753654230123 | O19: Fakultas Kedokteran | P19: Program Sarjana Pendidikan Dokter Fakultas Kedokteran | Q19: 27589 | R19: =DATEDIF(Q19,$Q$3,"y")&" Tahun"&" "&DATEDIF(Q19,$Q$3,"ym")&" Bulan" -> 50 Tahun 5 Bulan | S19: Wanita | T19: Katolik
A20: 16 | B20: 110465 | C20: Dr. Philips Onggowidjaja, S.Si., M.Si. | D20: DT | E20: Lektor | F20: 01-09-2022 | G20: IVA | H20: S3 | I20: Sudah | J20: 15104100705690 | K20: NIDN | L20: 0409064201 | N20: 0941749650130152 | O20: Fakultas Kedokteran | P20: Program Sarjana Bioteknologi Fakultas Kedokteran | Q20: 26093 | R20: =DATEDIF(Q20,$Q$3,"y")&" Tahun"&" "&DATEDIF(Q20,$Q$3,"ym")&" Bulan" -> 54 Tahun 6 Bulan | S20: Pria | T20: Kristen
A21: 17 | B21: 110474 | C21: Dr.dr. Savitri Restu Wardhani, Sp.KK. | D21: DT | E21: Lektor | F21: 01-10-2025 | G21: IVA | H21: S3 | I21: Belum | K21: NIDN | L21: 0429106402 | N21: 7361742643230043 | O21: Fakultas Kedokteran | P21: Program Pendidikan Profesi Dokter Fakultas Kedokteran | Q21: 23679 | R21: =DATEDIF(Q21,$Q$3,"y")&" Tahun"&" "&DATEDIF(Q21,$Q$3,"ym")&" Bulan" -> 61 Tahun 2 Bulan | S21: Wanita | T21: Katolik
A22: 18 | B22: 110500 | C22: Dr.dr. Jahja Teguh Widjaja, M.B.A., Sp.P., FCCP. | D22: DT | E22: Lektor | F22: 01-07-2022 | G22: IVA | H22: S3 | I22: Belum | K22: NIDN | L22: 0426046201 | N22: 3758740641130062 | O22: Fakultas Kedokteran | P22: Program Pendidikan Profesi Dokter Fakultas Kedokteran | Q22: 22762 | R22: =DATEDIF(Q22,$Q$3,"y")&" Tahun"&" "&DATEDIF(Q22,$Q$3,"ym")&" Bulan" -> 63 Tahun 8 Bulan | S22: Pria | T22: Kristen
A23: 19 | B23: 110504 | C23: dr. Mohamad Indra Sapta, Sp.THT-KL. | D23: DT | E23: Asisten Ahli | F23: 01-11-2020 | G23: IVA | H23: Sp.1 | I23: Sudah | K23: NIDN | L23: 0427036502 | N23: 2659743644130072 | O23: Fakultas Kedokteran | P23: Program Pendidikan Profesi Dokter Fakultas Kedokteran | Q23: 23828 | R23: =DATEDIF(Q23,$Q$3,"y")&" Tahun"&" "&DATEDIF(Q23,$Q$3,"ym")&" Bulan" -> 60 Tahun 9 Bulan | S23: Pria | T23: Islam
A24: 20 | B24: 110552 | C24: dr. Hartini, M.Kes. | D24: DT | E24: Asisten Ahli | F24: 01-03-2017 | G24: IIIC | H24: S2 | I24: Sudah | J24: 20104100701941 | K24: NIDN | L24: 0419026501 | N24: 9551743644230052 | O24: Fakultas Kedokteran | P24: Program Sarjana Pendidikan Dokter Fakultas Kedokteran | Q24: 23792 | R24: =DATEDIF(Q24,$Q$3,"y")&" Tahun"&" "&DATEDIF(Q24,$Q$3,"ym")&" Bulan" -> 60 Tahun 10 Bulan | S24: Wanita | T24: Kristen
A25: 21 | B25: 110561 | C25: dr. Vera, Sp.PD(K)., K-Ger. | D25: DT | E25: Lektor | F25: 01-11-2025 | G25: IIID | H25: Sp.2 | I25: Sudah | K25: NIDN | L25: 0425097605 | N25: 3257754655230113 | O25: Fakultas Kedokteran | P25: Program Pendidikan Profesi Dokter Fakultas Kedokteran | Q25: 28028 | R25: =DATEDIF(Q25,$Q$3,"y")&" Tahun"&" "&DATEDIF(Q25,$Q$3,"ym")&" Bulan" -> 49 Tahun 3 Bulan | S25: Wanita | T25: Kristen
A26: 22 | B26: 110598 | C26: dr. Harijadi Pramono, M.Kes. | D26: DT | E26: Asisten Ahli | F26: 01-02-2020 | G26: IIID | H26: S2 | I26: Belum | K26: NIDN | L26: 0407036201 | N26: 2639740641130092 | O26: Fakultas Kedokteran | P26: Program Sarjana Pendidikan Dokter Fakultas Kedokteran | Q26: 22712 | R26: =DATEDIF(Q26,$Q$3,"y")&" Tahun"&" "&DATEDIF(Q26,$Q$3,"ym")&" Bulan" -> 63 Tahun 9 Bulan | S26: Pria | T26: Katolik
A27: 23 | B27: 110621 | C27: dr. Dedeh Supantini, Sp.S., M.Pd.Ked. | D27: DT | E27: Lektor | F27: 01-01-2024 | G27: IVA | H27: S2 | I27: Sudah | J27: 12104100713749 | K27: NIDN | L27: 0406116501 | N27: 5438743644230063 | O27: Fakultas Kedokteran | P27: Program Pendidikan Profesi Dokter Fakultas Kedokteran | Q27: 24052 | R27: =DATEDIF(Q27,$Q$3,"y")&" Tahun"&" "&DATEDIF(Q27,$Q$3,"ym")&" Bulan" -> 60 Tahun 1 Bulan | S27: Wanita | T27: Katolik
A28: 24 | B28: 110626 | C28: dr. Adrian Suhendra, Sp.PK., M.Kes. | D28: DT | E28: Asisten Ahli | F28: 01-10-2016 | G28: IIID | H28: S2 | I28: Sudah | J28: 19104100706607 | K28: NIDN | L28: 0428117604 | N28: 3460754655130103 | O28: Fakultas Kedokteran | P28: Program Sarjana Pendidikan Dokter Fakultas Kedokteran | Q28: 28092 | R28: =DATEDIF(Q28,$Q$3,"y")&" Tahun"&" "&DATEDIF(Q28,$Q$3,"ym")&" Bulan" -> 49 Tahun 1 Bulan | S28: Pria | T28: Kristen
A29: 25 | B29: 110630 | C29: Dr. dr. Fen Tih, M.Kes. | D29: DT | E29: Lektor | F29: 01-05-2017 | G29: IIID | H29: S3 | I29: Sudah | J29: 12104100713971 | K29: NIDN | L29: 0424097604 | N29: 1256754655230113 | O29: Fakultas Kedokteran | P29: Program Sarjana Pendidikan Dokter Fakultas Kedokteran | Q29: 28027 | R29: =DATEDIF(Q29,$Q$3,"y")&" Tahun"&" "&DATEDIF(Q29,$Q$3,"ym")&" Bulan" -> 49 Tahun 3 Bulan | S29: Wanita | T29: Kristen
A30: 26 | B30: 110631 | C30: dr. Dian Puspitasari, Sp.KK. | D30: DT | E30: Lektor | F30: 01-11-2025 | G30: IVA | H30: Sp.1 | I30: Sudah | J30: 18104100709217 | K30: NIDN | L30: 0408086102 | N30: 8140739640230103 | O30: Fakultas Kedokteran | P30: Program Pendidikan Profesi Dokter Fakultas Kedokteran | Q30: 22501 | R30: =DATEDIF(Q30,$Q$3,"y")&" Tahun"&" "&DATEDIF(Q30,$Q$3,"ym")&" Bulan" -> 64 Tahun 4 Bulan | S30: Wanita | T30: Islam
A31: 27 | B31: 110634 | C31: dr.H. Edwin Setiabudi, Sp.PD., KKV. | D31: DT | E31: Asisten Ahli | F31: 01-07-2022 | G31: IVA | H31: Sp.2 | I31: Belum | K31: NIDN | L31: 0412026902 | N31: 3544747648130152 | O31: Fakultas Kedokteran | P31: Program Pendidikan Profesi Dokter Fakultas Kedokteran | Q31: 25246 | R31: =DATEDIF(Q31,$Q$3,"y")&" Tahun"&" "&DATEDIF(Q31,$Q$3,"ym")&" Bulan" -> 56 Tahun 10 Bulan | S31: Pria | T31: Islam
A32: 28 | B32: 110660 | C32: dr. Harry Tribowo Hadi, Sp.J. | D32: DT | E32: Asisten Ahli | F32: 01-06-2024 | G32: IIID | H32: Sp.1 | I32: Belum | K32: NIDN | L32: 0423026102 | N32: 0555739640130052 | O32: Fakultas Kedokteran | P32: Program Pendidikan Profesi Dokter Fakultas Kedokteran | Q32: 22335 | R32: =DATEDIF(Q32,$Q$3,"y")&" Tahun"&" "&DATEDIF(Q32,$Q$3,"ym")&" Bulan" -> 64 Tahun 10 Bulan | S32: Pria | T32: Kristen
A33: 29 | B33: 110746 | C33: Dr.dr. Aloysius Suryawan, Sp.OG.(K). | D33: DT | E33: Lektor | F33: 01-10-2022 | G33: IIID | H33: S3 | I33: Sudah | J33: 20104100701747 | K33: NIDN | L33: 0422066402 | N33: 6954742643130062 | O33: Fakultas Kedokteran | P33: Program Pendidikan Profesi Dokter Fakultas Kedokteran | Q33: 23550 | R33: =DATEDIF(Q33,$Q$3,"y")&" Tahun"&" "&DATEDIF(Q33,$Q$3,"ym")&" Bulan" -> 61 Tahun 6 Bulan | S33: Pria | T33: Katolik
A34: 30 | B34: 110748 | C34: dr. Frecillia Regina, Sp.A. | D34: DT | E34: Asisten Ahli | F34: 01-05-2022 | G34: IIIC | H34: Sp.1 | I34: Sudah | K34: NIDN | L34: 0413028002 | N34: 7555758659230122 | O34: Fakultas Kedokteran | P34: Program Pendidikan Profesi Dokter Fakultas Kedokteran | Q34: 29274 | R34: =DATEDIF(Q34,$Q$3,"y")&" Tahun"&" "&DATEDIF(Q34,$Q$3,"ym")&" Bulan" -> 45 Tahun 10 Bulan | S34: Wanita | T34: Kristen
A35: 31 | B35: 110749 | C35: Dr. dr. Yenni Limyati, S.Sn., M.Kes., Sp.KFR. | D35: DT | E35: Lektor | F35: 01-12-2020 | G35: IIID | H35: S3 | I35: Sudah | J35: 15104100709006 | K35: NIDN | L35: 0410067607 | N35: 3942754655230192 | O35: Fakultas Kedokteran | P35: Program Sarjana Pendidikan Dokter Fakultas Kedokteran | Q35: 27921 | R35: =DATEDIF(Q35,$Q$3,"y")&" Tahun"&" "&DATEDIF(Q35,$Q$3,"ym")&" Bulan" -> 49 Tahun 6 Bulan | S35: Wanita | T35: Kristen
A36: 32 | B36: 110832 | C36: dr. Kwee, Limdawati, Sp.PD. | D36: DT | E36: Asisten Ahli | F36: 01-11-2021 | G36: IIIB | H36: Sp.1 | I36: Belum | K36: NIDN | L36: 0423028002 | N36: 8555758659230122 | O36: Fakultas Kedokteran | P36: Program Pendidikan Profesi Dokter Fakultas Kedokteran | Q36: 29274 | R36: =DATEDIF(Q36,$Q$3,"y")&" Tahun"&" "&DATEDIF(Q36,$Q$3,"ym")&" Bulan" -> 45 Tahun 10 Bulan | S36: Wanita | T36: Kristen
A37: 33 | B37: 110835 | C37: dr. Dani, M.Kes. | D37: DT | E37: Asisten Ahli | F37: 01-05-2018 | G37: IIIC | H37: S2 | I37: Sudah | J37: 19104100701410 | K37: NIDN | L37: 0425067402 | N37: 0057752653130113 | O37: Fakultas Kedokteran | P37: Program Sarjana Pendidikan Dokter Fakultas Kedokteran | Q37: 27235 | R37: =DATEDIF(Q37,$Q$3,"y")&" Tahun"&" "&DATEDIF(Q37,$Q$3,"ym")&" Bulan" -> 51 Tahun 5 Bulan | S37: Pria | T37: Kristen
A38: 34 | B38: 110838 | C38: dr. Yenny Noor, Sp.M., M.M.R.S | D38: DT | E38: Asisten Ahli | F38: 01-06-2024 | G38: IIIC | H38: S2 | I38: Belum | K38: NIDN | L38: 0412057006 | N38: 7844748649230162 | O38: Fakultas Kedokteran | P38: Program Pendidikan Profesi Dokter Fakultas Kedokteran | Q38: 25700 | R38: =DATEDIF(Q38,$Q$3,"y")&" Tahun"&" "&DATEDIF(Q38,$Q$3,"ym")&" Bulan" -> 55 Tahun 7 Bulan | S38: Wanita | T38: Katolik
A39: 35 | B39: 110844 | C39: Dr. dr. Rita Tjokropranoto, M.Sc. | D39: DT | E39: Lektor | F39: 01-08-2012 | G39: IIIC | H39: S3 | I39: Sudah | J39: 12104100714675 | K39: NIDN | L39: 0413056904 | N39: 0845747648230102 | O39: Fakultas Kedokteran | P39: Program Sarjana Pendidikan Dokter Fakultas Kedokteran | Q39: 25336 | R39: =DATEDIF(Q39,$Q$3,"y")&" Tahun"&" "&DATEDIF(Q39,$Q$3,"ym")&" Bulan" -> 56 Tahun 7 Bulan | S39: Wanita | T39: Katolik
A40: 36 | B40: 110874 | C40: dr. Sylvia, Sp.S. | D40: DT | E40: Asisten Ahli | F40: 01-06-2024 | G40: IIIB | H40: Sp.1 | I40: Belum | K40: NIDN | L40: 0409117101 | N40: 7441749650230123 | O40: Fakultas Kedokteran | P40: Program Pendidikan Profesi Dokter Fakultas Kedokteran | Q40: 26246 | R40: =DATEDIF(Q40,$Q$3,"y")&" Tahun"&" "&DATEDIF(Q40,$Q$3,"ym")&" Bulan" -> 54 Tahun 1 Bulan | S40: Wanita | T40: Katolik
...

Sheet Tendik
A1: Data Tenaga Kependidikan Universitas Kristen Maranatha
A2: data DSDI s.d. 1 Januari 2026
J3: 46023
A4: No. | B4: NIK | C4: Nama Pegawai | D4: Status | E4: Fakultas/Prog Studi/Unit Kerja | G4: Pend. Akhir | H4: Golongan | I4: Tgl. Lahir | J4: Usia s.d. 1 Januari 2026 | K4: Gender | L4: Agama | M4: Keterangan
A5: 1 | B5: 810010 | C5: Buddy Supriadi | D5: TAT | E5: Badan Pelayanan Kerohanian | F5: Badan Pelayanan Kerohanian | G5: SMA | H5: IIIA | I5: 24143 | J5: =DATEDIF(I5,$J$3,"y")&" Tahun"&" "&DATEDIF(I5,$J$3,"ym")&" Bulan" -> 59 Tahun 10 Bulan | K5: Pria | L5: Kristen
A6: 2 | B6: 810014 | C6: Chrisna Indiyarini, S.E. | D6: TAT | E6: Badan Pelayanan Kerohanian | F6: Badan Pelayanan Kerohanian | G6: S1 | H6: IIIB | I6: 24548 | J6: =DATEDIF(I6,$J$3,"y")&" Tahun"&" "&DATEDIF(I6,$J$3,"ym")&" Bulan" -> 58 Tahun 9 Bulan | K6: Wanita | L6: Kristen
A7: 3 | B7: 810038 | C7: Samuel Jabarto | D7: TAT | E7: Fakultas Kedokteran | F7: Fakultas Kedokteran | G7: SMA | H7: IIIA | I7: 24201 | J7: =DATEDIF(I7,$J$3,"y")&" Tahun"&" "&DATEDIF(I7,$J$3,"ym")&" Bulan" -> 59 Tahun 8 Bulan | K7: Pria | L7: Kristen
A8: 4 | B8: 810039 | C8: Eddy Junaedi | D8: TAT | E8: Fakultas Kedokteran | F8: Fakultas Kedokteran | G8: SMA | H8: IIIA | I8: 24295 | J8: =DATEDIF(I8,$J$3,"y")&" Tahun"&" "&DATEDIF(I8,$J$3,"ym")&" Bulan" -> 59 Tahun 5 Bulan | K8: Pria | L8: Kristen
A9: 5 | B9: 810047 | C9: Jumali | D9: TAT | E9: Fakultas Teknologi dan Rekayasa Cerdas | F9: Fakultas Teknologi dan Rekayasa Cerdas | G9: SMA | H9: IIIA | I9: 24393 | J9: =DATEDIF(I9,$J$3,"y")&" Tahun"&" "&DATEDIF(I9,$J$3,"ym")&" Bulan" -> 59 Tahun 2 Bulan | K9: Pria | L9: Kristen
A10: 6 | B10: 810050 | C10: Adi Kurniawan Pai, S.Sos. | D10: TAT | E10: Direktorat Sarana dan Prasarana | F10: Direktorat Sarana dan Prasarana | G10: S1 | H10: IIID | I10: 25286 | J10: =DATEDIF(I10,$J$3,"y")&" Tahun"&" "&DATEDIF(I10,$J$3,"ym")&" Bulan" -> 56 Tahun 9 Bulan | K10: Pria | L10: Kristen
A11: 7 | B11: 810058 | C11: Anyta Kustiani, S.E. | D11: TAT | E11: Fakultas Humaniora dan Industri Kreatif | F11: Fakultas Humaniora dan Industri Kreatif | G11: S1 | H11: IIIC | I11: 25058 | J11: =DATEDIF(I11,$J$3,"y")&" Tahun"&" "&DATEDIF(I11,$J$3,"ym")&" Bulan" -> 57 Tahun 4 Bulan | K11: Wanita | L11: Kristen
A12: 8 | B12: 810075 | C12: Budi Tresna Satia Sujatna | D12: TAT | E12: Fakultas Hukum dan Bisnis Digital | F12: Fakultas Hukum dan Bisnis Digital | G12: SMA | H12: IIIA | I12: 25176 | J12: =DATEDIF(I12,$J$3,"y")&" Tahun"&" "&DATEDIF(I12,$J$3,"ym")&" Bulan" -> 57 Tahun 0 Bulan | K12: Pria | L12: Kristen
A13: 9 | B13: 810085 | C13: Suyitno | D13: TAT | E13: Direktorat Kemitraan | F13: Direktorat Kemitraan | G13: SMA | H13: IIIA | I13: 24740 | J13: =DATEDIF(I13,$J$3,"y")&" Tahun"&" "&DATEDIF(I13,$J$3,"ym")&" Bulan" -> 58 Tahun 3 Bulan | K13: Pria | L13: Kristen
A14: 10 | B14: 810088 | C14: Dedeh Rostini | D14: TAT | E14: Direktorat Pemasaran dan Admisi | F14: Direktorat Pemasaran dan Admisi | G14: SMA | H14: IIIA | I14: 24780 | J14: =DATEDIF(I14,$J$3,"y")&" Tahun"&" "&DATEDIF(I14,$J$3,"ym")&" Bulan" -> 58 Tahun 1 Bulan | K14: Wanita | L14: Kristen
A15: 11 | B15: 810090 | C15: Rizka Meidya Nardi | D15: TAT | E15: Fakultas Kedokteran | F15: Fakultas Kedokteran | G15: SMA | H15: IIIA | I15: 25342 | J15: =DATEDIF(I15,$J$3,"y")&" Tahun"&" "&DATEDIF(I15,$J$3,"ym")&" Bulan" -> 56 Tahun 7 Bulan | K15: Pria | L15: Islam
A16: 12 | B16: 810095 | C16: Widayani, S.E. | D16: TAT | E16: Fakultas Humaniora dan Industri Kreatif | F16: Fakultas Humaniora dan Industri Kreatif | G16: S1 | H16: IIID | I16: 25487 | J16: =DATEDIF(I16,$J$3,"y")&" Tahun"&" "&DATEDIF(I16,$J$3,"ym")&" Bulan" -> 56 Tahun 2 Bulan | K16: Wanita | L16: Islam
... A321: 317 | B321: 98000058 | C321: Hesti Famella Ahsani Nissa | D321: PKWT | E321: Fakultas Kedokteran | F321: Fakultas Kedokteran | G321: SMA | H321: IIA | I321: 36899 | J321: =DATEDIF(I321,$J$3,"y")&" Tahun"&" "&DATEDIF(I321,$J$3,"ym")&" Bulan" -> 24 Tahun 11 Bulan | K321: Wanita | L321: Islam

Sheet Rekap Jumlah Dosen
A1: Data Jumlah Dosen Berdasarkan Status Kepegawaian
A2: data DSDI s.d. 1 Januari 2026
A3: Fakultas/Program Studi | B3: JUMLAH MAHASISWA AKTIF* | C3: JANUARI | Z3: JUMLAH MAHASISWA AKTIF* | AA3: FEBRUARI | AX3: JUMLAH MAHASISWA AKTIF* | AY3: MARET | BV3: JUMLAH MAHASISWA AKTIF* | BW3: APRIL | CU3: JUMLAH MAHASISWA AKTIF | CV3: MEI | DT3: JUMLAH MAHASISWA AKTIF* | DU3: JUNI | ES3: JUMLAH MAHASISWA AKTIF | ET3: JULI | FR3: JUMLAH MAHASISWA AKTIF | FS3: AGUSTUS | GQ3: JUMLAH MAHASISWA AKTIF* | GR3: SEPTEMBER | HP3: JUMLAH MAHASISWA AKTIF* | HQ3: OKTOBER | IO3: JUMLAH MAHASISWA AKTIF* | IP3: November | JN3: JUMLAH MAHASISWA AKTIF* | JO3: Desember | KM3: JUMLAH MAHASISWA AKTIF* | KN3: Januari
C4: STATUS DOSEN | K4: JJA | P4: SERDOS | R4: Pendidikan Terakhir | W4: Status Registrasi PDDikti | AA4: STATUS DOSEN | AI4: JJA | AN4: SERDOS | AP4: Pendidikan Terakhir | AU4: Status Registrasi PDDikti | AY4: STATUS DOSEN | BG4: JJA | BL4: SERDOS | BN4: Pendidikan Terakhir | BS4: Status Registrasi PDDikti | BW4: STATUS DOSEN | CE4: JJA | CJ4: SERDOS | CL4: Pendidikan Terakhir | CP4: Status Registrasi PDDikti | CV4: STATUS DOSEN | DD4: JJA | DI4: SERDOS | DK4: Pendidikan Terakhir | DP4: Status Registrasi PDDikti | DU4: STATUS DOSEN | EC4: JJA | EH4: SERDOS | EJ4: Pendidikan Terakhir | EO4: Status Registrasi PDDikti | ET4: STATUS DOSEN | FB4: JJA | FG4: SERDOS | FI4: Pendidikan Terakhir | FN4: Status Registrasi PDDikti | FS4: STATUS DOSEN | GA4: JJA | GF4: SERDOS | GH4: Pendidikan Terakhir | GM4: Status Registrasi PDDikti | GR4: STATUS DOSEN | GZ4: JJA | HE4: SERDOS | HG4: Pendidikan Terakhir | HL4: Status Registrasi PDDikti | HQ4: STATUS DOSEN | HY4: JJA | ID4: SERDOS | IF4: Pendidikan Terakhir | IK4: Status Registrasi PDDikti | IP4: STATUS DOSEN | IX4: JJA | JC4: SERDOS | JE4: Pendidikan Terakhir | JJ4: Status Registrasi PDDikti | JO4: STATUS DOSEN | JW4: JJA | KB4: SERDOS | KD4: Pendidikan Terakhir | KI4: Status Registrasi PDDikti | KN4: STATUS DOSEN | KV4: JJA | LA4: SERDOS | LC4: Pendidikan Terakhir | LH4: Status Registrasi PDDikti
C5: DT | D5: CDTP | E5: CDTSL | F5: KOPERTIS | G5: DBK | H5: DPK | I5: DLBK/ DLBK ASING | J5: TOTAL DOSEN | K5: BELUM | L5: AA | M5: L | N5: LK | O5: GB | P5: BELUM | Q5: SUDAH | R5: S3 | S5: S2 | T5: S1 | U5: Sp.2 | V5: Sp.1 | W5: NIDN | X5: NIDK | Y5: BELUM | AA5: DT | AB5: CDTP | AC5: CDTSL | AD5: KOPERTIS | AE5: DBK | AF5: DPK | AG5: DLBK/ DLBK ASING | AH5: TOTAL DOSEN | AI5: BELUM | AJ5: AA | AK5: L | AL5: LK | AM5: GB | AN5: BELUM | AO5: SUDAH | AP5: S3 | AQ5: S2 | AR5: S1 | AS5: Sp.2 | AT5: Sp.1 | AU5: NIDN | AV5: NIDK | AW5: BELUM | AY5: DT | AZ5: CDTP | BA5: CDTSL | BB5: KOPERTIS | BC5: DBK | BD5: DPK | BE5: DLBK/ DLBK ASING | BF5: TOTAL DOSEN | BG5: BELUM | BH5: AA | BI5: L | BJ5: LK | BK5: GB | BL5: BELUM | BM5: SUDAH | BN5: S3 | BO5: S2 | BP5: S1 | BQ5: Sp.2 | BR5: Sp.1 | BS5: NIDN | BT5: NIDK | BU5: BELUM | BW5: DT | BX5: CDTP | BY5: CDTSL | BZ5: KOPERTIS | CA5: DBK | CB5: DPK | CC5: DLBK/ DLBK ASING | CD5: TOTAL DOSEN | CE5: BELUM | CF5: AA | CG5: L | CH5: LK | CI5: GB | CJ5: BELUM | CK5: SUDAH | CL5: S3 | CM5: S2 | CN5: S1 | CO5: Sp.2 | CP5: Sp.1 | CQ5: NIDN | CR5: NIDK | CS5: BELUM | CT5: NUPTK | CV5: DT | CW5: CDTP | CX5: CDTSL | CY5: KOPERTIS | CZ5: DBK | DA5: DPK | DB5: DLBK/ DLBK ASING | DC5: TOTAL DOSEN | DD5: BELUM | DE5: AA | DF5: L | DG5: LK | DH5: GB | DI5: BELUM | DJ5: SUDAH | DK5: S3 | DL5: S2 | DM5: S1 | DN5: Sp.2 | DO5: Sp.1 | DP5: NIDN | DQ5: NIDK | DR5: BELUM | DS5: NUPTK | DU5: DT | DV5: CDTP | DW5: CDTSL | DX5: KOPERTIS | DY5: DBK | DZ5: DPK | EA5: DLBK/ DLBK ASING | EB5: TOTAL DOSEN | EC5: BELUM | ED5: AA | EE5: L | EF5: LK | EG5: GB | EH5: BELUM | EI5: SUDAH | EJ5: S3 | EK5: S2 | EL5: S1 | EM5: Sp.2 | EN5: Sp.1 | EO5: NIDN | EP5: NIDK | EQ5: BELUM | ER5: NUPTK | ET5: DT | EU5: CDTP | EV5: CDTSL | EW5: KOPERTIS | EX5: DBK | EY5: DPK | EZ5: DLBK/ DLBK ASING | FA5: TOTAL DOSEN | FB5: BELUM | FC5: AA | FD5: L | FE5: LK | FF5: GB | FG5: BELUM | FH5: SUDAH | FI5: S3 | FJ5: S2 | FK5: S1 | FL5: Sp.2 | FM5: Sp.1 | FN5: NIDN | FO5: NIDK | FP5: BELUM | FQ5: NUPTK | FS5: DT | FT5: CDTP | FU5: CDTSL | FV5: KOPERTIS | FW5: DBK | FX5: DPK | FY5: DLBK/ DLBK ASING | FZ5: TOTAL DOSEN | GA5: BELUM | GB5: AA | GC5: L | GD5: LK | GE5: GB | GF5: BELUM | GG5: SUDAH | GH5: S3 | GI5: S2 | GJ5: S1 | GK5: Sp.2 | GL5: Sp.1 | GM5: NIDN | GN5: NIDK | GO5: BELUM | GP5: NUPTK | GR5: DT | GS5: CDTP | GT5: CDTSL | GU5: KOPERTIS | GV5: DBK | GW5: DPK | GX5: DLBK/ DLBK ASING | GY5: TOTAL DOSEN | GZ5: BELUM | HA5: AA | HB5: L | HC5: LK | HD5: GB | HE5: BELUM | HF5: SUDAH | HG5: S3 | HH5: S2 | HI5: S1 | HJ5: Sp.2 | HK5: Sp.1 | HL5: NIDN | HM5: NIDK | HN5: BELUM | HO5: NUPTK | HQ5: DT | HR5: CDTP | HS5: CDTSL | HT5: KOPERTIS | HU5: DBK | HV5: DPK | HW5: DLBK/ DLBK ASING | HX5: TOTAL DOSEN | HY5: BELUM | HZ5: AA | IA5: L | IB5: LK | IC5: GB | ID5: BELUM | IE5: SUDAH | IF5: S3 | IG5: S2 | IH5: S1 | II5: Sp.2 | IJ5: Sp.1 | IK5: NIDN | IL5: NIDK | IM5: BELUM | IN5: NUPTK | IP5: DT | IQ5: CDTP | IR5: CDTSL | IS5: KOPERTIS | IT5: DBK | IU5: DPK | IV5: DLBK/ DLBK ASING | IW5: TOTAL DOSEN | IX5: BELUM | IY5: AA | IZ5: L | JA5: LK | JB5: GB | JC5: BELUM | JD5: SUDAH | JE5: S3 | JF5: S2 | JG5: S1 | JH5: Sp.2 | JI5: Sp.1 | JJ5: NIDN | JK5: NIDK | JL5: BELUM | JM5: NUPTK | JO5: DT | JP5: CDTP | JQ5: CDTSL | JR5: KOPERTIS | JS5: DBK | JT5: DPK | JU5: DLBK/ DLBK ASING | JV5: TOTAL DOSEN | JW5: BELUM | JX5: AA | JY5: L | JZ5: LK | KA5: GB | KB5: BELUM | KC5: SUDAH | KD5: S3 | KE5: S2 | KF5: S1 | KG5: Sp.2 | KH5: Sp.1 | KI5: NIDN | KJ5: NIDK | KK5: BELUM | KL5: NUPTK | KN5: DT | KO5: CDTP | KP5: CDTSL | KQ5: KOPERTIS | KR5: DBK | KS5: DPK | KT5: DLBK/ DLBK ASING | KU5: TOTAL DOSEN | KV5: BELUM | KW5: AA | KX5: L | KY5: LK | KZ5: GB | LA5: BELUM | LB5: SUDAH | LC5: S3 | LD5: S2 | LE5: S1 | LF5: Sp.2 | LG5: Sp.1 | LH5: NIDN | LI5: NIDK | LJ5: BELUM | LK5: NUPTK
A6: Program Sarjana Pendidikan Dokter Fakultas Kedokteran | B6: 1046 | C6: 42 | D6: 0 | E6: 6 | F6: 0 | G6: 0 | H6: 3 | I6: 0 | J6: 51 | K6: 7 | L6: 28 | M6: 13 | N6: 0 | O6: 3 | P6: 21 | Q6: 30 | R6: 10 | S6: 34 | T6: 5 | U6: 0 | V6: 2 | W6: 41 | X6: 2 | Y6: 8 | Z6: 1046 | AA6: 42 | AB6: 0 | AC6: 6 | AD6: 0 | AE6: 0 | AF6: 3 | AG6: 0 | AH6: 51 | AI6: 7 | AJ6: 27 | AK6: 14 | AL6: 0 | AM6: 3 | AN6: 21 | AO6: 30 | AP6: 10 | AQ6: 34 | AR6: 5 | AS6: 0 | AT6: 2 | AU6: 41 | AV6: 2 | AW6: 8 | AX6: 1046 | AY6: 42 | AZ6: 0 | BA6: 6 | BB6: 0 | BC6: 0 | BD6: 3 | BE6: 0 | BF6: 51 | BG6: 7 | BH6: 27 | BI6: 14 | BJ6: 0 | BK6: 3 | BL6: 21 | BM6: 30 | BN6: 10 | BO6: 34 | BP6: 5 | BQ6: 0 | BR6: 2 | BS6: 41 | BT6: 3 | BU6: 7 | BV6: 1046 | BW6: 42 | BX6: 0 | BY6: 6 | BZ6: 0 | CA6: 0 | CB6: 3 | CC6: 0 | CD6: 51 | CE6: 7 | CF6: 27 | CG6: 14 | CH6: 0 | CI6: 3 | CJ6: 21 | CK6: 30 | CL6: 11 | CM6: 33 | CN6: 5 | CO6: 0 | CP6: 2 | CQ6: 41 | CR6: 3 | CS6: 7 | CT6: 0 | CU6: 1046 | CV6: 39 | CW6: 0 | CX6: 6 | CY6: 0 | CZ6: 0 | DA6: 3 | DB6: 0 | DC6: 48 | DD6: 7 | DE6: 25 | DF6: 13 | DG6: 1 | DH6: 2 | DI6: 19 | DJ6: 29 | DK6: 9 | DL6: 32 | DM6: 5 | DN6: 0 | DO6: 2 | DP6: 38 | DQ6: 3 | DR6: 7 | DS6: 0 | DT6: 929 | DU6: =COUNTIFS(Dosen!$P$4:$P$469,A6,Dosen!$D$4:$D$469,"DT") -> 39 | DV6: =COUNTIFS(Dosen!$P$4:$P$469,A6,Dosen!$D$4:$D$469,"CDTP") -> 0 | DW6: =COUNTIFS(Dosen!$P$4:$P$469,A6,Dosen!$D$4:$D$469,"CDTSL") -> 3 | DX6: =COUNTIFS(Dosen!$P$4:$P$469,A6,Dosen!$D$4:$D$469,"dosen kopertis") -> 0 | DY6: =COUNTIFS(Dosen!$P$4:$P$469,A6,Dosen!$D$4:$D$469,"DBK") -> 0 | DZ6: =COUNTIFS(Dosen!$P$4:$P$469,A6,Dosen!$D$4:$D$469,"DPK") -> 11 | EA6: =COUNTIFS(Dosen!$P$4:$P$469,A6,Dosen!$D$4:$D$469,"DLBK") -> 0 | EB6: =SUM(DU6:EA6) -> 53 | EC6: =COUNTIFS(Dosen!$P$4:$P$469,A6,Dosen!$E$4:$E$469,"Belum") -> 14 | ED6: =COUNTIFS(Dosen!$P$4:$P$469,$A6,Dosen!$E$4:$E$469,"Asisten Ahli") -> 18 | EE6: =COUNTIFS(Dosen!$P$4:$P$469,$A6,Dosen!$E$4:$E$469,"Lektor") -> 17 | EF6: =COUNTIFS(Dosen!$P$4:$P$469,$A6,Dosen!$E$4:$E$469,"Lektor Kepala") -> 3 | EG6: =COUNTIFS(Dosen!$P$4:$P$469,$A6,Dosen!$E$4:$E$469,"Guru Besar") -> 1 | EH6: =COUNTIFS(Dosen!$P$5:$P$449,A6,Dosen!$I$5:$I$449,"Belum") -> 23 | EI6: =COUNTIFS(Dosen!$P$5:$P$449,A6,Dosen!$I$5:$I$449,"SUDAH") -> 30 | EJ6: =COUNTIFS(Dosen!$P$4:$P$449,A6,Dosen!$H$4:$H$449,"s3") -> 9 | EK6: =COUNTIFS(Dosen!$P$4:$P$449,A6,Dosen!$H$4:$H$449,"s2") -> 35 | EL6: =COUNTIFS(Dosen!$P$4:$P$449,A6,Dosen!$H$4:$H$449,"s1") -> 7 | EM6: =COUNTIFS(Dosen!$P$4:$P$449,A6,Dosen!$H$4:$H$449,"sp.2") -> 0 | EN6: =COUNTIFS(Dosen!$P$4:$P$449,A6,Dosen!$H$4:$H$449,"sp.1") -> 2 | EO6: =COUNTIFS(Dosen!$P$4:$P$449,A6,Dosen!$K$4:$K$449,"NIDN") -> 37 | EP6: =COUNTIFS(Dosen!$P$4:$P$449,A6,Dosen!$K$4:$K$449,"NIDk") -> 2 | EQ6: =COUNTIFS(Dosen!$P$4:$P$449,A6,Dosen!$K$4:$K$449,"belum") -> 14 | ER6: =COUNTIFS(Dosen!$P$4:$P$449,A6,Dosen!$K$4:$K$449,"NUPTK") -> 0 | ES6: 929 | ET6: =COUNTIFS(Dosen!$P$4:$P$469,A6,Dosen!$D$4:$D$469,"DT") -> 39 | EU6: =COUNTIFS(Dosen!$P$4:$P$469,A6,Dosen!$D$4:$D$469,"CDTP") -> 0 | EV6: =COUNTIFS(Dosen!$P$4:$P$469,A6,Dosen!$D$4:$D$469,"CDTSL") -> 3 | EW6: =COUNTIFS(Dosen!$P$4:$P$469,A6,Dosen!$D$4:$D$469,"dosen kopertis") -> 0 | EX6: =COUNTIFS(Dosen!$P$4:$P$469,A6,Dosen!$D$4:$D$469,"DBK") -> 0 | EY6: =COUNTIFS(Dosen!$P$4:$P$469,A6,Dosen!$D$4:$D$469,"DPK") -> 11 | EZ6: =COUNTIFS(Dosen!$P$4:$P$469,A6,Dosen!$D$4:$D$469,"DLBK") -> 0 | FA6: =SUM(ET6:EZ6) -> 53 | FB6: =COUNTIFS(Dosen!$P$4:$P$469,A6,Dosen!$E$4:$E$469,"Belum") -> 14 | FC6: =COUNTIFS(Dosen!$P$4:$P$469,$A6,Dosen!$E$4:$E$469,"Asisten Ahli") -> 18 | FD6: =COUNTIFS(Dosen!$P$4:$P$469,$A6,Dosen!$E$4:$E$469,"Lektor") -> 17 | FE6: =COUNTIFS(Dosen!$P$4:$P$469,$A6,Dosen!$E$4:$E$469,"Lektor Kepala") -> 3 | FF6: =COUNTIFS(Dosen!$P$4:$P$469,$A6,Dosen!$E$4:$E$469,"Guru Besar") -> 1 | FG6: =COUNTIFS(Dosen!$P$5:$P$449,$A6,Dosen!$I$5:$I$449,"Belum") -> 23 | FH6: =COUNTIFS(Dosen!$P$5:$P$449,A6,Dosen!$I$5:$I$449,"SUDAH") -> 30 | FI6: =COUNTIFS(Dosen!$P$4:$P$449,A6,Dosen!$H$4:$H$449,"s3") -> 9 | FJ6: =COUNTIFS(Dosen!$P$4:$P$449,A6,Dosen!$H$4:$H$449,"s2") -> 35 | FK6: =COUNTIFS(Dosen!$P$4:$P$449,A6,Dosen!$H$4:$H$449,"s1") -> 7 | FL6: =COUNTIFS(Dosen!$P$4:$P$449,A6,Dosen!$H$4:$H$449,"sp.2") -> 0 | FM6: =COUNTIFS(Dosen!$P$4:$P$449,A6,Dosen!$H$4:$H$449,"sp.1") -> 2 | FN6: =COUNTIFS(Dosen!$P$4:$P$449,A6,Dosen!$K$4:$K$449,"NIDN") -> 37 | FO6: =COUNTIFS(Dosen!$P$4:$P$449,A6,Dosen!$K$4:$K$449,"NIDk") -> 2 | FP6: =COUNTIFS(Dosen!$P$4:$P$449,A6,Dosen!$K$4:$K$449,"belum") -> 14 | FQ6: =COUNTIFS(Dosen!$P$4:$P$449,A6,Dosen!$K$4:$K$449,"NUPTK") -> 0 | FR6: 929 | FS6: =COUNTIFS(Dosen!$P$4:$P$469,$A6,Dosen!$D$4:$D$469,"DT") -> 39 | FT6: =COUNTIFS(Dosen!$P$4:$P$469,$A6,Dosen!$D$4:$D$469,"CDTP") -> 0 | FU6: =COUNTIFS(Dosen!$P$4:$P$469,$A6,Dosen!$D$4:$D$469,"CDTSL") -> 3 | FV6: =COUNTIFS(Dosen!$P$4:$P$469,$A6,Dosen!$D$4:$D$469,"dosen kopertis") -> 0 | FW6: =COUNTIFS(Dosen!$P$4:$P$469,$A6,Dosen!$D$4:$D$469,"DBK") -> 0 | FX6: =COUNTIFS(Dosen!$P$4:$P$469,$A6,Dosen!$D$4:$D$469,"DPK") -> 11 | FY6: =COUNTIFS(Dosen!$P$4:$P$469,$A6,Dosen!$D$4:$D$469,"DLBK") -> 0 | FZ6: =SUM(FS6:FY6) -> 53 | GA6: =COUNTIFS(Dosen!$P$4:$P$469,$A6,Dosen!$E$4:$E$469,"Belum") -> 14 | GB6: =COUNTIFS(Dosen!$P$4:$P$469,$A6,Dosen!$E$4:$E$469,"Asisten Ahli") -> 18 | GC6: =COUNTIFS(Dosen!$P$4:$P$469,$A6,Dosen!$E$4:$E$469,"Lektor") -> 17 | GD6: =COUNTIFS(Dosen!$P$4:$P$469,$A6,Dosen!$E$4:$E$469,"Lektor Kepala") -> 3 | GE6: =COUNTIFS(Dosen!$P$4:$P$469,$A6,Dosen!$E$4:$E$469,"Guru Besar") -> 1 | GF6: =COUNTIFS(Dosen!$P$5:$P$449,$A6,Dosen!$I$5:$I$449,"Belum") -> 23 | GG6: =COUNTIFS(Dosen!$P$5:$P$449,$A6,Dosen!$I$5:$I$449,"SUDAH") -> 30 | GH6: =COUNTIFS(Dosen!$P$4:$P$449,$A6,Dosen!$H$4:$H$449,"s3") -> 9 | GI6: =COUNTIFS(Dosen!$P$4:$P$449,$A6,Dosen!$H$4:$H$449,"s2") -> 35 | GJ6: =COUNTIFS(Dosen!$P$4:$P$449,$A6,Dosen!$H$4:$H$449,"s1") -> 7 | GK6: =COUNTIFS(Dosen!$P$4:$P$449,$A6,Dosen!$H$4:$H$449,"sp.2") -> 0 | GL6: =COUNTIFS(Dosen!$P$4:$P$449,$A6,Dosen!$H$4:$H$449,"sp.1") -> 2 | GM6: =COUNTIFS(Dosen!$P$4:$P$449,$A6,Dosen!$K$4:$K$449,"NIDN") -> 37 | GN6: =COUNTIFS(Dosen!$P$4:$P$449,$A6,Dosen!$K$4:$K$449,"NIDk") -> 2 | GO6: =COUNTIFS(Dosen!$P$4:$P$449,$A6,Dosen!$K$4:$K$449,"belum") -> 14 | GP6: =COUNTIFS(Dosen!$P$4:$P$449,$A6,Dosen!$K$4:$K$449,"NUPTK") -> 0 | GQ6: 929 | GR6: 40 | GS6: 0 | GT6: 5 | GU6: 0 | GV6: 0 | GW6: 3 | GX6: 0 | GY6: 48 | GZ6: 7 | HA6: 24 | HB6: 13 | HC6: 2 | HD6: 2 | HE6: 19 | HF6: 29 | HG6: 9 | HH6: 31 | HI6: 5 | HJ6: 0 | HK6: 2 | HL6: 38 | HM6: 3 | HN6: 7 | HO6: 0 | HP6: 929 | HQ6: 39 | HR6: 0 | HS6: 5 | HT6: 0 | HU6: 0 | HV6: 5 | HW6: 0 | HX6: 49 | HY6: 8 | HZ6: 23 | IA6: 14 | IB6: 2 | IC6: 2 | ID6: 21 | IE6: 28 | IF6: 9 | IG6: 32 | IH6: 6 | II6: 0 | IJ6: 2 | IK6: 37 | IL6: 3 | IM6: 9 | IN6: 0 | IO6: 929 | IP6: 39 | IQ6: 0 | IR6: 5 | IS6: 0 | IT6: 0 | IU6: 9 | IV6: 0 | IW6: 53 | IX6: 13 | IY6: 18 | IZ6: 19 | JA6: 1 | JB6: 2 | JC6: 25 | JD6: 28 | JE6: 9 | JF6: 34 | JG6: 8 | JH6: 0 | JI6: 2 | JJ6: 37 | JK6: 3 | JL6: 13 | JM6: 0 | JN6: 929 | JO6: 39 | JP6: 0 | JQ6: 3 | JR6: 0 | JS6: 0 | JT6: 11 | JU6: 0 | JV6: 53 | JW6: 14 | JX6: 18 | JY6: 18 | JZ6: 2 | KA6: 1 | KB6: 23 | KC6: 30 | KD6: 8 | KE6: 35 | KF6: 7 | KG6: 0 | KH6: 3 | KI6: 37 | KJ6: 2 | KK6: 14 | KL6: 0 | KM6: 1008 | KN6: =COUNTIFS(Dosen!$P$4:$P$469,$A6,Dosen!$D$4:$D$469,"DT") -> 39 | KO6: =COUNTIFS(Dosen!$P$4:$P$469,$A6,Dosen!$D$4:$D$469,"CDTP") -> 0 | KP6: =COUNTIFS(Dosen!$P$4:$P$469,$A6,Dosen!$D$4:$D$469,"CDTSL") -> 3 | KQ6: =COUNTIFS(Dosen!$P$4:$P$469,$A6,Dosen!$D$4:$D$469,"dosen kopertis") -> 0 | KR6: =COUNTIFS(Dosen!$P$4:$P$469,$A6,Dosen!$D$4:$D$469,"DBK") -> 0 | KS6: =COUNTIFS(Dosen!$P$4:$P$469,$A6,Dosen!$D$4:$D$469,"DPK") -> 11 | KT6: =COUNTIFS(Dosen!$P$4:$P$469,$A6,Dosen!$D$4:$D$469,"DLBK") -> 0 | KU6: =SUM(KN6:KT6) -> 53 | KV6: =COUNTIFS(Dosen!$P$4:$P$469,$A6,Dosen!$E$4:$E$469,"Belum") -> 14 | KW6: =COUNTIFS(Dosen!$P$4:$P$469,$A6,Dosen!$E$4:$E$469,"Asisten Ahli") -> 18 | KX6: =COUNTIFS(Dosen!$P$4:$P$469,$A6,Dosen!$E$4:$E$469,"Lektor") -> 17 | KY6: =COUNTIFS(Dosen!$P$4:$P$469,$A6,Dosen!$E$4:$E$469,"Lektor Kepala") -> 3 | KZ6: =COUNTIFS(Dosen!$P$4:$P$469,$A6,Dosen!$E$4:$E$469,"Guru Besar") -> 1 | LA6: =COUNTIFS(Dosen!$P$5:$P$495,$A6,Dosen!$I$5:$I$495,"Belum") -> 23 | LB6: =COUNTIFS(Dosen!$P$5:$P$495,$A6,Dosen!$I$5:$I$495,"SUDAH") -> 30 | LC6: =COUNTIFS(Dosen!$P$4:$P$495,$A6,Dosen!$H$4:$H$495,"s3") -> 9 | LD6: =COUNTIFS(Dosen!$P$4:$P$495,$A6,Dosen!$H$4:$H$495,"s2") -> 35 | LE6: =COUNTIFS(Dosen!$P$4:$P$495,$A6,Dosen!$H$4:$H$495,"s1") -> 7 | LF6: =COUNTIFS(Dosen!$P$4:$P$495,$A6,Dosen!$H$4:$H$495,"sp.2") -> 0 | LG6: =COUNTIFS(Dosen!$P$4:$P$495,$A6,Dosen!$H$4:$H$495,"sp.1") -> 2 | LH6: =COUNTIFS(Dosen!$P$4:$P$495,$A6,Dosen!$K$4:$K$495,"NIDN") -> 37 | LI6: =COUNTIFS(Dosen!$P$4:$P$495,$A6,Dosen!$K$4:$K$495,"NIDk") -> 2 | LJ6: =COUNTIFS(Dosen!$P$4:$P$495,$A6,Dosen!$K$4:$K$495,"belum") -> 14 | LK6: =COUNTIFS(Dosen!$P$4:$P$495,$A6,Dosen!$K$4:$K$495,"NUPTK") -> 0
A7: Program Pendidikan Profesi Dokter Fakultas Kedokteran | B7: 351 | C7: 32 | D7: 3 | E7: 0 | F7: 0 | G7: 0 | H7: 25 | I7: 0 | J7: 60 | K7: 21 | L7: 35 | M7: 3 | N7: 1 | O7: 0 | P7: 54 | Q7: 6 | R7: 4 | S7: 14 | T7: 0 | U7: 6 | V7: 36 | W7: 24 | X7: 19 | Y7: 17 | Z7: 351 | AA7: 32 | AB7: 4 | AC7: 0 | AD7: 0 | AE7: 0 | AF7: 25 | AG7: 0 | AH7: 61 | AI7: 22 | AJ7: 35 | AK7: 3 | AL7: 1 | AM7: 0 | AN7: 55 | AO7: 6 | AP7: 4 | AQ7: 15 | AR7: 0 | AS7: 6 | AT7: 36 | AU7: 24 | AV7: 19 | AW7: 18 | AX7: 351 | AY7: 32 | AZ7: 5 | BA7: 0 | BB7: 0 | BC7: 0 | BD7: 25 | BE7: 1 | BF7: 63 | BG7: 23 | BH7: 35 | BI7: 3 | BJ7: 1 | BK7: 1 | BL7: 57 | BM7: 6 | BN7: 5 | BO7: 16 | BP7: 0 | BQ7: 6 | BR7: 36 | BS7: 29 | BT7: 22 | BU7: 8 | BV7: 351 | BW7: 32 | BX7: 5 | BY7: 0 | BZ7: 0 | CA7: 0 | CB7: 25 | CC7: 1 | CD7: 63 | CE7: 23 | CF7: 35 | CG7: 3 | CH7: 1 | CI7: 1 | CJ7: 57 | CK7: 6 | CL7: 5 | CM7: 16 | CN7: 0 | CO7: 6 | CP7: 36 | CQ7: 29 | CR7: 22 | CS7: 8 | CT7: 4 | CU7: 351 | CV7: 31 | CW7: 3 | CX7: 0 | CY7: 0 | CZ7: 0 | DA7: 24 | DB7: 1 | DC7: 59 | DD7: 20 | DE7: 33 | DF7: 4 | DG7: 1 | DH7: 1 | DI7: 53 | DJ7: 6 | DK7: 6 | DL7: 11 | DM7: 0 | DN7: 6 | DO7: 36 | DP7: 28 | DQ7: 22 | DR7: 5 | DS7: 4 | DT7: 331 | DU7: =COUNTIFS(Dosen!$P$4:$P$469,A7,Dosen!$D$4:$D$469,"DT") -> 33 | DV7: =COUNTIFS(Dosen!$P$4:$P$469,A7,Dosen!$D$4:$D$469,"CDTP") -> 0 | DW7: =COUNTIFS(Dosen!$P$4:$P$469,A7,Dosen!$D$4:$D$469,"CDTSL") -> 0 | DX7: =COUNTIFS(Dosen!$P$4:$P$469,A7,Dosen!$D$4:$D$469,"dosen kopertis") -> 0 | DY7: =COUNTIFS(Dosen!$P$4:$P$469,A7,Dosen!$D$4:$D$469,"DBK") -> 0 | DZ7: =COUNTIFS(Dosen!$P$4:$P$469,A7,Dosen!$D$4:$D$469,"DPK") -> 28 | EA7: =COUNTIFS(Dosen!$P$4:$P$469,A7,Dosen!$D$4:$D$469,"DLBK") -> 1 | EB7: =SUM(DU7:EA7) -> 62 | EC7: =COUNTIFS(Dosen!$P$4:$P$469,A7,Dosen!$E$4:$E$469,"Belum") -> 16 | ED7: =COUNTIFS(Dosen!$P$4:$P$469,$A7,Dosen!$E$4:$E$469,"Asisten Ahli") -> 37 | EE7: =COUNTIFS(Dosen!$P$4:$P$469,$A7,Dosen!$E$4:$E$469,"Lektor") -> 7 | EF7: =COUNTIFS(Dosen!$P$4:$P$469,$A7,Dosen!$E$4:$E$469,"Lektor Kepala") -> 1 | EG7: =COUNTIFS(Dosen!$P$4:$P$469,$A7,Dosen!$E$4:$E$469,"Guru Besar") -> 1 | EH7: =COUNTIFS(Dosen!$P$5:$P$449,A7,Dosen!$I$5:$I$449,"Belum") -> 50 | EI7: =COUNTIFS(Dosen!$P$5:$P$449,A7,Dosen!$I$5:$I$449,"SUDAH") -> 12 | EJ7: =COUNTIFS(Dosen!$P$4:$P$449,A7,Dosen!$H$4:$H$449,"s3") -> 6 | EK7: =COUNTIFS(Dosen!$P$4:$P$449,A7,Dosen!$H$4:$H$449,"s2") -> 11 | EL7: =COUNTIFS(Dosen!$P$4:$P$449,A7,Dosen!$H$4:$H$449,"s1") -> 0 | EM7: =COUNTIFS(Dosen!$P$4:$P$449,A7,Dosen!$H$4:$H$449,"sp.2") -> 6 | EN7: =COUNTIFS(Dosen!$P$4:$P$449,A7,Dosen!$H$4:$H$449,"sp.1") -> 39 | EO7: =COUNTIFS(Dosen!$P$4:$P$449,A7,Dosen!$K$4:$K$449,"NIDN") -> 28 | EP7: =COUNTIFS(Dosen!$P$4:$P$449,A7,Dosen!$K$4:$K$449,"NIDk") -> 22 | EQ7: =COUNTIFS(Dosen!$P$4:$P$449,A7,Dosen!$K$4:$K$449,"belum") -> 8 | ER7: =COUNTIFS(Dosen!$P$4:$P$449,A7,Dosen!$K$4:$K$449,"NUPTK") -> 4 | ES7: 331 | ET7: =COUNTIFS(Dosen!$P$4:$P$469,A7,Dosen!$D$4:$D$469,"DT") -> 33 | EU7: =COUNTIFS(Dosen!$P$4:$P$469,A7,Dosen!$D$4:$D$469,"CDTP") -> 0 | EV7: =COUNTIFS(Dosen!$P$4:$P$469,A7,Dosen!$D$4:$D$469,"CDTSL") -> 0 | EW7: =COUNTIFS(Dosen!$P$4:$P$469,A7,Dosen!$D$4:$D$469,"dosen kopertis") -> 0 | EX7: =COUNTIFS(Dosen!$P$4:$P$469,A7,Dosen!$D$4:$D$469,"DBK") -> 0 | EY7: =COUNTIFS(Dosen!$P$4:$P$469,A7,Dosen!$D$4:$D$469,"DPK") -> 28 | EZ7: =COUNTIFS(Dosen!$P$4:$P$469,A7,Dosen!$D$4:$D$469,"DLBK") -> 1 | FA7: =SUM(ET7:EZ7) -> 62 | FB7: =COUNTIFS(Dosen!$P$4:$P$469,A7,Dosen!$E$4:$E$469,"Belum") -> 16 | FC7: =COUNTIFS(Dosen!$P$4:$P$469,$A7,Dosen!$E$4:$E$469,"Asisten Ahli") -> 37 | FD7: =COUNTIFS(Dosen!$P$4:$P$469,$A7,Dosen!$E$4:$E$469,"Lektor") -> 7 | FE7: =COUNTIFS(Dosen!$P$4:$P$469,$A7,Dosen!$E$4:$E$469,"Lektor Kepala") -> 1 | FF7: =COUNTIFS(Dosen!$P$4:$P$469,$A7,Dosen!$E$4:$E$469,"Guru Besar") -> 1 | FG7: =COUNTIFS(Dosen!$P$5:$P$449,$A7,Dosen!$I$5:$I$449,"Belum") -> 50 | FH7: =COUNTIFS(Dosen!$P$5:$P$449,A7,Dosen!$I$5:$I$449,"SUDAH") -> 12 | FI7: =COUNTIFS(Dosen!$P$4:$P$449,A7,Dosen!$H$4:$H$449,"s3") -> 6 | FJ7: =COUNTIFS(Dosen!$P$4:$P$449,A7,Dosen!$H$4:$H$449,"s2") -> 11 | FK7: =COUNTIFS(Dosen!$P$4:$P$449,A7,Dosen!$H$4:$H$449,"s1") -> 0 | FL7: =COUNTIFS(Dosen!$P$4:$P$449,A7,Dosen!$H$4:$H$449,"sp.2") -> 6 | FM7: =COUNTIFS(Dosen!$P$4:$P$449,A7,Dosen!$H$4:$H$449,"sp.1") -> 39 | FN7: =COUNTIFS(Dosen!$P$4:$P$449,A7,Dosen!$K$4:$K$449,"NIDN") -> 28 | FO7: =COUNTIFS(Dosen!$P$4:$P$449,A7,Dosen!$K$4:$K$449,"NIDk") -> 22 | FP7: =COUNTIFS(Dosen!$P$4:$P$449,A7,Dosen!$K$4:$K$449,"belum") -> 8 | FQ7: =COUNTIFS(Dosen!$P$4:$P$449,A7,Dosen!$K$4:$K$449,"NUPTK") -> 4 | FR7: 331 | FS7: =COUNTIFS(Dosen!$P$4:$P$469,$A7,Dosen!$D$4:$D$469,"DT") -> 33 | FT7: =COUNTIFS(Dosen!$P$4:$P$469,$A7,Dosen!$D$4:$D$469,"CDTP") -> 0 | FU7: =COUNTIFS(Dosen!$P$4:$P$469,$A7,Dosen!$D$4:$D$469,"CDTSL") -> 0 | FV7: =COUNTIFS(Dosen!$P$4:$P$469,$A7,Dosen!$D$4:$D$469,"dosen kopertis") -> 0 | FW7: =COUNTIFS(Dosen!$P$4:$P$469,$A7,Dosen!$D$4:$D$469,"DBK") -> 0 | FX7: =COUNTIFS(Dosen!$P$4:$P$469,$A7,Dosen!$D$4:$D$469,"DPK") -> 28 | FY7: =COUNTIFS(Dosen!$P$4:$P$469,$A7,Dosen!$D$4:$D$469,"DLBK") -> 1 | FZ7: =SUM(FS7:FY7) -> 62 | GA7: =COUNTIFS(Dosen!$P$4:$P$469,$A7,Dosen!$E$4:$E$469,"Belum") -> 16 | GB7: =COUNTIFS(Dosen!$P$4:$P$469,$A7,Dosen!$E$4:$E$469,"Asisten Ahli") -> 37 | GC7: =COUNTIFS(Dosen!$P$4:$P$469,$A7,Dosen!$E$4:$E$469,"Lektor") -> 7 | GD7: =COUNTIFS(Dosen!$P$4:$P$469,$A7,Dosen!$E$4:$E$469,"Lektor Kepala") -> 1 | GE7: =COUNTIFS(Dosen!$P$4:$P$469,$A7,Dosen!$E$4:$E$469,"Guru Besar") -> 1 | GF7: =COUNTIFS(Dosen!$P$5:$P$449,$A7,Dosen!$I$5:$I$449,"Belum") -> 50 | GG7: =COUNTIFS(Dosen!$P$5:$P$449,$A7,Dosen!$I$5:$I$449,"SUDAH") -> 12 | GH7: =COUNTIFS(Dosen!$P$4:$P$449,$A7,Dosen!$H$4:$H$449,"s3") -> 6 | GI7: =COUNTIFS(Dosen!$P$4:$P$449,$A7,Dosen!$H$4:$H$449,"s2") -> 11 | GJ7: =COUNTIFS(Dosen!$P$4:$P$449,$A7,Dosen!$H$4:$H$449,"s1") -> 0 | GK7: =COUNTIFS(Dosen!$P$4:$P$449,$A7,Dosen!$H$4:$H$449,"sp.2") -> 6 | GL7: =COUNTIFS(Dosen!$P$4:$P$449,$A7,Dosen!$H$4:$H$449,"sp.1") -> 39 | GM7: =COUNTIFS(Dosen!$P$4:$P$449,$A7,Dosen!$K$4:$K$449,"NIDN") -> 28 | GN7: =COUNTIFS(Dosen!$P$4:$P$449,$A7,Dosen!$K$4:$K$449,"NIDk") -> 22 | GO7: =COUNTIFS(Dosen!$P$4:$P$449,$A7,Dosen!$K$4:$K$449,"belum") -> 8 | GP7: =COUNTIFS(Dosen!$P$4:$P$449,$A7,Dosen!$K$4:$K$449,"NUPTK") -> 4 | GQ7: 331 | GR7: 33 | GS7: 1 | GT7: 0 | GU7: 0 | GV7: 0 | GW7: 24 | GX7: 1 | GY7: 59 | GZ7: 19 | HA7: 34 | HB7: 4 | HC7: 1 | HD7: 1 | HE7: 53 | HF7: 6 | HG7: 6 | HH7: 10 | HI7: 0 | HJ7: 6 | HK7: 36 | HL7: 28 | HM7: 22 | HN7: 5 | HO7: 4 | HP7: 331 | HQ7: 33 | HR7: 0 | HS7: 0 | HT7: 0 | HU7: 0 | HV7: 27 | HW7: 1 | HX7: 61 | HY7: 16 | HZ7: 38 | IA7: 5 | IB7: 1 | IC7: 1 | ID7: 55 | IE7: 6 | IF7: 6 | IG7: 11 | IH7: 0 | II7: 6 | IJ7: 38 | IK7: 28 | IL7: 22 | IM7: 7 | IN7: 4 | IO7: 331 | IP7: 33 | IQ7: 0 | IR7: 0 | IS7: 0 | IT7: 0 | IU7: 27 | IV7: 1 | IW7: 61 | IX7: 15 | IY7: 37 | IZ7: 7 | JA7: 1 | JB7: 1 | JC7: 55 | JD7: 6 | JE7: 6 | JF7: 11 | JG7: 0 | JH7: 6 | JI7: 38 | JJ7: 28 | JK7: 22 | JL7: 7 | JM7: 4 | JN7: 331 | JO7: 33 | JP7: 0 | JQ7: 0 | JR7: 0 | JS7: 0 | JT7: 28 | JU7: 1 | JV7: 62 | JW7: 16 | JX7: 37 | JY7: 7 | JZ7: 1 | KA7: 1 | KB7: 50 | KC7: 12 | KD7: 6 | KE7: 11 | KF7: 0 | KG7: 6 | KH7: 39 | KI7: 28 | KJ7: 22 | KK7: 8 | KL7: 4 | KM7: 373 | KN7: =COUNTIFS(Dosen!$P$4:$P$469,$A7,Dosen!$D$4:$D$469,"DT") -> 33 | KO7: =COUNTIFS(Dosen!$P$4:$P$469,$A7,Dosen!$D$4:$D$469,"CDTP") -> 0 | KP7: =COUNTIFS(Dosen!$P$4:$P$469,$A7,Dosen!$D$4:$D$469,"CDTSL") -> 0 | KQ7: =COUNTIFS(Dosen!$P$4:$P$469,$A7,Dosen!$D$4:$D$469,"dosen kopertis") -> 0 | KR7: =COUNTIFS(Dosen!$P$4:$P$469,$A7,Dosen!$D$4:$D$469,"DBK") -> 0 | KS7: =COUNTIFS(Dosen!$P$4:$P$469,$A7,Dosen!$D$4:$D$469,"DPK") -> 28 | KT7: =COUNTIFS(Dosen!$P$4:$P$469,$A7,Dosen!$D$4:$D$469,"DLBK") -> 1 | KU7: =SUM(KN7:KT7) -> 62 | KV7: =COUNTIFS(Dosen!$P$4:$P$469,$A7,Dosen!$E$4:$E$469,"Belum") -> 16 | KW7: =COUNTIFS(Dosen!$P$4:$P$469,$A7,Dosen!$E$4:$E$469,"Asisten Ahli") -> 37 | KX7: =COUNTIFS(Dosen!$P$4:$P$469,$A7,Dosen!$E$4:$E$469,"Lektor") -> 7 | KY7: =COUNTIFS(Dosen!$P$4:$P$469,$A7,Dosen!$E$4:$E$469,"Lektor Kepala") -> 1 | KZ7: =COUNTIFS(Dosen!$P$4:$P$469,$A7,Dosen!$E$4:$E$469,"Guru Besar") -> 1 | LA7: =COUNTIFS(Dosen!$P$5:$P$495,$A7,Dosen!$I$5:$I$495,"Belum") -> 50 | LB7: =COUNTIFS(Dosen!$P$5:$P$495,$A7,Dosen!$I$5:$I$495,"SUDAH") -> 12 | LC7: =COUNTIFS(Dosen!$P$4:$P$495,$A7,Dosen!$H$4:$H$495,"s3") -> 6 | LD7: =COUNTIFS(Dosen!$P$4:$P$495,$A7,Dosen!$H$4:$H$495,"s2") -> 11 | LE7: =COUNTIFS(Dosen!$P$4:$P$495,$A7,Dosen!$H$4:$H$495,"s1") -> 0 | LF7: =COUNTIFS(Dosen!$P$4:$P$495,$A7,Dosen!$H$4:$H$495,"sp.2") -> 6 | LG7: =COUNTIFS(Dosen!$P$4:$P$495,$A7,Dosen!$H$4:$H$495,"sp.1") -> 39 | LH7: =COUNTIFS(Dosen!$P$4:$P$495,$A7,Dosen!$K$4:$K$495,"NIDN") -> 28 | LI7: =COUNTIFS(Dosen!$P$4:$P$495,$A7,Dosen!$K$4:$K$495,"NIDk") -> 22 | LJ7: =COUNTIFS(Dosen!$P$4:$P$495,$A7,Dosen!$K$4:$K$495,"belum") -> 8 | LK7: =COUNTIFS(Dosen!$P$4:$P$495,$A7,Dosen!$K$4:$K$495,"NUPTK") -> 4
A8: Program Magister Kesehatan Penuaan Kulit dan Estetika | B8: 77 | C8: 5 | D8: 0 | E8: 0 | F8: 0 | G8: 0 | H8: 0 | I8: 0 | J8: 5 | K8: 0 | L8: 0 | M8: 1 | N8: 2 | O8: 2 | P8: 1 | Q8: 4 | R8: 5 | S8: 0 | T8: 0 | U8: 0 | V8: 0 | W8: 5 | X8: 0 | Y8: 0 | Z8: 77 | AA8: 5 | AB8: 0 | AC8: 0 | AD8: 0 | AE8: 0 | AF8: 0 | AG8: 0 | AH8: 5 | AI8: 0 | AJ8: 0 | AK8: 1 | AL8: 2 | AM8: 2 | AN8: 1 | AO8: 4 | AP8: 5 | AQ8: 0 | AR8: 0 | AS8: 0 | AT8: 0 | AU8: 5 | AV8: 0 | AW8: 0 | AX8: 77 | AY8: 5 | AZ8: 0 | BA8: 0 | BB8: 0 | BC8: 0 | BD8: 0 | BE8: 0 | BF8: 5 | BG8: 0 | BH8: 0 | BI8: 1 | BJ8: 2 | BK8: 2 | BL8: 1 | BM8: 4 | BN8: 5 | BO8: 0 | BP8: 0 | BQ8: 0 | BR8: 0 | BS8: 5 | BT8: 0 | BU8: 0 | BV8: 77 | BW8: 5 | BX8: 0 | BY8: 0 | BZ8: 0 | CA8: 0 | CB8: 0 | CC8: 0 | CD8: 5 | CE8: 0 | CF8: 0 | CG8: 1 | CH8: 2 | CI8: 2 | CJ8: 1 | CK8: 4 | CL8: 5 | CM8: 0 | CN8: 0 | CO8: 0 | CP8: 0 | CQ8: 5 | CR8: 0 | CS8: 0 | CT8: 0 | CU8: 77 | CV8: 5 | CW8: 0 | CX8: 0 | CY8: 0 | CZ8: 0 | DA8: 0 | DB8: 0 | DC8: 5 | DD8: 0 | DE8: 0 | DF8: 0 | DG8: 2 | DH8: 3 | DI8: 0 | DJ8: 5 | DK8: 5 | DL8: 0 | DM8: 0 | DN8: 0 | DO8: 0 | DP8: 5 | DQ8: 0 | DR8: 0 | DS8: 0 | DT8: 86 | DU8: =COUNTIFS(Dosen!$P$4:$P$469,A8,Dosen!$D$4:$D$469,"DT") -> 5 | DV8: =COUNTIFS(Dosen!$P$4:$P$469,A8,Dosen!$D$4:$D$469,"CDTP") -> 0 | DW8: =COUNTIFS(Dosen!$P$4:$P$469,A8,Dosen!$D$4:$D$469,"CDTSL") -> 0 | DX8: =COUNTIFS(Dosen!$P$4:$P$469,A8,Dosen!$D$4:$D$469,"dosen kopertis") -> 0 | DY8: =COUNTIFS(Dosen!$P$4:$P$469,A8,Dosen!$D$4:$D$469,"DBK") -> 0 | DZ8: =COUNTIFS(Dosen!$P$4:$P$469,A8,Dosen!$D$4:$D$469,"DPK") -> 0 | EA8: =COUNTIFS(Dosen!$P$4:$P$469,A8,Dosen!$D$4:$D$469,"DLBK") -> 0 | EB8: =SUM(DU8:EA8) -> 5 | EC8: =COUNTIFS(Dosen!$P$4:$P$469,A8,Dosen!$E$4:$E$469,"Belum") -> 0 | ED8: =COUNTIFS(Dosen!$P$4:$P$469,$A8,Dosen!$E$4:$E$469,"Asisten Ahli") -> 0 | EE8: =COUNTIFS(Dosen!$P$4:$P$469,$A8,Dosen!$E$4:$E$469,"Lektor") -> 0 | EF8: =COUNTIFS(Dosen!$P$4:$P$469,$A8,Dosen!$E$4:$E$469,"Lektor Kepala") -> 2 | EG8: =COUNTIFS(Dosen!$P$4:$P$469,$A8,Dosen!$E$4:$E$469,"Guru Besar") -> 3 | EH8: =COUNTIFS(Dosen!$P$5:$P$449,A8,Dosen!$I$5:$I$449,"Belum") -> 0 | EI8: =COUNTIFS(Dosen!$P$5:$P$449,A8,Dosen!$I$5:$I$449,"SUDAH") -> 5 | EJ8: =COUNTIFS(Dosen!$P$4:$P$449,A8,Dosen!$H$4:$H$449,"s3") -> 5 | EK8: =COUNTIFS(Dosen!$P$4:$P$449,A8,Dosen!$H$4:$H$449,"s2") -> 0 | EL8: =COUNTIFS(Dosen!$P$4:$P$449,A8,Dosen!$H$4:$H$449,"s1") -> 0 | EM8: =COUNTIFS(Dosen!$P$4:$P$449,A8,Dosen!$H$4:$H$449,"sp.2") -> 0 | EN8: =COUNTIFS(Dosen!$P$4:$P$449,A8,Dosen!$H$4:$H$449,"sp.1") -> 0 | EO8: =COUNTIFS(Dosen!$P$4:$P$449,A8,Dosen!$K$4:$K$449,"NIDN") -> 5 | EP8: =COUNTIFS(Dosen!$P$4:$P$449,A8,Dosen!$K$4:$K$449,"NIDk") -> 0 | EQ8: =COUNTIFS(Dosen!$P$4:$P$449,A8,Dosen!$K$4:$K$449,"belum") -> 0 | ER8: =COUNTIFS(Dosen!$P$4:$P$449,A8,Dosen!$K$4:$K$449,"NUPTK") -> 0 | ES8: 86 | ET8: =COUNTIFS(Dosen!$P$4:$P$469,A8,Dosen!$D$4:$D$469,"DT") -> 5 | EU8: =COUNTIFS(Dosen!$P$4:$P$469,A8,Dosen!$D$4:$D$469,"CDTP") -> 0 | EV8: =COUNTIFS(Dosen!$P$4:$P$469,A8,Dosen!$D$4:$D$469,"CDTSL") -> 0 | EW8: =COUNTIFS(Dosen!$P$4:$P$469,A8,Dosen!$D$4:$D$469,"dosen kopertis") -> 0 | EX8: =COUNTIFS(Dosen!$P$4:$P$469,A8,Dosen!$D$4:$D$469,"DBK") -> 0 | EY8: =COUNTIFS(Dosen!$P$4:$P$469,A8,Dosen!$D$4:$D$469,"DPK") -> 0 | EZ8: =COUNTIFS(Dosen!$P$4:$P$469,A8,Dosen!$D$4:$D$469,"DLBK") -> 0 | FA8: =SUM(ET8:EZ8) -> 5 | FB8: =COUNTIFS(Dosen!$P$4:$P$469,A8,Dosen!$E$4:$E$469,"Belum") -> 0 | FC8: =COUNTIFS(Dosen!$P$4:$P$469,$A8,Dosen!$E$4:$E$469,"Asisten Ahli") -> 0 | FD8: =COUNTIFS(Dosen!$P$4:$P$469,$A8,Dosen!$E$4:$E$469,"Lektor") -> 0 | FE8: =COUNTIFS(Dosen!$P$4:$P$469,$A8,Dosen!$E$4:$E$469,"Lektor Kepala") -> 2 | FF8: =COUNTIFS(Dosen!$P$4:$P$469,$A8,Dosen!$E$4:$E$469,"Guru Besar") -> 3 | FG8: =COUNTIFS(Dosen!$P$5:$P$449,$A8,Dosen!$I$5:$I$449,"Belum") -> 0 | FH8: =COUNTIFS(Dosen!$P$5:$P$449,A8,Dosen!$I$5:$I$449,"SUDAH") -> 5 | FI8: =COUNTIFS(Dosen!$P$4:$P$449,A8,Dosen!$H$4:$H$449,"s3") -> 5 | FJ8: =COUNTIFS(Dosen!$P$4:$P$449,A8,Dosen!$H$4:$H$449,"s2") -> 0 | FK8: =COUNTIFS(Dosen!$P$4:$P$449,A8,Dosen!$H$4:$H$449,"s1") -> 0 | FL8: =COUNTIFS(Dosen!$P$4:$P$449,A8,Dosen!$H$4:$H$449,"sp.2") -> 0 | FM8: =COUNTIFS(Dosen!$P$4:$P$449,A8,Dosen!$H$4:$H$449,"sp.1") -> 0 | FN8: =COUNTIFS(Dosen!$P$4:$P$449,A8,Dosen!$K$4:$K$449,"NIDN") -> 5 | FO8: =COUNTIFS(Dosen!$P$4:$P$449,A8,Dosen!$K$4:$K$449,"NIDk") -> 0 | FP8: =COUNTIFS(Dosen!$P$4:$P$449,A8,Dosen!$K$4:$K$449,"belum") -> 0 | FQ8: =COUNTIFS(Dosen!$P$4:$P$449,A8,Dosen!$K$4:$K$449,"NUPTK") -> 0 | FR8: 86 | FS8: =COUNTIFS(Dosen!$P$4:$P$469,$A8,Dosen!$D$4:$D$469,"DT") -> 5 | FT8: =COUNTIFS(Dosen!$P$4:$P$469,$A8,Dosen!$D$4:$D$469,"CDTP") -> 0 | FU8: =COUNTIFS(Dosen!$P$4:$P$469,$A8,Dosen!$D$4:$D$469,"CDTSL") -> 0 | FV8: =COUNTIFS(Dosen!$P$4:$P$469,$A8,Dosen!$D$4:$D$469,"dosen kopertis") -> 0 | FW8: =COUNTIFS(Dosen!$P$4:$P$469,$A8,Dosen!$D$4:$D$469,"DBK") -> 0 | FX8: =COUNTIFS(Dosen!$P$4:$P$469,$A8,Dosen!$D$4:$D$469,"DPK") -> 0 | FY8: =COUNTIFS(Dosen!$P$4:$P$469,$A8,Dosen!$D$4:$D$469,"DLBK") -> 0 | FZ8: =SUM(FS8:FY8) -> 5 | GA8: =COUNTIFS(Dosen!$P$4:$P$469,$A8,Dosen!$E$4:$E$469,"Belum") -> 0 | GB8: =COUNTIFS(Dosen!$P$4:$P$469,$A8,Dosen!$E$4:$E$469,"Asisten Ahli") -> 0 | GC8: =COUNTIFS(Dosen!$P$4:$P$469,$A8,Dosen!$E$4:$E$469,"Lektor") -> 0 | GD8: =COUNTIFS(Dosen!$P$4:$P$469,$A8,Dosen!$E$4:$E$469,"Lektor Kepala") -> 2 | GE8: =COUNTIFS(Dosen!$P$4:$P$469,$A8,Dosen!$E$4:$E$469,"Guru Besar") -> 3 | GF8: =COUNTIFS(Dosen!$P$5:$P$449,$A8,Dosen!$I$5:$I$449,"Belum") -> 0 | GG8: =COUNTIFS(Dosen!$P$5:$P$449,$A8,Dosen!$I$5:$I$449,"SUDAH") -> 5 | GH8: =COUNTIFS(Dosen!$P$4:$P$449,$A8,Dosen!$H$4:$H$449,"s3") -> 5 | GI8: =COUNTIFS(Dosen!$P$4:$P$449,$A8,Dosen!$H$4:$H$449,"s2") -> 0 | GJ8: =COUNTIFS(Dosen!$P$4:$P$449,$A8,Dosen!$H$4:$H$449,"s1") -> 0 | GK8: =COUNTIFS(Dosen!$P$4:$P$449,$A8,Dosen!$H$4:$H$449,"sp.2") -> 0 | GL8: =COUNTIFS(Dosen!$P$4:$P$449,$A8,Dosen!$H$4:$H$449,"sp.1") -> 0 | GM8: =COUNTIFS(Dosen!$P$4:$P$449,$A8,Dosen!$K$4:$K$449,"NIDN") -> 5 | GN8: =COUNTIFS(Dosen!$P$4:$P$449,$A8,Dosen!$K$4:$K$449,"NIDk") -> 0 | GO8: =COUNTIFS(Dosen!$P$4:$P$449,$A8,Dosen!$K$4:$K$449,"belum") -> 0 | GP8: =COUNTIFS(Dosen!$P$4:$P$449,$A8,Dosen!$K$4:$K$449,"NUPTK") -> 0 | GQ8: 86 | GR8: 5 | GS8: 0 | GT8: 0 | GU8: 0 | GV8: 0 | GW8: 0 | GX8: 0 | GY8: 5 | GZ8: 0 | HA8: 0 | HB8: 0 | HC8: 2 | HD8: 3 | HE8: 0 | HF8: 5 | HG8: 5 | HH8: 0 | HI8: 0 | HJ8: 0 | HK8: 0 | HL8: 5 | HM8: 0 | HN8: 0 | HO8: 0 | HP8: 86 | HQ8: 5 | HR8: 0 | HS8: 0 | HT8: 0 | HU8: 0 | HV8: 0 | HW8: 0 | HX8: 5 | HY8: 0 | HZ8: 0 | IA8: 0 | IB8: 2 | IC8: 3 | ID8: 0 | IE8: 5 | IF8: 5 | IG8: 0 | IH8: 0 | II8: 0 | IJ8: 0 | IK8: 5 | IL8: 0 | IM8: 0 | IN8: 0 | IO8: 86 | IP8: 5 | IQ8: 0 | IR8: 0 | IS8: 0 | IT8: 0 | IU8: 0 | IV8: 0 | IW8: 5 | IX8: 0 | IY8: 0 | IZ8: 0 | JA8: 2 | JB8: 3 | JC8: 0 | JD8: 5 | JE8: 5 | JF8: 0 | JG8: 0 | JH8: 0 | JI8: 0 | JJ8: 5 | JK8: 0 | JL8: 0 | JM8: 0 | JN8: 86 | JO8: 5 | JP8: 0 | JQ8: 0 | JR8: 0 | JS8: 0 | JT8: 0 | JU8: 0 | JV8: 5 | JW8: 0 | JX8: 0 | JY8: 0 | JZ8: 2 | KA8: 3 | KB8: 0 | KC8: 5 | KD8: 5 | KE8: 0 | KF8: 0 | KG8: 0 | KH8: 0 | KI8: 5 | KJ8: 0 | KK8: 0 | KL8: 0 | KM8: 97 | KN8: =COUNTIFS(Dosen!$P$4:$P$469,$A8,Dosen!$D$4:$D$469,"DT") -> 5 | KO8: =COUNTIFS(Dosen!$P$4:$P$469,$A8,Dosen!$D$4:$D$469,"CDTP") -> 0 | KP8: =COUNTIFS(Dosen!$P$4:$P$469,$A8,Dosen!$D$4:$D$469,"CDTSL") -> 0 | KQ8: =COUNTIFS(Dosen!$P$4:$P$469,$A8,Dosen!$D$4:$D$469,"dosen kopertis") -> 0 | KR8: =COUNTIFS(Dosen!$P$4:$P$469,$A8,Dosen!$D$4:$D$469,"DBK") -> 0 | KS8: =COUNTIFS(Dosen!$P$4:$P$469,$A8,Dosen!$D$4:$D$469,"DPK") -> 0 | KT8: =COUNTIFS(Dosen!$P$4:$P$469,$A8,Dosen!$D$4:$D$469,"DLBK") -> 0 | KU8: =SUM(KN8:KT8) -> 5 | KV8: =COUNTIFS(Dosen!$P$4:$P$469,$A8,Dosen!$E$4:$E$469,"Belum") -> 0 | KW8: =COUNTIFS(Dosen!$P$4:$P$469,$A8,Dosen!$E$4:$E$469,"Asisten Ahli") -> 0 | KX8: =COUNTIFS(Dosen!$P$4:$P$469,$A8,Dosen!$E$4:$E$469,"Lektor") -> 0 | KY8: =COUNTIFS(Dosen!$P$4:$P$469,$A8,Dosen!$E$4:$E$469,"Lektor Kepala") -> 2 | KZ8: =COUNTIFS(Dosen!$P$4:$P$469,$A8,Dosen!$E$4:$E$469,"Guru Besar") -> 3 | LA8: =COUNTIFS(Dosen!$P$5:$P$495,$A8,Dosen!$I$5:$I$495,"Belum") -> 0 | LB8: =COUNTIFS(Dosen!$P$5:$P$495,$A8,Dosen!$I$5:$I$495,"SUDAH") -> 5 | LC8: =COUNTIFS(Dosen!$P$4:$P$495,$A8,Dosen!$H$4:$H$495,"s3") -> 5 | LD8: =COUNTIFS(Dosen!$P$4:$P$495,$A8,Dosen!$H$4:$H$495,"s2") -> 0 | LE8: =COUNTIFS(Dosen!$P$4:$P$495,$A8,Dosen!$H$4:$H$495,"s1") -> 0 | LF8: =COUNTIFS(Dosen!$P$4:$P$495,$A8,Dosen!$H$4:$H$495,"sp.2") -> 0 | LG8: =COUNTIFS(Dosen!$P$4:$P$495,$A8,Dosen!$H$4:$H$495,"sp.1") -> 0 | LH8: =COUNTIFS(Dosen!$P$4:$P$495,$A8,Dosen!$K$4:$K$495,"NIDN") -> 5 | LI8: =COUNTIFS(Dosen!$P$4:$P$495,$A8,Dosen!$K$4:$K$495,"NIDk") -> 0 | LJ8: =COUNTIFS(Dosen!$P$4:$P$495,$A8,Dosen!$K$4:$K$495,"belum") -> 0 | LK8: =COUNTIFS(Dosen!$P$4:$P$495,$A8,Dosen!$K$4:$K$495,"NUPTK") -> 0
