Workbook
Name check_dosen: Dosen!$A$1:$R$447
Name dosen_lama: #REF!
Name tendik_lama: #REF!
Name tgllahir: #REF!
Name zrhr: #REF!

Sheet Dosen
A1: Data Dosen Universitas Kristen Maranatha
A2: data DSDI s.d. 1 Januari 2026
Q3: 46023
A4: No. | B4: NIK | C4: Nama Pegawai | D4: Status | E4: Jab. Akademik | F4: TMT JA Terakhir | G4: Golongan | H4: Pendidikan Terakhir | I4: Status Serdos | J4: No Registrasi | K4: Status Registrasi PDDIKTI | L4: NIDN | M4: NIDK | N4: NUPTK | O4: Fakultas | P4: Program Studi | Q4: Tgl. Lahir | R4: Usia s.d. 1 Desember 2025 | S4: Gender | T4: Agama | U4: Keterangan
A5: 1 | B5: 110035 | C5: dr. Jeanny Ervie Ladi, M.Kes. | D5: DPK | E5: Lektor | F5: 01-09-2022 | G5: IIID | H5: S2 | I5: Belum | J5: 13104100700702 | K5: NIDK | M5: 8960111024 | O5: Fakultas Kedokteran | P5: Program Sarjana Pendidikan Dokter Fakultas Kedokteran | Q5: 21818 | R5: =DATEDIF(Q5,$Q$3,"y")&" Tahun"&" "&DATEDIF(Q5,$Q$3,"ym")&" Bulan" -> 66 Tahun 3 Bulan | S5: Wanita | T5: Katolik
A6: 2 | B6: 110062 | C6: dr. Budi Liem, M.Med. | D6: DT | E6: Asisten Ahli | F6: 01-11-2011 | G6: IVA | H6: S2 | I6: Sudah | J6: 15104100706579 | K6: NIDN | L6: 0428086103 | N6: 8160739640130113 | O6: Fakultas Kedokteran | P6: Program Pendidikan Profesi Dokter Fakultas Kedokteran | Q6: 22521 | R6: =DATEDIF(Q6,$Q$3,"y")&" Tahun"&" "&DATEDIF(Q6,$Q$3,"ym")&" Bulan" -> 64 Tahun 4 Bulan | S6: Pria | T6: Kristen
A7: 3 | B7: 110067 | C7: dr. Franky Saputra Supriady, Sp.A. | D7: DT | E7: Asisten Ahli | F7: 01-08-2022 | G7: IVA | H7: Sp.1 | I7: Belum | K7: NIDN | L7: 0408016102 | N7: 2440739640130072 | O7: Fakultas Kedokteran | P7: Program Pendidikan Profesi Dokter Fakultas Kedokteran | Q7: 22289 | R7: =DATEDIF(Q7,$Q$3,"y")&" Tahun"&" "&DATEDIF(Q7,$Q$3,"ym")&" Bulan" -> 64 Tahun 11 Bulan | S7: Pria | T7: Kristen
A8: 4 | B8: 110068 | C8: dr. Sijani Prahastuti, M.Kes. | D8: DT | E8: Lektor Kepala | F8: 01-10-2025 | G8: IVA | H8: S2 | I8: Sudah | J8: 12104100712532 | K8: NIDN | L8: 0403036101 | N8: 3635739640230082 | O8: Fakultas Kedokteran | P8: Program Sarjana Pendidikan Dokter Fakultas Kedokteran | Q8: 22343 | R8: =DATEDIF(Q8,$Q$3,"y")&" Tahun"&" "&DATEDIF(Q8,$Q$3,"ym")&" Bulan" -> 64 Tahun 9 Bulan | S8: Wanita | T8: Kristen
A9: 5 | B9: 110165 | C9: Prof. Dr. dr. Meilinah Hidayat, M.Kes. | D9: DT | E9: Guru Besar | F9: 01-07-2021 | G9: IVD | H9: S3 | I9: Sudah | J9: 12104100705285 | K9: NIDN | L9: 0404126301 | N9: 1536741642230093 | O9: Fakultas Kedokteran | P9: Program Magister Kesehatan Penuaan Kulit dan Estetika | Q9: 23349 | R9: =DATEDIF(Q9,$Q$3,"y")&" Tahun"&" "&DATEDIF(Q9,$Q$3,"ym")&" Bulan" -> 62 Tahun 0 Bulan | S9: Wanita | T9: Katolik
A10: 6 | B10: 110178 | C10: dr. Penny Setyawati Martioso, Sp.PK., M.Kes. | D10: DT | E10: Lektor | F10: 01-11-2025 | G10: IVA | H10: S2 | I10: Sudah | J10: 13104100702794 | K10: NIDN | L10: 0412036203 | N10: 1644740641230112 | O10: Fakultas Kedokteran | P10: Program Sarjana Pendidikan Dokter Fakultas Kedokteran | Q10: 22717 | R10: =DATEDIF(Q10,$Q$3,"y")&" Tahun"&" "&DATEDIF(Q10,$Q$3,"ym")&" Bulan" -> 63 Tahun 9 Bulan | S10: Wanita | T10: Katolik
A11: 7 | B11: 110191 | C11: dr. Djaja Rusmana, M.Si. | D11: DT | E11: Lektor | F11: 01-10-2025 | G11: IIID | H11: S2 | I11: Sudah | J11: 14104100703230 | K11: NIDN | L11: 0413126704 | N11: 8545745646130083 | O11: Fakultas Kedokteran | P11: Program Sarjana Pendidikan Dokter Fakultas Kedokteran | Q11: 24819 | R11: =DATEDIF(Q11,$Q$3,"y")&" Tahun"&" "&DATEDIF(Q11,$Q$3,"ym")&" Bulan" -> 58 Tahun 0 Bulan | S11: Pria | T11: Budha
A12: 8 | B12: 110244 | C12: Dr.dr. Oeij Anindita Adhika, M.Kes. | D12: DT | E12: Lektor Kepala | F12: 01-07-2011 | G12: IVA | H12: S3 | I12: Sudah | J12: 15104100705240 | K12: NIDN | L12: 0409036501 | N12: 1641743644230082 | O12: Fakultas Kedokteran | P12: Program Sarjana Pendidikan Dokter Fakultas Kedokteran | Q12: 23810 | R12: =DATEDIF(Q12,$Q$3,"y")&" Tahun"&" "&DATEDIF(Q12,$Q$3,"ym")&" Bulan" -> 60 Tahun 9 Bulan | S12: Wanita | T12: Kristen
A13: 9 | B13: 110247 | C13: dr. Johan Lucianus, M.Si. | D13: DT | E13: Lektor | F13: 01-07-2025 | G13: IVA | H13: S2 | I13: Sudah | J13: 13104100701250 | K13: NIDN | L13: 0415036801 | N13: 0647746647130162 | O13: Fakultas Kedokteran | P13: Program Sarjana Pendidikan Dokter Fakultas Kedokteran | Q13: 24912 | R13: =DATEDIF(Q13,$Q$3,"y")&" Tahun"&" "&DATEDIF(Q13,$Q$3,"ym")&" Bulan" -> 57 Tahun 9 Bulan | S13: Pria | T13: Kristen
A14: 10 | B14: 110281 | C14: Dr. dr. Fanny Rahardja, M.Si. | D14: DT | E14: Lektor | F14: 01-08-2023 | G14: IVA | H14: S3 | I14: Sudah | J14: 12104100710462 | K14: NIDN | L14: 0413106901 | N14: 7345747648230083 | O14: Fakultas Kedokteran | P14: Program Sarjana Pendidikan Dokter Fakultas Kedokteran | Q14: 25489 | R14: =DATEDIF(Q14,$Q$3,"y")&" Tahun"&" "&DATEDIF(Q14,$Q$3,"ym")&" Bulan" -> 56 Tahun 2 Bulan | S14: Wanita | T14: Kristen
A15: 11 | B15: 110292 | C15: Dr.dr. Diana Krisanti Jasaputra, M.Kes. | D15: DT | E15: Lektor Kepala | F15: 01-04-2022 | G15: IVA | H15: S3 | I15: Sudah | J15: 11104100702661 | K15: NIDN | L15: 0414076701 | N15: 2046745646230123 | O15: Fakultas Kedokteran | P15: Program Magister Kesehatan Penuaan Kulit dan Estetika | Q15: 24667 | R15: =DATEDIF(Q15,$Q$3,"y")&" Tahun"&" "&DATEDIF(Q15,$Q$3,"ym")&" Bulan" -> 58 Tahun 5 Bulan | S15: Wanita | T15: Kristen
A16: 12 | B16: 110325 | C16: Prof. Dr. Teresa Liliana Wargasetia, S.Si., M.Kes., PA(K). | D16: DT | E16: Guru Besar | F16: 01-10-2023 | G16: IVD | H16: S3 | I16: Sudah | J16: 15104100704923 | K16: NIDN | L16: 0402077101 | N16: 8034749650230143 | O16: Fakultas Kedokteran | P16: Program Magister Kesehatan Penuaan Kulit dan Estetika | Q16: 26116 | R16: =DATEDIF(Q16,$Q$3,"y")&" Tahun"&" "&DATEDIF(Q16,$Q$3,"ym")&" Bulan" -> 54 Tahun 5 Bulan | S16: Wanita | T16: Kristen
A17: 13 | B17: 110343 | C17: dr. Laella Kinghua Liana, Sp.PA., M.Kes. | D17: DT | E17: Lektor | F17: 01-11-2025 | G17: IIID | H17: S2 | I17: Sudah | J17: 12104100711263 | K17: NIDN | L17: 0401097402 | N17: 5233752653230113 | O17: Fakultas Kedokteran | P17: Program Sarjana Pendidikan Dokter Fakultas Kedokteran | Q17: 27273 | R17: =DATEDIF(Q17,$Q$3,"y")&" Tahun"&" "&DATEDIF(Q17,$Q$3,"ym")&" Bulan" -> 51 Tahun 4 Bulan | S17: Wanita | T17: Kristen
A18: 14 | B18: 110346 | C18: dr. Lukas Mulyono Samuel, Sp.PD., K-GEH. | D18: DT | E18: Asisten Ahli | F18: 01-01-2021 | G18: IIID | H18: Sp.2 | I18: Belum | K18: NIDN | L18: 0408097304 | N18: 7240751652130123 | O18: Fakultas Kedokteran | P18: Program Pendidikan Profesi Dokter Fakultas Kedokteran | Q18: 26915 | R18: =DATEDIF(Q18,$Q$3,"y")&" Tahun"&" "&DATEDIF(Q18,$Q$3,"ym")&" Bulan" -> 52 Tahun 3 Bulan | S18: Pria | T18: Katolik
A19: 15 | B19: 110354 | C19: dr. July Ivone, M.K.K., M.Pd.Ked. | D19: DT | E19: Lektor Kepala | F19: 01-07-2025 | G19: IIID | H19: S2 | I19: Sudah | J19: 12104100711165 | K19: NIDN | L19: 0414077501 | N19: 1046753654230123 | O19: Fakultas Kedokteran | P19: Program Sarjana Pendidikan Dokter Fakultas Kedokteran | Q19: 27589 | R19: =DATEDIF(Q19,$Q$3,"y")&" Tahun"&" "&DATEDIF(Q19,$Q$3,"ym")&" Bulan" -> 50 Tahun 5 Bulan | S19: Wanita | T19: Katolik
A20: 16 | B20: 110465 | C20: Dr. Philips Onggowidjaja, S.Si., M.Si. | D20: DT | E20: Lektor | F20: 01-09-2022 | G20: IVA | H20: S3 | I20: Sudah | J20: 15104100705690 | K20: NIDN | L20: 0409064201 | N20: 0941749650130152 | O20: Fakultas Kedokteran | P20: Program Sarjana Bioteknologi Fakultas Kedokteran | Q20: 26093 | R20: =DATEDIF(Q20,$Q$3,"y")&" Tahun"&" "&DATEDIF(Q20,$Q$3,"ym")&" Bulan" -> 54 Tahun 6 Bulan | S20: Pria | T20: Kristen
A21: 17 | B21: 110474 | C21: Dr.dr. Savitri Restu Wardhani, Sp.KK. | D21: DT | E21: Lektor | F21: 01-10-2025 | G21: IVA | H21: S3 | I21: Belum | K21: NIDN | L21: 0429106402 | N21: 7361742643230043 | O21: Fakultas Kedokteran | P21: Program Pendidikan Profesi Dokter Fakultas Kedokteran | Q21: 23679 | R21: =DATEDIF(Q21,$Q$3,"y")&" Tahun"&" "&DATEDIF(Q21,$Q$3,"ym")&" Bulan" -> 61 Tahun 2 Bulan | S21: Wanita | T21: Katolik
A22: 18 | B22: 110500 | C22: Dr.dr. Jahja Teguh Widjaja, M.B.A., Sp.P., FCCP. | D22: DT | E22: Lektor | F22: 01-07-2022 | G22: IVA | H22: S3 | I22: Belum | K22: NIDN | L22: 0426046201 | N22: 3758740641130062 | O22: Fakultas Kedokteran | P22: Program Pendidikan Profesi Dokter Fakultas Kedokteran | Q22: 22762 | R22: =DATEDIF(Q22,$Q$3,"y")&" Tahun"&" "&DATEDIF(Q22,$Q$3,"ym")&" Bulan" -> 63 Tahun 8 Bulan | S22: Pria | T22: Kristen
A23: 19 | B23: 110504 | C23: dr. Mohamad Indra Sapta, Sp.THT-KL. | D23: DT | E23: Asisten Ahli | F23: 01-11-2020 | G23: IVA | H23: Sp.1 | I23: Sudah | K23: NIDN | L23: 0427036502 | N23: 2659743644130072 | O23: Fakultas Kedokteran | P23: Program Pendidikan Profesi Dokter Fakultas Kedokteran | Q23: 23828 | R23: =DATEDIF(Q23,$Q$3,"y")&" Tahun"&" "&DATEDIF(Q23,$Q$3,"ym")&" Bulan" -> 60 Tahun 9 Bulan | S23: Pria | T23: Islam
A24: 20 | B24: 110552 | C24: dr. Hartini, M.Kes. | D24: DT | E24: Asisten Ahli | F24: 01-03-2017 | G24: IIIC | H24: S2 | I24: Sudah | J24: 20104100701941 | K24: NIDN | L24: 0419026501 | N24: 9551743644230052 | O24: Fakultas Kedokteran | P24: Program Sarjana Pendidikan Dokter Fakultas Kedokteran | Q24: 23792 | R24: =DATEDIF(Q24,$Q$3,"y")&" Tahun"&" "&DATEDIF(Q24,$Q$3,"ym")&" Bulan" -> 60 Tahun 10 Bulan | S24: Wanita | T24: Kristen
A25: 21 | B25: 110561 | C25: dr. Vera, Sp.PD(K)., K-Ger. | D25: DT | E25: Lektor | F25: 01-11-2025 | G25: IIID | H25: Sp.2 | I25: Sudah | K25: NIDN | L25: 0425097605 | N25: 3257754655230113 | O25: Fakultas Kedokteran | P25: Program Pendidikan Profesi Dokter Fakultas Kedokteran | Q25: 28028 | R25: =DATEDIF(Q25,$Q$3,"y")&" Tahun"&" "&DATEDIF(Q25,$Q$3,"ym")&" Bulan" -> 49 Tahun 3 Bulan | S25: Wanita | T25: Kristen
A26: 22 | B26: 110598 | C26: dr. Harijadi Pramono, M.Kes. | D26: DT | E26: Asisten Ahli | F26: 01-02-2020 | G26: IIID | H26: S2 | I26: Belum | K26: NIDN | L26: 0407036201 | N26: 2639740641130092 | O26: Fakultas Kedokteran | P26: Program Sarjana Pendidikan Dokter Fakultas Kedokteran | Q26: 22712 | R26: =DATEDIF(Q26,$Q$3,"y")&" Tahun"&" "&DATEDIF(Q26,$Q$3,"ym")&" Bulan" -> 63 Tahun 9 Bulan | S26: Pria | T26: Katolik
A27: 23 | B27: 110621 | C27: dr. Dedeh Supantini, Sp.S., M.Pd.Ked. | D27: DT | E27: Lektor | F27: 01-01-2024 | G27: IVA | H27: S2 | I27: Sudah | J27: 12104100713749 | K27: NIDN | L27: 0406116501 | N27: 5438743644230063 | O27: Fakultas Kedokteran | P27: Program Pendidikan Profesi Dokter Fakultas Kedokteran | Q27: 24052 | R27: =DATEDIF(Q27,$Q$3,"y")&" Tahun"&" "&DATEDIF(Q27,$Q$3,"ym")&" Bulan" -> 60 Tahun 1 Bulan | S27: Wanita | T27: Katolik
A28: 24 | B28: 110626 | C28: dr. Adrian Suhendra, Sp.PK., M.Kes. | D28: DT | E28: Asisten Ahli | F28: 01-10-2016 | G28: IIID | H28: S2 | I28: Sudah | J28: 19104100706607 | K28: NIDN | L28: 0428117604 | N28: 3460754655130103 | O28: Fakultas Kedokteran | P28: Program Sarjana Pendidikan Dokter Fakultas Kedokteran | Q28: 28092 | R28: =DATEDIF(Q28,$Q$3,"y")&" Tahun"&" "&DATEDIF(Q28,$Q$3,"ym")&" Bulan" -> 49 Tahun 1 Bulan | S28: Pria | T28: Kristen
A29: 25 | B29: 110630 | C29: Dr. dr. Fen Tih, M.Kes. | D29: DT | E29: Lektor | F29: 01-05-2017 | G29: IIID | H29: S3 | I29: Sudah | J29: 12104100713971 | K29: NIDN | L29: 0424097604 | N29: 1256754655230113 | O29: Fakultas Kedokteran | P29: Program Sarjana Pendidikan Dokter Fakultas Kedokteran | Q29: 28027 | R29: =DATEDIF(Q29,$Q$3,"y")&" Tahun"&" "&DATEDIF(Q29,$Q$3,"ym")&" Bulan" -> 49 Tahun 3 Bulan | S29: Wanita | T29: Kristen
A30: 26 | B30: 110631 | C30: dr. Dian Puspitasari, Sp.KK. | D30: DT | E30: Lektor | F30: 01-11-2025 | G30: IVA | H30: Sp.1 | I30: Sudah | J30: 18104100709217 | K30: NIDN | L30: 0408086102 | N30: 8140739640230103 | O30: Fakultas Kedokteran | P30: Program Pendidikan Profesi Dokter Fakultas Kedokteran | Q30: 22501 | R30: =DATEDIF(Q30,$Q$3,"y")&" Tahun"&" "&DATEDIF(Q30,$Q$3,"ym")&" Bulan" -> 64 Tahun 4 Bulan | S30: Wanita | T30: Islam
A31: 27 | B31: 110634 | C31: dr.H. Edwin Setiabudi, Sp.PD., KKV. | D31: DT | E31: Asisten Ahli | F31: 01-07-2022 | G31: IVA | H31: Sp.2 | I31: Belum | K31: NIDN | L31: 0412026902 | N31: 3544747648130152 | O31: Fakultas Kedokteran | P31: Program Pendidikan Profesi Dokter Fakultas Kedokteran | Q31: 25246 | R31: =DATEDIF(Q31,$Q$3,"y")&" Tahun"&" "&DATEDIF(Q31,$Q$3,"ym")&" Bulan" -> 56 Tahun 10 Bulan | S31: Pria | T31: Islam
A32: 28 | B32: 110660 | C32: dr. Harry Tribowo Hadi, Sp.J. | D32: DT | E32: Asisten Ahli | F32: 01-06-2024 | G32: IIID | H32: Sp.1 | I32: Belum | K32: NIDN | L32: 0423026102 | N32: 0555739640130052 | O32: Fakultas Kedokteran | P32: Program Pendidikan Profesi Dokter Fakultas Kedokteran | Q32: 22335 | R32: =DATEDIF(Q32,$Q$3,"y")&" Tahun"&" "&DATEDIF(Q32,$Q$3,"ym")&" Bulan" -> 64 Tahun 10 Bulan | S32: Pria | T32: Kristen
A33: 29 | B33: 110746 | C33: Dr.dr. Aloysius Suryawan, Sp.OG.(K). | D33: DT | E33: Lektor | F33: 01-10-2022 | G33: IIID | H33: S3 | I33: Sudah | J33: 20104100701747 | K33: NIDN | L33: 0422066402 | N33: 6954742643130062 | O33: Fakultas Kedokteran | P33: Program Pendidikan Profesi Dokter Fakultas Kedokteran | Q33: 23550 | R33: =DATEDIF(Q33,$Q$3,"y")&" Tahun"&" "&DATEDIF(Q33,$Q$3,"ym")&" Bulan" -> 61 Tahun 6 Bulan | S33: Pria | T33: Katolik
A34: 30 | B34: 110748 | C34: dr. Frecillia Regina, Sp.A. | D34: DT | E34: Asisten Ahli | F34: 01-05-2022 | G34: IIIC | H34: Sp.1 | I34: Sudah | K34: NIDN | L34: 0413028002 | N34: 7555758659230122 | O34: Fakultas Kedokteran | P34: Program Pendidikan Profesi Dokter Fakultas Kedokteran | Q34: 29274 | R34: =DATEDIF(Q34,$Q$3,"y")&" Tahun"&" "&DATEDIF(Q34,$Q$3,"ym")&" Bulan" -> 45 Tahun 10 Bulan | S34: Wanita | T34: Kristen
A35: 31 | B35: 110749 | C35: Dr. dr. Yenni Limyati, S.Sn., M.Kes., Sp.KFR. | D35: DT | E35: Lektor | F35: 01-12-2020 | G35: IIID | H35: S3 | I35: Sudah | J35: 15104100709006 | K35: NIDN | L35: 0410067607 | N35: 3942754655230192 | O35: Fakultas Kedokteran | P35: Program Sarjana Pendidikan Dokter Fakultas Kedokteran | Q35: 27921 | R35: =DATEDIF(Q35,$Q$3,"y")&" Tahun"&" "&DATEDIF(Q35,$Q$3,"ym")&" Bulan" -> 49 Tahun 6 Bulan | S35: Wanita | T35: Kristen
A36: 32 | B36: 110832 | C36: dr. Kwee, Limdawati, Sp.PD. | D36: DT | E36: Asisten Ahli | F36: 01-11-2021 | G36: IIIB | H36: Sp.1 | I36: Belum | K36: NIDN | L36: 0423028002 | N36: 8555758659230122 | O36: Fakultas Kedokteran | P36: Program Pendidikan Profesi Dokter Fakultas Kedokteran | Q36: 29274 | R36: =DATEDIF(Q36,$Q$3,"y")&" Tahun"&" "&DATEDIF(Q36,$Q$3,"ym")&" Bulan" -> 45 Tahun 10 Bulan | S36: Wanita | T36: Kristen
A37: 33 | B37: 110835 | C37: dr. Dani, M.Kes. | D37: DT | E37: Asisten Ahli | F37: 01-05-2018 | G37: IIIC | H37: S2 | I37: Sudah | J37: 19104100701410 | K37: NIDN | L37: 0425067402 | N37: 0057752653130113 | O37: Fakultas Kedokteran | P37: Program Sarjana Pendidikan Dokter Fakultas Kedokteran | Q37: 27235 | R37: =DATEDIF(Q37,$Q$3,"y")&" Tahun"&" "&DATEDIF(Q37,$Q$3,"ym")&" Bulan" -> 51 Tahun 5 Bulan | S37: Pria | T37: Kristen
A38: 34 | B38: 110838 | C38: dr. Yenny Noor, Sp.M., M.M.R.S | D38: DT | E38: Asisten Ahli | F38: 01-06-2024 | G38: IIIC | H38: S2 | I38: Belum | K38: NIDN | L38: 0412057006 | N38: 7844748649230162 | O38: Fakultas Kedokteran | P38: Program Pendidikan Profesi Dokter Fakultas Kedokteran | Q38: 25700 | R38: =DATEDIF(Q38,$Q$3,"y")&" Tahun"&" "&DATEDIF(Q38,$Q$3,"ym")&" Bulan" -> 55 Tahun 7 Bulan | S38: Wanita | T38: Katolik
A39: 35 | B39: 110844 | C39: Dr. dr. Rita Tjokropranoto, M.Sc. | D39: DT | E39: Lektor | F39: 01-08-2012 | G39: IIIC | H39: S3 | I39: Sudah | J39: 12104100714675 | K39: NIDN | L39: 0413056904 | N39: 0845747648230102 | O39: Fakultas Kedokteran | P39: Program Sarjana Pendidikan Dokter Fakultas Kedokteran | Q39: 25336 | R39: =DATEDIF(Q39,$Q$3,"y")&" Tahun"&" "&DATEDIF(Q39,$Q$3,"ym")&" Bulan" -> 56 Tahun 7 Bulan | S39: Wanita | T39: Katolik
A40: 36 | B40: 110874 | C40: dr. Sylvia, Sp.S. | D40: DT | E40: Asisten Ahli | F40: 01-06-2024 | G40: IIIB | H40: Sp.1 | I40: Belum | K40: NIDN | L40: 0409117101 | N40: 7441749650230123 | O40: Fakultas Kedokteran | P40: Program Pendidikan Profesi Dokter Fakultas Kedokteran | Q40: 26246 | R40: =DATEDIF(Q40,$Q$3,"y")&" Tahun"&" "&DATEDIF(Q40,$Q$3,"ym")&" Bulan" -> 54 Tahun 1 Bulan | S40: Wanita | T40: Katolik
A41: 37 | B41: 110958 | C41: dr. Selonan Susang Obeng, Sp.B-KBD., FInaCS. | D41: DT | E41: Asisten Ahli | F41: 01-06-2024 | G41: IVA | H41: Sp.2 | I41: Belum | K41: NIDN | L41: 0407076302 | N41: 8039741642130133 | O41: Fakultas Kedokteran | P41: Program Pendidikan Profesi Dokter Fakultas Kedokteran | Q41: 23199 | R41: =DATEDIF(Q41,$Q$3,"y")&" Tahun"&" "&DATEDIF(Q41,$Q$3,"ym")&" Bulan" -> 62 Tahun 5 Bulan | S41: Pria | T41: Kristen
A42: 38 | B42: 110966 | C42: dr. Wenny Waty, M.Pd.Ked. | D42: DT | E42: Lektor | F42: 01-11-2025 | G42: IIIC | H42: S2 | I42: Sudah | J42: 14104100701028 | K42: NIDN | L42: 0416127403 | N42: 8548752653230093 | O42: Fakultas Kedokteran | P42: Program Sarjana Pendidikan Dokter Fakultas Kedokteran | Q42: 27379 | R42: =DATEDIF(Q42,$Q$3,"y")&" Tahun"&" "&DATEDIF(Q42,$Q$3,"ym")&" Bulan" -> 51 Tahun 0 Bulan | S42: Wanita | T42: Kristen
A43: 39 | B43: 110970 | C43: dr. Mochamad Heddy Herdiman, M.Kes. | D43: DT | E43: Asisten Ahli | F43: 01-05-2018 | G43: IIIC | H43: S2 | I43: Sudah | J43: 19104100701446 | K43: NIDN | L43: 0401068103 | N43: 9933759660131202 | O43: Fakultas Kedokteran | P43: Program Sarjana Pendidikan Dokter Fakultas Kedokteran | Q43: 29738 | R43: =DATEDIF(Q43,$Q$3,"y")&" Tahun"&" "&DATEDIF(Q43,$Q$3,"ym")&" Bulan" -> 44 Tahun 7 Bulan | S43: Pria | T43: Kristen
A44: 40 | B44: 110971 | C44: Dr. dr. Theresia Monica Rahardjo, Sp.An., KIC., M.Si., MM., MARS. | D44: DT | E44: Lektor Kepala | F44: 01-09-2024 | G44: IVA | H44: S3 | I44: Sudah | J44: 21104100705455 | K44: NIDN | L44: 0408087106 | N44: 9140749650230153 | O44: Fakultas Kedokteran | P44: Program Pendidikan Profesi Dokter Fakultas Kedokteran | Q44: 26153 | R44: =DATEDIF(Q44,$Q$3,"y")&" Tahun"&" "&DATEDIF(Q44,$Q$3,"ym")&" Bulan" -> 54 Tahun 4 Bulan | S44: Wanita | T44: Katolik
A45: 41 | B45: 111050 | C45: dr. Roro Wahyudianingsih, Sp.PA. | D45: DT | E45: Lektor | F45: 01-11-2025 | G45: IIIC | H45: Sp.1 | I45: Sudah | K45: NIDN | L45: 0428048201 | N45: 9760760661237012 | O45: Fakultas Kedokteran | P45: Program Sarjana Pendidikan Dokter Fakultas Kedokteran | Q45: 30069 | R45: =DATEDIF(Q45,$Q$3,"y")&" Tahun"&" "&DATEDIF(Q45,$Q$3,"ym")&" Bulan" -> 43 Tahun 8 Bulan | S45: Wanita | T45: Kristen
A46: 42 | B46: 111052 | C46: dr. Stella Tinia Hasianna, M.Kes., IBCLC., CIMI. | D46: DT | E46: Lektor | F46: 01-06-2023 | G46: IIID | H46: S2 | I46: Sudah | J46: 15104100708130 | K46: NIDN | L46: 0406118105 | N46: 6438759660230163 | O46: Fakultas Kedokteran | P46: Program Sarjana Pendidikan Dokter Fakultas Kedokteran | Q46: 29896 | R46: =DATEDIF(Q46,$Q$3,"y")&" Tahun"&" "&DATEDIF(Q46,$Q$3,"ym")&" Bulan" -> 44 Tahun 1 Bulan | S46: Wanita | T46: Islam
A47: 43 | B47: 111054 | C47: dr. Decky Gunawan, M.Kes., AIFO. | D47: DT | E47: Lektor | F47: 01-05-2025 | G47: IIIC | H47: S2 | I47: Sudah | J47: 15104100706649 | K47: NIDN | L47: 0414128102 | N47: 7546759660137003 | O47: Fakultas Kedokteran | P47: Program Sarjana Pendidikan Dokter Fakultas Kedokteran | Q47: 29934 | R47: =DATEDIF(Q47,$Q$3,"y")&" Tahun"&" "&DATEDIF(Q47,$Q$3,"ym")&" Bulan" -> 44 Tahun 0 Bulan | S47: Pria | T47: Kristen
A48: 44 | B48: 111057 | C48: Dr. dr. Rimonta Febby Gunanegara, Sp.OG., M.Pd.Ked. | D48: DT | E48: Lektor | F48: 01-06-2025 | G48: IIIC | H48: S3 | I48: Sudah | J48: 20104100702355 | K48: NIDN | L48: 0408107601 | N48: 8340754655130113 | O48: Fakultas Kedokteran | P48: Program Pendidikan Profesi Dokter Fakultas Kedokteran | Q48: 28041 | R48: =DATEDIF(Q48,$Q$3,"y")&" Tahun"&" "&DATEDIF(Q48,$Q$3,"ym")&" Bulan" -> 49 Tahun 2 Bulan | S48: Pria | T48: Islam
A49: 45 | B49: 111066 | C49: Dr. dr. Hendra Subroto, Sp.PK. | D49: DT | E49: Asisten Ahli | F49: 01-08-2021 | G49: IIIB | H49: S3 | I49: Sudah | K49: NIDN | L49: 0409108204 | N49: 1341760661130203 | O49: Fakultas Kedokteran | P49: Program Sarjana Pendidikan Dokter Fakultas Kedokteran | Q49: 30233 | R49: =DATEDIF(Q49,$Q$3,"y")&" Tahun"&" "&DATEDIF(Q49,$Q$3,"ym")&" Bulan" -> 43 Tahun 2 Bulan | S49: Pria | T49: Kristen
A50: 46 | B50: 111104 | C50: dr. Cherry Azaria Darmaji, M.Kes. | D50: DT | E50: Asisten Ahli | F50: 01-05-2017 | G50: IIIB | H50: S2 | I50: Sudah | J50: 20104100702963 | K50: NIDN | L50: 0404118202 | N50: 2436760661230193 | O50: Fakultas Kedokteran | P50: Program Sarjana Pendidikan Dokter Fakultas Kedokteran | Q50: 30259 | R50: =DATEDIF(Q50,$Q$3,"y")&" Tahun"&" "&DATEDIF(Q50,$Q$3,"ym")&" Bulan" -> 43 Tahun 1 Bulan | S50: Wanita | T50: Kristen
A51: 47 | B51: 111122 | C51: Prof. Dr. Wahjoe Widowati, M.Si. | D51: DT | E51: Guru Besar | F51: 01-06-2023 | G51: IVD | H51: S3 | I51: Sudah | J51: 17104100707258 | K51: NIDN | L51: 0417046002 | N51: 8749738639230062 | O51: Fakultas Kedokteran | P51: Program Magister Kesehatan Penuaan Kulit dan Estetika | Q51: 22023 | R51: =DATEDIF(Q51,$Q$3,"y")&" Tahun"&" "&DATEDIF(Q51,$Q$3,"ym")&" Bulan" -> 65 Tahun 8 Bulan | S51: Wanita | T51: Kristen
A52: 48 | B52: 111125 | C52: dr. Rizna Tyrani Rumanti, M.Kes., Sp.OG. | D52: DT | E52: Lektor | F52: 01-12-2024 | G52: IIIC | H52: S2 | I52: Sudah | J52: 16104100700283 | K52: NIDN | L52: 0424128301 | N52: 9556761662230183 | O52: Fakultas Kedokteran | P52: Program Sarjana Pendidikan Dokter Fakultas Kedokteran | Q52: 30674 | R52: =DATEDIF(Q52,$Q$3,"y")&" Tahun"&" "&DATEDIF(Q52,$Q$3,"ym")&" Bulan" -> 42 Tahun 0 Bulan | S52: Wanita | T52: Kristen
A53: 49 | B53: 111177 | C53: dr. Mariska Elisabeth, M.Kes. | D53: DT | E53: Asisten Ahli | F53: 01-12-2022 | G53: IIIB | H53: S2 | I53: Belum | K53: NIDN | L53: 0413048405 | N53: 5745762663230282 | O53: Fakultas Kedokteran | P53: Program Sarjana Pendidikan Dokter Fakultas Kedokteran | Q53: 30785 | R53: =DATEDIF(Q53,$Q$3,"y")&" Tahun"&" "&DATEDIF(Q53,$Q$3,"ym")&" Bulan" -> 41 Tahun 8 Bulan | S53: Wanita | T53: Katolik
A54: 50 | B54: 111178 | C54: dr. Teresa Lucretia Maria Astari, M.Kes. | D54: DT | E54: Asisten Ahli | F54: 01-03-2017 | G54: IIIB | H54: S2 | I54: Sudah | J54: 19104100702400 | K54: NIDN | L54: 0408108205 | N54: 3340760661230193 | O54: Fakultas Kedokteran | P54: Program Sarjana Pendidikan Dokter Fakultas Kedokteran | Q54: 30232 | R54: =DATEDIF(Q54,$Q$3,"y")&" Tahun"&" "&DATEDIF(Q54,$Q$3,"ym")&" Bulan" -> 43 Tahun 2 Bulan | S54: Wanita | T54: Katolik
A55: 51 | B55: 111181 | C55: dr. Fenny, Sp.PK., M.Kes. | D55: DT | E55: Lektor | F55: 01-11-2025 | G55: IIIC | H55: S2 | I55: Sudah | J55: 16104100700370 | K55: NIDN | L55: 0408027903 | N55: 2540757658230122 | O55: Fakultas Kedokteran | P55: Program Sarjana Pendidikan Dokter Fakultas Kedokteran | Q55: 28894 | R55: =DATEDIF(Q55,$Q$3,"y")&" Tahun"&" "&DATEDIF(Q55,$Q$3,"ym")&" Bulan" -> 46 Tahun 10 Bulan | S55: Wanita | T55: Kristen
A56: 52 | B56: 111193 | C56: dr. Abram Pratama, Sp.PD. | D56: DT | E56: Asisten Ahli | F56: 01-11-2023 | G56: IIIB | H56: Sp.1 | I56: Belum | K56: NIDN | L56: 0412128405 | N56: 6544762663130353 | O56: Fakultas Kedokteran | P56: Program Pendidikan Profesi Dokter Fakultas Kedokteran | Q56: 31028 | R56: =DATEDIF(Q56,$Q$3,"y")&" Tahun"&" "&DATEDIF(Q56,$Q$3,"ym")&" Bulan" -> 41 Tahun 0 Bulan | S56: Pria | T56: Kristen
A57: 53 | B57: 111200 | C57: dr. Grace Puspasari, M.Gizi. | D57: DT | E57: Asisten Ahli | F57: 01-03-2018 | G57: IIIC | H57: S2 | I57: Sudah | J57: 22104100704051 | K57: NIDN | L57: 0402098309 | N57: 1234761662237003 | O57: Fakultas Kedokteran | P57: Program Sarjana Pendidikan Dokter Fakultas Kedokteran | Q57: 30561 | R57: =DATEDIF(Q57,$Q$3,"y")&" Tahun"&" "&DATEDIF(Q57,$Q$3,"ym")&" Bulan" -> 42 Tahun 3 Bulan | S57: Wanita | T57: Katolik
A58: 54 | B58: 111203 | C58: Dr.dr. Julia Windi Gunadi, M.Kes. | D58: DT | E58: Lektor Kepala | F58: 01-06-2023 | G58: IVA | H58: S3 | I58: Sudah | J58: 20104100701791 | K58: NIDN | L58: 0404078005 | N58: 8036758659230163 | O58: Fakultas Kedokteran | P58: Program Magister Kesehatan Penuaan Kulit dan Estetika | Q58: 29406 | R58: =DATEDIF(Q58,$Q$3,"y")&" Tahun"&" "&DATEDIF(Q58,$Q$3,"ym")&" Bulan" -> 45 Tahun 5 Bulan | S58: Wanita | T58: Kristen
A59: 55 | B59: 111204 | C59: dr. Ludovicus Edwinanto, M.Kes. | D59: DT | E59: Asisten Ahli | F59: 01-02-2020 | G59: IIIB | H59: S2 | I59: Sudah | J59: 24104100706773 | K59: NIDN | L59: 0425017704 | N59: 3457755656130102 | O59: Fakultas Kedokteran | P59: Program Sarjana Pendidikan Dokter Fakultas Kedokteran | Q59: 28150 | R59: =DATEDIF(Q59,$Q$3,"y")&" Tahun"&" "&DATEDIF(Q59,$Q$3,"ym")&" Bulan" -> 48 Tahun 11 Bulan | S59: Pria | T59: Katolik
A60: 56 | B60: 111205 | C60: Dr. dr. Cindra Paskaria, M.K.M. | D60: DT | E60: Lektor | F60: 01-04-2023 | G60: IIID | H60: S3 | I60: Sudah | J60: 17104100706240 | K60: NIDN | L60: 0406048506 | N60: 6738763664230292 | O60: Fakultas Kedokteran | P60: Program Sarjana Pendidikan Dokter Fakultas Kedokteran | Q60: 31143 | R60: =DATEDIF(Q60,$Q$3,"y")&" Tahun"&" "&DATEDIF(Q60,$Q$3,"ym")&" Bulan" -> 40 Tahun 8 Bulan | S60: Wanita | T60: Kristen
A61: 57 | B61: 111217 | C61: dr. Imelda, M.Kes. | D61: DT | E61: Asisten Ahli | F61: 01-01-2020 | G61: IIIB | H61: S2 | I61: Sudah | J61: 22104100701374 | K61: NIDN | L61: 0412038302 | N61: 2644761662230272 | O61: Fakultas Kedokteran | P61: Program Sarjana Pendidikan Dokter Fakultas Kedokteran | Q61: 30387 | R61: =DATEDIF(Q61,$Q$3,"y")&" Tahun"&" "&DATEDIF(Q61,$Q$3,"ym")&" Bulan" -> 42 Tahun 9 Bulan | S61: Wanita | T61: Kristen
A62: 58 | B62: 111239 | C62: dr. Peter Nugraha, Sp.KK., M.H. | D62: DT | E62: Asisten Ahli | F62: 00-00-0000 | G62: IIIB | H62: S2 | I62: Belum | K62: NIDN | L62: 0415128004 | N62: 8547758659130223 | O62: Fakultas Kedokteran | P62: Program Pendidikan Profesi Dokter Fakultas Kedokteran | Q62: 29570 | R62: =DATEDIF(Q62,$Q$3,"y")&" Tahun"&" "&DATEDIF(Q62,$Q$3,"ym")&" Bulan" -> 45 Tahun 0 Bulan | S62: Pria | T62: Kristen
A63: 59 | B63: 111240 | C63: dr. Raden Amir Hamzah, M.Kes., Sp.KK. | D63: DT | E63: Asisten Ahli | F63: 01-12-2021 | G63: IIIB | H63: S2 | I63: Sudah | K63: NIDN | L63: 0411097504 | N63: 9243753654130103 | O63: Fakultas Kedokteran | P63: Program Pendidikan Profesi Dokter Fakultas Kedokteran | Q63: 27648 | R63: =DATEDIF(Q63,$Q$3,"y")&" Tahun"&" "&DATEDIF(Q63,$Q$3,"ym")&" Bulan" -> 50 Tahun 3 Bulan | S63: Pria | T63: Islam
A64: 60 | B64: 111241 | C64: dr. Irna Permanasari Gani, Sp.KJ. | D64: DT | E64: Asisten Ahli | F64: 01-10-2023 | G64: IIIB | H64: Sp.1 | I64: Belum | K64: NIDN | L64: 0418038302 | N64: 0650761662230262 | O64: Fakultas Kedokteran | P64: Program Pendidikan Profesi Dokter Fakultas Kedokteran | Q64: 30393 | R64: =DATEDIF(Q64,$Q$3,"y")&" Tahun"&" "&DATEDIF(Q64,$Q$3,"ym")&" Bulan" -> 42 Tahun 9 Bulan | S64: Wanita | T64: Katolik
A65: 61 | B65: 111245 | C65: dr. Larissa, Sp.PK., MMRS. | D65: DT | E65: Asisten Ahli | F65: 01-05-2022 | G65: IIIB | H65: S2 | I65: Belum | K65: NIDN | L65: 0414118505 | N65: 6446763664237013 | O65: Fakultas Kedokteran | P65: Program Sarjana Pendidikan Dokter Fakultas Kedokteran | Q65: 31365 | R65: =DATEDIF(Q65,$Q$3,"y")&" Tahun"&" "&DATEDIF(Q65,$Q$3,"ym")&" Bulan" -> 40 Tahun 1 Bulan | S65: Wanita | T65: Kristen
A66: 62 | B66: 111250 | C66: dr. Desman Situmorang, Sp.A. | D66: DT | E66: Asisten Ahli | F66: 01-01-2022 | G66: IIIB | H66: Sp.1 | I66: Sudah | K66: NIDN | L66: 0429128403 | N66: 7561762663130163 | O66: Fakultas Kedokteran | P66: Program Pendidikan Profesi Dokter Fakultas Kedokteran | Q66: 31045 | R66: =DATEDIF(Q66,$Q$3,"y")&" Tahun"&" "&DATEDIF(Q66,$Q$3,"ym")&" Bulan" -> 41 Tahun 0 Bulan | S66: Pria | T66: Katolik
A67: 63 | B67: 111268 | C67: dr. The, Fransiska Eltania, M.Kes.A3M, Sp.K.F.R. | D67: DT | E67: Asisten Ahli | F67: 01-12-2024 | G67: IIIB | H67: S2 | I67: Belum | K67: NIDN | L67: 0422068603 | N67: 7954764665230222 | O67: Fakultas Kedokteran | P67: Program Sarjana Pendidikan Dokter Fakultas Kedokteran | Q67: 31585 | R67: =DATEDIF(Q67,$Q$3,"y")&" Tahun"&" "&DATEDIF(Q67,$Q$3,"ym")&" Bulan" -> 39 Tahun 6 Bulan | S67: Wanita | T67: Kristen
A68: 64 | B68: 111270 | C68: dr. Nathanael Andry Mianto, M.Sc., Sp.P. | D68: DT | E68: belum | F68: 00-00-0000 | G68: IIIB | H68: S2 | I68: Belum | K68: Belum | O68: Fakultas Kedokteran | P68: Program Pendidikan Profesi Dokter Fakultas Kedokteran | Q68: 33575 | R68: =DATEDIF(Q68,$Q$3,"y")&" Tahun"&" "&DATEDIF(Q68,$Q$3,"ym")&" Bulan" -> 34 Tahun 0 Bulan | S68: Pria | T68: Kristen
A69: 65 | B69: 111271 | C69: Dr. dr. Ardo Sanjaya, M.Kes., Pg.Cert., FHEA. | D69: DT | E69: Lektor | F69: 01-11-2023 | G69: IIIC | H69: S3 | I69: Belum | K69: NIDN | L69: 0428089303 | N69: 1160771672130363 | O69: Fakultas Kedokteran | P69: Program Sarjana Pendidikan Dokter Fakultas Kedokteran | Q69: 34209 | R69: =DATEDIF(Q69,$Q$3,"y")&" Tahun"&" "&DATEDIF(Q69,$Q$3,"ym")&" Bulan" -> 32 Tahun 4 Bulan | S69: Pria | T69: Katolik
A70: 66 | B70: 111272 | C70: dr. Shiela Stefani, M.Gizi., Sp.G.K. | D70: DT | E70: Lektor | F70: 01-04-2025 | G70: IIIC | H70: S2 | I70: Sudah | K70: NIDN | L70: 0420098904 | N70: 8252767668230323 | O70: Fakultas Kedokteran | P70: Program Sarjana Bioteknologi Fakultas Kedokteran | Q70: 32771 | R70: =DATEDIF(Q70,$Q$3,"y")&" Tahun"&" "&DATEDIF(Q70,$Q$3,"ym")&" Bulan" -> 36 Tahun 3 Bulan | S70: Wanita | T70: Budha
A71: 67 | B71: 111274 | C71: dr. Raden Ghita Sariwidyantry, M.Kes. | D71: DT | E71: Asisten Ahli | F71: 01-04-2024 | G71: IIIB | H71: S2 | I71: Belum | K71: NIDN | L71: 0420048806 | N71: 5752766667231082 | O71: Fakultas Kedokteran | P71: Program Sarjana Pendidikan Dokter Fakultas Kedokteran | Q71: 32253 | R71: =DATEDIF(Q71,$Q$3,"y")&" Tahun"&" "&DATEDIF(Q71,$Q$3,"ym")&" Bulan" -> 37 Tahun 8 Bulan | S71: Wanita | T71: Islam
A72: 68 | B72: 111275 | C72: dr. Dono Pranoto, Sp.B., M.Kes. | D72: DPK | E72: Asisten Ahli | F72: 01-12-2023 | G72: IIIB | H72: S2 | I72: Belum | K72: NIDK | M72: 8888190018 | N72: 6243752653130103 | O72: Fakultas Kedokteran | P72: Program Pendidikan Profesi Dokter Fakultas Kedokteran | Q72: 27283 | R72: =DATEDIF(Q72,$Q$3,"y")&" Tahun"&" "&DATEDIF(Q72,$Q$3,"ym")&" Bulan" -> 51 Tahun 3 Bulan | S72: Pria | T72: Katolik
A73: 69 | B73: 111276 | C73: dr. Ade Kurnia Surawijaya, Sp.KJ. | D73: DPK | E73: Asisten Ahli | F73: 01-03-2024 | G73: IIIB | H73: Sp.1 | I73: Belum | K73: NIDK | M73: 8876990019 | N73: 1546761662130202 | O73: Fakultas Kedokteran | P73: Program Pendidikan Profesi Dokter Fakultas Kedokteran | Q73: 30361 | R73: =DATEDIF(Q73,$Q$3,"y")&" Tahun"&" "&DATEDIF(Q73,$Q$3,"ym")&" Bulan" -> 42 Tahun 10 Bulan | S73: Pria | T73: Katolik
A74: 70 | B74: 111277 | C74: dr. Landry Miguna, Sp.B. | D74: DPK | E74: Asisten Ahli | F74: 01-05-2025 | G74: IIIB | H74: Sp.1 | I74: Belum | K74: NIDK | M74: 8890290019 | N74: 0460751652130083 | O74: Fakultas Kedokteran | P74: Program Pendidikan Profesi Dokter Fakultas Kedokteran | Q74: 26996 | R74: =DATEDIF(Q74,$Q$3,"y")&" Tahun"&" "&DATEDIF(Q74,$Q$3,"ym")&" Bulan" -> 52 Tahun 1 Bulan | S74: Pria | T74: Kristen
A75: 71 | B75: 111278 | C75: dr. Rokihyati, Sp.PD. | D75: DPK | E75: belum | F75: 00-00-0000 | G75: IIIB | H75: Sp.1 | I75: Belum | K75: NIDK | M75: 8814290019 | N75: 9554752653231042 | O75: Fakultas Kedokteran | P75: Program Pendidikan Profesi Dokter Fakultas Kedokteran | Q75: 27082 | R75: =DATEDIF(Q75,$Q$3,"y")&" Tahun"&" "&DATEDIF(Q75,$Q$3,"ym")&" Bulan" -> 51 Tahun 10 Bulan | S75: Wanita | T75: Katolik
A76: 72 | B76: 111279 | C76: dr. Dwiwahju Dian Indahwati, Sp.OG. | D76: DPK | E76: Asisten Ahli | F76: 01-07-2025 | G76: IIIB | H76: Sp.1 | I76: Belum | K76: NIDK | M76: 8883290019 | N76: 7247744645230103 | O76: Fakultas Kedokteran | P76: Program Pendidikan Profesi Dokter Fakultas Kedokteran | Q76: 24365 | R76: =DATEDIF(Q76,$Q$3,"y")&" Tahun"&" "&DATEDIF(Q76,$Q$3,"ym")&" Bulan" -> 59 Tahun 3 Bulan | S76: Wanita | T76: Islam
A77: 73 | B77: 111280 | C77: dr. Erik Dwikurnia Saiman, Sp.OG. | D77: DPK | E77: Asisten Ahli | F77: 01-10-2025 | G77: IIIB | H77: Sp.1 | I77: Belum | K77: NIDK | M77: 8898411019 | N77: 8137750651130183 | O77: Fakultas Kedokteran | P77: Program Pendidikan Profesi Dokter Fakultas Kedokteran | Q77: 26516 | R77: =DATEDIF(Q77,$Q$3,"y")&" Tahun"&" "&DATEDIF(Q77,$Q$3,"ym")&" Bulan" -> 53 Tahun 4 Bulan | S77: Pria | T77: Kristen
A78: 74 | B78: 111281 | C78: Demes Chornelia Martantiningtyas, S.Si., M.Sc. | D78: DT | E78: Asisten Ahli | F78: 01-12-2021 | G78: IIIB | H78: S2 | I78: Sudah | K78: NIDN | L78: 0401039003 | N78: 2633768669230312 | O78: Fakultas Kedokteran | P78: Program Sarjana Pendidikan Dokter Fakultas Kedokteran | Q78: 32933 | R78: =DATEDIF(Q78,$Q$3,"y")&" Tahun"&" "&DATEDIF(Q78,$Q$3,"ym")&" Bulan" -> 35 Tahun 10 Bulan | S78: Wanita | T78: Kristen
A79: 75 | B79: 111282 | C79: dr. Allen Albert Pelapelapon, M.Biomed. | D79: DT | E79: Asisten Ahli | F79: 01-10-2023 | G79: IIIB | H79: S2 | I79: Belum | K79: NIDN | L79: 0416088905 | N79: 4148767668130343 | O79: Fakultas Kedokteran | P79: Program Sarjana Pendidikan Dokter Fakultas Kedokteran | Q79: 32736 | R79: =DATEDIF(Q79,$Q$3,"y")&" Tahun"&" "&DATEDIF(Q79,$Q$3,"ym")&" Bulan" -> 36 Tahun 4 Bulan | S79: Pria | T79: Kristen
A80: 76 | B80: 111283 | C80: dr. Abraham Adiwidjaja, Sp.M., FIACLE | D80: DPK | E80: Asisten Ahli | F80: 01-06-2024 | G80: IIIB | H80: Sp.1 | I80: Belum | K80: NIDK | M80: 8844101019 | N80: 9340752653131123 | O80: Fakultas Kedokteran | P80: Program Pendidikan Profesi Dokter Fakultas Kedokteran | Q80: 27310 | R80: =DATEDIF(Q80,$Q$3,"y")&" Tahun"&" "&DATEDIF(Q80,$Q$3,"ym")&" Bulan" -> 51 Tahun 2 Bulan | S80: Pria | T80: Kristen
A81: 77 | B81: 111286 | C81: Susan Irawati, B.Biomed Sc., M.Biomed Sc. | D81: DT | E81: belum | F81: 00-00-0000 | G81: IIIB | H81: S2 | I81: Belum | K81: Belum | O81: Fakultas Kedokteran | P81: Program Sarjana Pendidikan Dokter Fakultas Kedokteran | Q81: 30466 | R81: =DATEDIF(Q81,$Q$3,"y")&" Tahun"&" "&DATEDIF(Q81,$Q$3,"ym")&" Bulan" -> 42 Tahun 7 Bulan | S81: Wanita | T81: Kristen
A82: 78 | B82: 111288 | C82: dr. Arief Budiono, Sp.OG. | D82: DPK | E82: belum | F82: 00-00-0000 | G82: IIIB | H82: Sp.1 | I82: Belum | K82: NIDK | M82: 8809901019 | N82: 5853744645130072 | O82: Fakultas Kedokteran | P82: Program Pendidikan Profesi Dokter Fakultas Kedokteran | Q82: 24248 | R82: =DATEDIF(Q82,$Q$3,"y")&" Tahun"&" "&DATEDIF(Q82,$Q$3,"ym")&" Bulan" -> 59 Tahun 7 Bulan | S82: Pria | T82: Katolik
A83: 79 | B83: 111290 | C83: dr. Cindy Lufika, Sp.G.K. | D83: DPK | E83: belum | F83: 00-00-0000 | G83: IIIB | H83: Sp.1 | I83: Belum | K83: Belum | O83: Fakultas Kedokteran | P83: Program Sarjana Pendidikan Dokter Fakultas Kedokteran | Q83: 34288 | R83: =DATEDIF(Q83,$Q$3,"y")&" Tahun"&" "&DATEDIF(Q83,$Q$3,"ym")&" Bulan" -> 32 Tahun 1 Bulan | S83: Wanita | T83: Budha
A84: 80 | B84: 111291 | C84: dr. Timothy Imanuel Maranatha | D84: CDTSL | E84: belum | F84: 00-00-0000 | G84: IIIA | H84: S1 | I84: Belum | K84: Belum | O84: Fakultas Kedokteran | P84: Program Sarjana Pendidikan Dokter Fakultas Kedokteran | Q84: 34272 | R84: =DATEDIF(Q84,$Q$3,"y")&" Tahun"&" "&DATEDIF(Q84,$Q$3,"ym")&" Bulan" -> 32 Tahun 2 Bulan | S84: Pria | T84: Kristen
A85: 81 | B85: 111292 | C85: dr. Hary Gustian, Sp.PD., FINASIM | D85: DPK | E85: Asisten Ahli | F85: 01-11-2022 | G85: IIIB | H85: Sp.1 | I85: Belum | K85: NIDK | M85: 8816801019 | N85: 8151745646130073 | O85: Fakultas Kedokteran | P85: Program Pendidikan Profesi Dokter Fakultas Kedokteran | Q85: 24703 | R85: =DATEDIF(Q85,$Q$3,"y")&" Tahun"&" "&DATEDIF(Q85,$Q$3,"ym")&" Bulan" -> 58 Tahun 4 Bulan | S85: Pria | T85: Islam
A86: 82 | B86: 111293 | C86: dr. Fari Ananda Daud, M.Kes., Sp.THT-KL | D86: DPK | E86: Asisten Ahli | F86: 01-11-2023 | G86: IIIB | H86: S2 | I86: Belum | K86: NIDK | M86: 8892211019 | N86: 2456753654130072 | O86: Fakultas Kedokteran | P86: Program Pendidikan Profesi Dokter Fakultas Kedokteran | Q86: 27418 | R86: =DATEDIF(Q86,$Q$3,"y")&" Tahun"&" "&DATEDIF(Q86,$Q$3,"ym")&" Bulan" -> 50 Tahun 11 Bulan | S86: Pria | T86: Islam
A87: 83 | B87: 111294 | C87: dr. Andri Octavallen, Sp.EM | D87: DPK | E87: Asisten Ahli | F87: 01-03-2024 | G87: IIIB | H87: Sp.1 | I87: Belum | K87: NIDK | M87: 8823801019 | N87: 4334753654130083 | O87: Fakultas Kedokteran | P87: Program Pendidikan Profesi Dokter Fakultas Kedokteran | Q87: 27669 | R87: =DATEDIF(Q87,$Q$3,"y")&" Tahun"&" "&DATEDIF(Q87,$Q$3,"ym")&" Bulan" -> 50 Tahun 2 Bulan | S87: Pria | T87: Kristen
A88: 84 | B88: 111295 | C88: dr. Ian Adrianto | D88: CDTSL | E88: belum | F88: 00-00-0000 | G88: IIIA | H88: S1 | I88: Belum | K88: Belum | O88: Fakultas Kedokteran | P88: Program Sarjana Pendidikan Dokter Fakultas Kedokteran | Q88: 34705 | R88: =DATEDIF(Q88,$Q$3,"y")&" Tahun"&" "&DATEDIF(Q88,$Q$3,"ym")&" Bulan" -> 30 Tahun 11 Bulan | S88: Pria | T88: Katolik
A89: 85 | B89: 111296 | C89: dr. Hiro Salomo Mangape, Sp.THT-KL. | D89: DT | E89: Asisten Ahli | F89: 01-06-2024 | G89: IIIB | H89: Sp.1 | I89: Belum | K89: NIDN | L89: 0425088006 | N89: 9157758659130163 | O89: Fakultas Kedokteran | P89: Program Pendidikan Profesi Dokter Fakultas Kedokteran | Q89: 29458 | R89: =DATEDIF(Q89,$Q$3,"y")&" Tahun"&" "&DATEDIF(Q89,$Q$3,"ym")&" Bulan" -> 45 Tahun 4 Bulan | S89: Pria | T89: Kristen
A90: 86 | B90: 111297 | C90: dr. Hoo Yumilia, Sp.PD K-EMD FINASIM | D90: DPK | E90: Asisten Ahli | F90: 01-09-2022 | G90: IIIC | H90: Sp.2 | I90: Sudah | K90: NIDK | M90: 8820111019 | N90: 1955743644230062 | O90: Fakultas Kedokteran | P90: Program Pendidikan Profesi Dokter Fakultas Kedokteran | Q90: 23916 | R90: =DATEDIF(Q90,$Q$3,"y")&" Tahun"&" "&DATEDIF(Q90,$Q$3,"ym")&" Bulan" -> 60 Tahun 6 Bulan | S90: Wanita | T90: Kristen
A91: 87 | B91: 111299 | C91: dr. Kevin Jonathan Pradipta, MHPE. | D91: DPK | E91: belum | F91: 00-00-0000 | G91: IIIB | H91: S2 | I91: Belum | K91: Belum | O91: Fakultas Kedokteran | P91: Program Sarjana Pendidikan Dokter Fakultas Kedokteran | Q91: 33049 | R91: =DATEDIF(Q91,$Q$3,"y")&" Tahun"&" "&DATEDIF(Q91,$Q$3,"ym")&" Bulan" -> 35 Tahun 6 Bulan | S91: Pria | T91: Kristen
A92: 88 | B92: 111302 | C92: dr. Jefferson Nicklaus | D92: CDTSL | E92: belum | F92: 00-00-0000 | G92: IIIA | H92: S1 | I92: Belum | K92: Belum | O92: Fakultas Kedokteran | P92: Program Sarjana Pendidikan Dokter Fakultas Kedokteran | Q92: 33587 | R92: =DATEDIF(Q92,$Q$3,"y")&" Tahun"&" "&DATEDIF(Q92,$Q$3,"ym")&" Bulan" -> 34 Tahun 0 Bulan | S92: Pria | T92: Katolik
A93: 89 | B93: 111303 | C93: dr. Wawan Kustiawan Jogasuria, Sp.R., M.Kes., DFM. | D93: DPK | E93: belum | F93: 00-00-0000 | G93: IIIB | H93: S2 | I93: Belum | K93: NIDK | M93: 8944250022 | N93: 8958738639130072 | O93: Fakultas Kedokteran | P93: Program Pendidikan Profesi Dokter Fakultas Kedokteran | Q93: 22093 | R93: =DATEDIF(Q93,$Q$3,"y")&" Tahun"&" "&DATEDIF(Q93,$Q$3,"ym")&" Bulan" -> 65 Tahun 6 Bulan | S93: Pria | T93: Kristen
A94: 90 | B94: 111304 | C94: dr. Justin Ginting, Sp.Rad. | D94: DPK | E94: Asisten Ahli | F94: 01-10-2025 | G94: IIIB | H94: Sp.1 | I94: Belum | K94: NIDK | M94: 8976310021 | N94: 6156739640130043 | O94: Fakultas Kedokteran | P94: Program Pendidikan Profesi Dokter Fakultas Kedokteran | Q94: 22517 | R94: =DATEDIF(Q94,$Q$3,"y")&" Tahun"&" "&DATEDIF(Q94,$Q$3,"ym")&" Bulan" -> 64 Tahun 4 Bulan | S94: Pria | T94: Katolik
A95: 91 | B95: 111305 | C95: Prof. Dr. Apt. Andreanus Andaja Soemardji, DEA | D95: DPK | E95: Guru Besar | F95: 01-07-2005 | G95: IVE | H95: S3 | I95: Belum | K95: NIDK | M95: 8919830022 | N95: 4359728629130013 | O95: Fakultas Kedokteran | P95: Program Sarjana Pendidikan Dokter Fakultas Kedokteran | Q95: 18563 | R95: =DATEDIF(Q95,$Q$3,"y")&" Tahun"&" "&DATEDIF(Q95,$Q$3,"ym")&" Bulan" -> 75 Tahun 2 Bulan | S95: Pria | T95: Katolik
A96: 92 | B96: 111306 | C96: dr. Anton Sumarpo, Sp.P.K., Ph.D. | D96: DT | E96: Lektor | F96: 01-04-2024 | G96: IIIC | H96: S3 | I96: Belum | K96: NIDN | L96: 0415078606 | N96: 4047764665137003 | O96: Fakultas Kedokteran | P96: Program Sarjana Bioteknologi Fakultas Kedokteran | Q96: 31608 | R96: =DATEDIF(Q96,$Q$3,"y")&" Tahun"&" "&DATEDIF(Q96,$Q$3,"ym")&" Bulan" -> 39 Tahun 5 Bulan | S96: Pria | T96: Katolik
A97: 93 | B97: 111307 | C97: dr. Noveline Sagita, Sp.S. | D97: DPK | E97: Asisten Ahli | F97: 01-06-2024 | G97: IIIB | H97: Sp.1 | I97: Belum | K97: NIDK | M97: 8905630021 | N97: 5460761662230193 | O97: Fakultas Kedokteran | P97: Program Pendidikan Profesi Dokter Fakultas Kedokteran | Q97: 30648 | R97: =DATEDIF(Q97,$Q$3,"y")&" Tahun"&" "&DATEDIF(Q97,$Q$3,"ym")&" Bulan" -> 42 Tahun 1 Bulan | S97: Wanita | T97: Katolik
A98: 94 | B98: 111308 | C98: dr. Joseph Rusli, Sp. An-TI., FCTA. | D98: DPK | E98: Asisten Ahli | F98: 01-10-2025 | G98: IIIB | H98: Sp.1 | I98: Belum | K98: NIDK | M98: 8975630021 | N98: 7454748649130062 | O98: Fakultas Kedokteran | P98: Program Pendidikan Profesi Dokter Fakultas Kedokteran | Q98: 25590 | R98: =DATEDIF(Q98,$Q$3,"y")&" Tahun"&" "&DATEDIF(Q98,$Q$3,"ym")&" Bulan" -> 55 Tahun 11 Bulan | S98: Pria | T98: Kristen
A99: 95 | B99: 111309 | C99: dr. Elizabeth, M.Biomed. | D99: DT | E99: belum | F99: 00-00-0000 | G99: IIIB | H99: S2 | I99: Belum | K99: Belum | O99: Fakultas Kedokteran | P99: Program Sarjana Pendidikan Dokter Fakultas Kedokteran | Q99: 34946 | R99: =DATEDIF(Q99,$Q$3,"y")&" Tahun"&" "&DATEDIF(Q99,$Q$3,"ym")&" Bulan" -> 30 Tahun 3 Bulan | S99: Wanita | T99: Kristen
A100: 96 | B100: 111310 | C100: dr. Yohanes Rudijanto, Sp.An., KMN. | D100: DPK | E100: Asisten Ahli | F100: 01-11-2025 | G100: IIIC | H100: Sp.1 | I100: Belum | K100: NIDK | M100: 8905750022 | N100: 7560743644130082 | O100: Fakultas Kedokteran | P100: Program Pendidikan Profesi Dokter Fakultas Kedokteran | Q100: 23801 | R100: =DATEDIF(Q100,$Q$3,"y")&" Tahun"&" "&DATEDIF(Q100,$Q$3,"ym")&" Bulan" -> 60 Tahun 10 Bulan | S100: Pria | T100: Kristen
...

Sheet Tendik
A1: Data Tenaga Kependidikan Universitas Kristen Maranatha
A2: data DSDI s.d. 1 Januari 2026
J3: 46023
A4: No. | B4: NIK | C4: Nama Pegawai | D4: Status | E4: Fakultas/Prog Studi/Unit Kerja | G4: Pend. Akhir | H4: Golongan | I4: Tgl. Lahir | J4: Usia s.d. 1 Januari 2026 | K4: Gender | L4: Agama | M4: Keterangan
A5: 1 | B5: 810010 | C5: Buddy Supriadi | D5: TAT | E5: Badan Pelayanan Kerohanian | F5: Badan Pelayanan Kerohanian | G5: SMA | H5: IIIA | I5: 24143 | J5: =DATEDIF(I5,$J$3,"y")&" Tahun"&" "&DATEDIF(I5,$J$3,"ym")&" Bulan" -> 59 Tahun 10 Bulan | K5: Pria | L5: Kristen
A6: 2 | B6: 810014 | C6: Chrisna Indiyarini, S.E. | D6: TAT | E6: Badan Pelayanan Kerohanian | F6: Badan Pelayanan Kerohanian | G6: S1 | H6: IIIB | I6: 24548 | J6: =DATEDIF(I6,$J$3,"y")&" Tahun"&" "&DATEDIF(I6,$J$3,"ym")&" Bulan" -> 58 Tahun 9 Bulan | K6: Wanita | L6: Kristen
A7: 3 | B7: 810038 | C7: Samuel Jabarto | D7: TAT | E7: Fakultas Kedokteran | F7: Fakultas Kedokteran | G7: SMA | H7: IIIA | I7: 24201 | J7: =DATEDIF(I7,$J$3,"y")&" Tahun"&" "&DATEDIF(I7,$J$3,"ym")&" Bulan" -> 59 Tahun 8 Bulan | K7: Pria | L7: Kristen
A8: 4 | B8: 810039 | C8: Eddy Junaedi | D8: TAT | E8: Fakultas Kedokteran | F8: Fakultas Kedokteran | G8: SMA | H8: IIIA | I8: 24295 | J8: =DATEDIF(I8,$J$3,"y")&" Tahun"&" "&DATEDIF(I8,$J$3,"ym")&" Bulan" -> 59 Tahun 5 Bulan | K8: Pria | L8: Kristen
A9: 5 | B9: 810047 | C9: Jumali | D9: TAT | E9: Fakultas Teknologi dan Rekayasa Cerdas | F9: Fakultas Teknologi dan Rekayasa Cerdas | G9: SMA | H9: IIIA | I9: 24393 | J9: =DATEDIF(I9,$J$3,"y")&" Tahun"&" "&DATEDIF(I9,$J$3,"ym")&" Bulan" -> 59 Tahun 2 Bulan | K9: Pria | L9: Kristen
A10: 6 | B10: 810050 | C10: Adi Kurniawan Pai, S.Sos. | D10: TAT | E10: Direktorat Sarana dan Prasarana | F10: Direktorat Sarana dan Prasarana | G10: S1 | H10: IIID | I10: 25286 | J10: =DATEDIF(I10,$J$3,"y")&" Tahun"&" "&DATEDIF(I10,$J$3,"ym")&" Bulan" -> 56 Tahun 9 Bulan | K10: Pria | L10: Kristen
A11: 7 | B11: 810058 | C11: Anyta Kustiani, S.E. | D11: TAT | E11: Fakultas Humaniora dan Industri Kreatif | F11: Fakultas Humaniora dan Industri Kreatif | G11: S1 | H11: IIIC | I11: 25058 | J11: =DATEDIF(I11,$J$3,"y")&" Tahun"&" "&DATEDIF(I11,$J$3,"ym")&" Bulan" -> 57 Tahun 4 Bulan | K11: Wanita | L11: Kristen
A12: 8 | B12: 810075 | C12: Budi Tresna Satia Sujatna | D12: TAT | E12: Fakultas Hukum dan Bisnis Digital | F12: Fakultas Hukum dan Bisnis Digital | G12: SMA | H12: IIIA | I12: 25176 | J12: =DATEDIF(I12,$J$3,"y")&" Tahun"&" "&DATEDIF(I12,$J$3,"ym")&" Bulan" -> 57 Tahun 0 Bulan | K12: Pria | L12: Kristen
A13: 9 | B13: 810085 | C13: Suyitno | D13: TAT | E13: Direktorat Kemitraan | F13: Direktorat Kemitraan | G13: SMA | H13: IIIA | I13: 24740 | J13: =DATEDIF(I13,$J$3,"y")&" Tahun"&" "&DATEDIF(I13,$J$3,"ym")&" Bulan" -> 58 Tahun 3 Bulan | K13: Pria | L13: Kristen
A14: 10 | B14: 810088 | C14: Dedeh Rostini | D14: TAT | E14: Direktorat Pemasaran dan Admisi | F14: Direktorat Pemasaran dan Admisi | G14: SMA | H14: IIIA | I14: 24780 | J14: =DATEDIF(I14,$J$3,"y")&" Tahun"&" "&DATEDIF(I14,$J$3,"ym")&" Bulan" -> 58 Tahun 1 Bulan | K14: Wanita | L14: Kristen
A15: 11 | B15: 810090 | C15: Rizka Meidya Nardi | D15: TAT | E15: Fakultas Kedokteran | F15: Fakultas Kedokteran | G15: SMA | H15: IIIA | I15: 25342 | J15: =DATEDIF(I15,$J$3,"y")&" Tahun"&" "&DATEDIF(I15,$J$3,"ym")&" Bulan" -> 56 Tahun 7 Bulan | K15: Pria | L15: Islam
A16: 12 | B16: 810095 | C16: Widayani, S.E. | D16: TAT | E16: Fakultas Humaniora dan Industri Kreatif | F16: Fakultas Humaniora dan Industri Kreatif | G16: S1 | H16: IIID | I16: 25487 | J16: =DATEDIF(I16,$J$3,"y")&" Tahun"&" "&DATEDIF(I16,$J$3,"ym")&" Bulan" -> 56 Tahun 2 Bulan | K16: Wanita | L16: Islam
... A321: 317 | B321: 98000058 | C321: Hesti Famella Ahsani Nissa | D321: PKWT | E321: Fakultas Kedokteran | F321: Fakultas Kedokteran | G321: SMA | H321: IIA | I321: 36899 | J321: =DATEDIF(I321,$J$3,"y")&" Tahun"&" "&DATEDIF(I321,$J$3,"ym")&" Bulan" -> 24 Tahun 11 Bulan | K321: Wanita | L321: Islam

Sheet Rekap Jumlah Dosen
A1: Data Jumlah Dosen Berdasarkan Status Kepegawaian
A2: data DSDI s.d. 1 Januari 2026
A3: Fakultas/Program Studi | B3: JUMLAH MAHASISWA AKTIF* | C3: JANUARI | Z3: JUMLAH MAHASISWA AKTIF* | AA3: FEBRUARI | AX3: JUMLAH MAHASISWA AKTIF* | AY3: MARET | BV3: JUMLAH MAHASISWA AKTIF* | BW3: APRIL | CU3: JUMLAH MAHASISWA AKTIF | CV3: MEI | DT3: JUMLAH MAHASISWA AKTIF* | DU3: JUNI | ES3: JUMLAH MAHASISWA AKTIF | ET3: JULI | FR3: JUMLAH MAHASISWA AKTIF | FS3: AGUSTUS | GQ3: JUMLAH MAHASISWA AKTIF* | GR3: SEPTEMBER | HP3: JUMLAH MAHASISWA AKTIF* | HQ3: OKTOBER | IO3: JUMLAH MAHASISWA AKTIF* | IP3: November | JN3: JUMLAH MAHASISWA AKTIF* | JO3: Desember | KM3: JUMLAH MAHASISWA AKTIF* | KN3: Januari
C4: STATUS DOSEN | K4: JJA | P4: SERDOS | R4: Pendidikan Terakhir | W4: Status Registrasi PDDikti | AA4: STATUS DOSEN | AI4: JJA | AN4: SERDOS | AP4: Pendidikan Terakhir | AU4: Status Registrasi PDDikti | AY4: STATUS DOSEN | BG4: JJA | BL4: SERDOS | BN4: Pendidikan Terakhir | BS4: Status Registrasi PDDikti | BW4: STATUS DOSEN | CE4: JJA | CJ4: SERDOS | CL4: Pendidikan Terakhir | CP4: Status Registrasi PDDikti | CV4: STATUS DOSEN | DD4: JJA | DI4: SERDOS | DK4: Pendidikan Terakhir | DP4: Status Registrasi PDDikti | DU4: STATUS DOSEN | EC4: JJA | EH4: SERDOS | EJ4: Pendidikan Terakhir | EO4: Status Registrasi PDDikti | ET4: STATUS DOSEN | FB4: JJA | FG4: SERDOS | FI4: Pendidikan Terakhir | FN4: Status Registrasi PDDikti | FS4: STATUS DOSEN | GA4: JJA | GF4: SERDOS | GH4: Pendidikan Terakhir | GM4: Status Registrasi PDDikti | GR4: STATUS DOSEN | GZ4: JJA | HE4: SERDOS | HG4: Pendidikan Terakhir | HL4: Status Registrasi PDDikti | HQ4: STATUS DOSEN | HY4: JJA | ID4: SERDOS | IF4: Pendidikan Terakhir | IK4: Status Registrasi PDDikti | IP4: STATUS DOSEN | IX4: JJA | JC4: SERDOS | JE4: Pendidikan Terakhir | JJ4: Status Registrasi PDDikti | JO4: STATUS DOSEN | JW4: JJA | KB4: SERDOS | KD4: Pendidikan Terakhir | KI4: Status Registrasi PDDikti | KN4: STATUS DOSEN | KV4: JJA | LA4: SERDOS | LC4: Pendidikan Terakhir | LH4: Status Registrasi PDDikti
C5: DT | D5: CDTP | E5: CDTSL | F5: KOPERTIS | G5: DBK | H5: DPK | I5: DLBK/ DLBK ASING | J5: TOTAL DOSEN | K5: BELUM | L5: AA | M5: L | N5: LK | O5: GB | P5: BELUM | Q5: SUDAH | R5: S3 | S5: S2 | T5: S1 | U5: Sp.2 | V5: Sp.1 | W5: NIDN | X5: NIDK | Y5: BELUM | AA5: DT | AB5: CDTP | AC5: CDTSL | AD5: KOPERTIS | AE5: DBK | AF5: DPK | AG5: DLBK/ DLBK ASING | AH5: TOTAL DOSEN | AI5: BELUM | AJ5: AA | AK5: L | AL5: LK | AM5: GB | AN5: BELUM | AO5: SUDAH | AP5: S3 | AQ5: S2 | AR5: S1 | AS5: Sp.2 | AT5: Sp.1 | AU5: NIDN | AV5: NIDK | AW5: BELUM | AY5: DT | AZ5: CDTP | BA5: CDTSL | BB5: KOPERTIS | BC5: DBK | BD5: DPK | BE5: DLBK/ DLBK ASING | BF5: TOTAL DOSEN | BG5: BELUM | BH5: AA | BI5: L | BJ5: LK | BK5: GB | BL5: BELUM | BM5: SUDAH | BN5: S3 | BO5: S2 | BP5: S1 | BQ5: Sp.2 | BR5: Sp.1 | BS5: NIDN | BT5: NIDK | BU5: BELUM | BW5: DT | BX5: CDTP | BY5: CDTSL | BZ5: KOPERTIS | CA5: DBK | CB5: DPK | CC5: DLBK/ DLBK ASING | CD5: TOTAL DOSEN | CE5: BELUM | CF5: AA | CG5: L | CH5: LK | CI5: GB | CJ5: BELUM | CK5: SUDAH | CL5: S3 | CM5: S2 | CN5: S1 | CO5: Sp.2 | CP5: Sp.1 | CQ5: NIDN | CR5: NIDK | CS5: BELUM | CT5: NUPTK | CV5: DT | CW5: CDTP | CX5: CDTSL | CY5: KOPERTIS | CZ5: DBK | DA5: DPK | DB5: DLBK/ DLBK ASING | DC5: TOTAL DOSEN | DD5: BELUM | DE5: AA | DF5: L | DG5: LK | DH5: GB | DI5: BELUM | DJ5: SUDAH | DK5: S3 | DL5: S2 | DM5: S1 | DN5: Sp.2 | DO5: Sp.1 | DP5: NIDN | DQ5: NIDK | DR5: BELUM | DS5: NUPTK | DU5: DT | DV5: CDTP | DW5: CDTSL | DX5: KOPERTIS | DY5: DBK | DZ5: DPK | EA5: DLBK/ DLBK ASING | EB5: TOTAL DOSEN | EC5: BELUM | ED5: AA | EE5: L | EF5: LK | EG5: GB | EH5: BELUM | EI5: SUDAH | EJ5: S3 | EK5: S2 | EL5: S1 | EM5: Sp.2 | EN5: Sp.1 | EO5: NIDN | EP5: NIDK | EQ5: BELUM | ER5: NUPTK | ET5: DT | EU5: CDTP | EV5: CDTSL | EW5: KOPERTIS | EX5: DBK | EY5: DPK | EZ5: DLBK/ DLBK ASING | FA5: TOTAL DOSEN | FB5: BELUM | FC5: AA | FD5: L | FE5: LK | FF5: GB | FG5: BELUM | FH5: SUDAH | FI5: S3 | FJ5: S2 | FK5: S1 | FL5: Sp.2 | FM5: Sp.1 | FN5: NIDN | FO5: NIDK | FP5: BELUM | FQ5: NUPTK | FS5: DT | FT5: CDTP | FU5: CDTSL | FV5: KOPERTIS | FW5: DBK | FX5: DPK | FY5: DLBK/ DLBK ASING | FZ5: TOTAL DOSEN | GA5: BELUM | GB5: AA | GC5: L | GD5: LK | GE5: GB | GF5: BELUM | GG5: SUDAH | GH5: S3 | GI5: S2 | GJ5: S1 | GK5: Sp.2 | GL5: Sp.1 | GM5: NIDN | GN5: NIDK | GO5: BELUM | GP5: NUPTK | GR5: DT | GS5: CDTP | GT5: CDTSL | GU5: KOPERTIS | GV5: DBK | GW5: DPK | GX5: DLBK/ DLBK ASING | GY5: TOTAL DOSEN | GZ5: BELUM | HA5: AA | HB5: L | HC5: LK | HD5: GB | HE5: BELUM | HF5: SUDAH | HG5: S3 | HH5: S2 | HI5: S1 | HJ5: Sp.2 | HK5: Sp.1 | HL5: NIDN | HM5: NIDK | HN5: BELUM | HO5: NUPTK | HQ5: DT | HR5: CDTP | HS5: CDTSL | HT5: KOPERTIS | HU5: DBK | HV5: DPK | HW5: DLBK/ DLBK ASING | HX5: TOTAL DOSEN | HY5: BELUM | HZ5: AA | IA5: L | IB5: LK | IC5: GB | ID5: BELUM | IE5: SUDAH | IF5: S3 | IG5: S2 | IH5: S1 | II5: Sp.2 | IJ5: Sp.1 | IK5: NIDN | IL5: NIDK | IM5: BELUM | IN5: NUPTK | IP5: DT | IQ5: CDTP | IR5: CDTSL | IS5: KOPERTIS | IT5: DBK | IU5: DPK | IV5: DLBK/ DLBK ASING | IW5: TOTAL DOSEN | IX5: BELUM | IY5: AA | IZ5: L | JA5: LK | JB5: GB | JC5: BELUM | JD5: SUDAH | JE5: S3 | JF5: S2 | JG5: S1 | JH5: Sp.2 | JI5: Sp.1 | JJ5: NIDN | JK5: NIDK | JL5: BELUM | JM5: NUPTK | JO5: DT | JP5: CDTP | JQ5: CDTSL | JR5: KOPERTIS | JS5: DBK | JT5: DPK | JU5: DLBK/ DLBK ASING | JV5: TOTAL DOSEN | JW5: BELUM | JX5: AA | JY5: L | JZ5: LK | KA5: GB | KB5: BELUM | KC5: SUDAH | KD5: S3 | KE5: S2 | KF5: S1 | KG5: Sp.2 | KH5: Sp.1 | KI5: NIDN | KJ5: NIDK | KK5: BELUM | KL5: NUPTK | KN5: DT | KO5: CDTP | KP5: CDTSL | KQ5: KOPERTIS | KR5: DBK | KS5: DPK | KT5: DLBK/ DLBK ASING | KU5: TOTAL DOSEN | KV5: BELUM | KW5: AA | KX5: L | KY5: LK | KZ5: GB | LA5: BELUM | LB5: SUDAH | LC5: S3 | LD5: S2 | LE5: S1 | LF5: Sp.2 | LG5: Sp.1 | LH5: NIDN | LI5: NIDK | LJ5: BELUM | LK5: NUPTK
A6: Program Sarjana Pendidikan Dokter Fakultas Kedokteran | B6: 1046 | C6: 42 | D6: 0 | E6: 6 | F6: 0 | G6: 0 | H6: 3 | I6: 0 | J6: 51 | K6: 7 | L6: 28 | M6: 13 | N6: 0 | O6: 3 | P6: 21 | Q6: 30 | R6: 10 | S6: 34 | T6: 5 | U6: 0 | V6: 2 | W6: 41 | X6: 2 | Y6: 8 | Z6: 1046 | AA6: 42 | AB6: 0 | AC6: 6 | AD6: 0 | AE6: 0 | AF6: 3 | AG6: 0 | AH6: 51 | AI6: 7 | AJ6: 27 | AK6: 14 | AL6: 0 | AM6: 3 | AN6: 21 | AO6: 30 | AP6: 10 | AQ6: 34 | AR6: 5 | AS6: 0 | AT6: 2 | AU6: 41 | AV6: 2 | AW6: 8 | AX6: 1046 | AY6: 42 | AZ6: 0 | BA6: 6 | BB6: 0 | BC6: 0 | BD6: 3 | BE6: 0 | BF6: 51 | BG6: 7 | BH6: 27 | BI6: 14 | BJ6: 0 | BK6: 3 | BL6: 21 | BM6: 30 | BN6: 10 | BO6: 34 | BP6: 5 | BQ6: 0 | BR6: 2 | BS6: 41 | BT6: 3 | BU6: 7 | BV6: 1046 | BW6: 42 | BX6: 0 | BY6: 6 | BZ6: 0 | CA6: 0 | CB6: 3 | CC6: 0 | CD6: 51 | CE6: 7 | CF6: 27 | CG6: 14 | CH6: 0 | CI6: 3 | CJ6: 21 | CK6: 30 | CL6: 11 | CM6: 33 | CN6: 5 | CO6: 0 | CP6: 2 | CQ6: 41 | CR6: 3 | CS6: 7 | CT6: 0 | CU6: 1046 | CV6: 39 | CW6: 0 | CX6: 6 | CY6: 0 | CZ6: 0 | DA6: 3 | DB6: 0 | DC6: 48 | DD6: 7 | DE6: 25 | DF6: 13 | DG6: 1 | DH6: 2 | DI6: 19 | DJ6: 29 | DK6: 9 | DL6: 32 | DM6: 5 | DN6: 0 | DO6: 2 | DP6: 38 | DQ6: 3 | DR6: 7 | DS6: 0 | DT6: 929 | DU6: =COUNTIFS(Dosen!$P$4:$P$469,A6,Dosen!$D$4:$D$469,"DT") -> 39 | DV6: =COUNTIFS(Dosen!$P$4:$P$469,A6,Dosen!$D$4:$D$469,"CDTP") -> 0 | DW6: =COUNTIFS(Dosen!$P$4:$P$469,A6,Dosen!$D$4:$D$469,"CDTSL") -> 3 | DX6: =COUNTIFS(Dosen!$P$4:$P$469,A6,Dosen!$D$4:$D$469,"dosen kopertis") -> 0 | DY6: =COUNTIFS(Dosen!$P$4:$P$469,A6,Dosen!$D$4:$D$469,"DBK") -> 0 | DZ6: =COUNTIFS(Dosen!$P$4:$P$469,A6,Dosen!$D$4:$D$469,"DPK") -> 11 | EA6: =COUNTIFS(Dosen!$P$4:$P$469,A6,Dosen!$D$4:$D$469,"DLBK") -> 0 | EB6: =SUM(DU6:EA6) -> 53 | EC6: =COUNTIFS(Dosen!$P$4:$P$469,A6,Dosen!$E$4:$E$469,"Belum") -> 14 | ED6: =COUNTIFS(Dosen!$P$4:$P$469,$A6,Dosen!$E$4:$E$469,"Asisten Ahli") -> 18 | EE6: =COUNTIFS(Dosen!$P$4:$P$469,$A6,Dosen!$E$4:$E$469,"Lektor") -> 17 | EF6: =COUNTIFS(Dosen!$P$4:$P$469,$A6,Dosen!$E$4:$E$469,"Lektor Kepala") -> 3 | EG6: =COUNTIFS(Dosen!$P$4:$P$469,$A6,Dosen!$E$4:$E$469,"Guru Besar") -> 1 | EH6: =COUNTIFS(Dosen!$P$5:$P$449,A6,Dosen!$I$5:$I$449,"Belum") -> 23 | EI6: =COUNTIFS(Dosen!$P$5:$P$449,A6,Dosen!$I$5:$I$449,"SUDAH") -> 30 | EJ6: =COUNTIFS(Dosen!$P$4:$P$449,A6,Dosen!$H$4:$H$449,"s3") -> 9 | EK6: =COUNTIFS(Dosen!$P$4:$P$449,A6,Dosen!$H$4:$H$449,"s2") -> 35 | EL6: =COUNTIFS(Dosen!$P$4:$P$449,A6,Dosen!$H$4:$H$449,"s1") -> 7 | EM6: =COUNTIFS(Dosen!$P$4:$P$449,A6,Dosen!$H$4:$H$449,"sp.2") -> 0 | EN6: =COUNTIFS(Dosen!$P$4:$P$449,A6,Dosen!$H$4:$H$449,"sp.1") -> 2 | EO6: =COUNTIFS(Dosen!$P$4:$P$449,A6,Dosen!$K$4:$K$449,"NIDN") -> 37 | EP6: =COUNTIFS(Dosen!$P$4:$P$449,A6,Dosen!$K$4:$K$449,"NIDk") -> 2 | EQ6: =COUNTIFS(Dosen!$P$4:$P$449,A6,Dosen!$K$4:$K$449,"belum") -> 14 | ER6: =COUNTIFS(Dosen!$P$4:$P$449,A6,Dosen!$K$4:$K$449,"NUPTK") -> 0 | ES6: 929 | ET6: =COUNTIFS(Dosen!$P$4:$P$469,A6,Dosen!$D$4:$D$469,"DT") -> 39 | EU6: =COUNTIFS(Dosen!$P$4:$P$469,A6,Dosen!$D$4:$D$469,"CDTP") -> 0 | EV6: =COUNTIFS(Dosen!$P$4:$P$469,A6,Dosen!$D$4:$D$469,"CDTSL") -> 3 | EW6: =COUNTIFS(Dosen!$P$4:$P$469,A6,Dosen!$D$4:$D$469,"dosen kopertis") -> 0 | EX6: =COUNTIFS(Dosen!$P$4:$P$469,A6,Dosen!$D$4:$D$469,"DBK") -> 0 | EY6: =COUNTIFS(Dosen!$P$4:$P$469,A6,Dosen!$D$4:$D$469,"DPK") -> 11 | EZ6: =COUNTIFS(Dosen!$P$4:$P$469,A6,Dosen!$D$4:$D$469,"DLBK") -> 0 | FA6: =SUM(ET6:EZ6) -> 53 | FB6: =COUNTIFS(Dosen!$P$4:$P$469,A6,Dosen!$E$4:$E$469,"Belum") -> 14 | FC6: =COUNTIFS(Dosen!$P$4:$P$469,$A6,Dosen!$E$4:$E$469,"Asisten Ahli") -> 18 | FD6: =COUNTIFS(Dosen!$P$4:$P$469,$A6,Dosen!$E$4:$E$469,"Lektor") -> 17 | FE6: =COUNTIFS(Dosen!$P$4:$P$469,$A6,Dosen!$E$4:$E$469,"Lektor Kepala") -> 3 | FF6: =COUNTIFS(Dosen!$P$4:$P$469,$A6,Dosen!$E$4:$E$469,"Guru Besar") -> 1 | FG6: =COUNTIFS(Dosen!$P$5:$P$449,$A6,Dosen!$I$5:$I$449,"Belum") -> 23 | FH6: =COUNTIFS(Dosen!$P$5:$P$449,A6,Dosen!$I$5:$I$449,"SUDAH") -> 30 | FI6: =COUNTIFS(Dosen!$P$4:$P$449,A6,Dosen!$H$4:$H$449,"s3") -> 9 | FJ6: =COUNTIFS(Dosen!$P$4:$P$449,A6,Dosen!$H$4:$H$449,"s2") -> 35 | FK6: =COUNTIFS(Dosen!$P$4:$P$449,A6,Dosen!$H$4:$H$449,"s1") -> 7 | FL6: =COUNTIFS(Dosen!$P$4:$P$449,A6,Dosen!$H$4:$H$449,"sp.2") -> 0 | FM6: =COUNTIFS(Dosen!$P$4:$P$449,A6,Dosen!$H$4:$H$449,"sp.1") -> 2 | FN6: =COUNTIFS(Dosen!$P$4:$P$449,A6,Dosen!$K$4:$K$449,"NIDN") -> 37 | FO6: =COUNTIFS(Dosen!$P$4:$P$449,A6,Dosen!$K$4:$K$449,"NIDk") -> 2 | FP6: =COUNTIFS(Dosen!$P$4:$P$449,A6,Dosen!$K$4:$K$449,"belum") -> 14 | FQ6: =COUNTIFS(Dosen!$P$4:$P$449,A6,Dosen!$K$4:$K$449,"NUPTK") -> 0 | FR6: 929 | FS6: =COUNTIFS(Dosen!$P$4:$P$469,$A6,Dosen!$D$4:$D$469,"DT") -> 39 | FT6: =COUNTIFS(Dosen!$P$4:$P$469,$A6,Dosen!$D$4:$D$469,"CDTP") -> 0 | FU6: =COUNTIFS(Dosen!$P$4:$P$469,$A6,Dosen!$D$4:$D$469,"CDTSL") -> 3 | FV6: =COUNTIFS(Dosen!$P$4:$P$469,$A6,Dosen!$D$4:$D$469,"dosen kopertis") -> 0 | FW6: =COUNTIFS(Dosen!$P$4:$P$469,$A6,Dosen!$D$4:$D$469,"DBK") -> 0 | FX6: =COUNTIFS(Dosen!$P$4:$P$469,$A6,Dosen!$D$4:$D$469,"DPK") -> 11 | FY6: =COUNTIFS(Dosen!$P$4:$P$469,$A6,Dosen!$D$4:$D$469,"DLBK") -> 0 | FZ6: =SUM(FS6:FY6) -> 53 | GA6: =COUNTIFS(Dosen!$P$4:$P$469,$A6,Dosen!$E$4:$E$469,"Belum") -> 14 | GB6: =COUNTIFS(Dosen!$P$4:$P$469,$A6,Dosen!$E$4:$E$469,"Asisten Ahli") -> 18 | GC6: =COUNTIFS(Dosen!$P$4:$P$469,$A6,Dosen!$E$4:$E$469,"Lektor") -> 17 | GD6: =COUNTIFS(Dosen!$P$4:$P$469,$A6,Dosen!$E$4:$E$469,"Lektor Kepala") -> 3 | GE6: =COUNTIFS(Dosen!$P$4:$P$469,$A6,Dosen!$E$4:$E$469,"Guru Besar") -> 1 | GF6: =COUNTIFS(Dosen!$P$5:$P$449,$A6,Dosen!$I$5:$I$449,"Belum") -> 23 | GG6: =COUNTIFS(Dosen!$P$5:$P$449,$A6,Dosen!$I$5:$I$449,"SUDAH") -> 30 | GH6: =COUNTIFS(Dosen!$P$4:$P$449,$A6,Dosen!$H$4:$H$449,"s3") -> 9 | GI6: =COUNTIFS(Dosen!$P$4:$P$449,$A6,Dosen!$H$4:$H$449,"s2") -> 35 | GJ6: =COUNTIFS(Dosen!$P$4:$P$449,$A6,Dosen!$H$4:$H$449,"s1") -> 7 | GK6: =COUNTIFS(Dosen!$P$4:$P$449,$A6,Dosen!$H$4:$H$449,"sp.2") -> 0 | GL6: =COUNTIFS(Dosen!$P$4:$P$449,$A6,Dosen!$H$4:$H$449,"sp.1") -> 2 | GM6: =COUNTIFS(Dosen!$P$4:$P$449,$A6,Dosen!$K$4:$K$449,"NIDN") -> 37 | GN6: =COUNTIFS(Dosen!$P$4:$P$449,$A6,Dosen!$K$4:$K$449,"NIDk") -> 2 | GO6: =COUNTIFS(Dosen!$P$4:$P$449,$A6,Dosen!$K$4:$K$449,"belum") -> 14 | GP6: =COUNTIFS(Dosen!$P$4:$P$449,$A6,Dosen!$K$4:$K$449,"NUPTK") -> 0 | GQ6: 929 | GR6: 40 | GS6: 0 | GT6: 5 | GU6: 0 | GV6: 0 | GW6: 3 | GX6: 0 | GY6: 48 | GZ6: 7 | HA6: 24 | HB6: 13 | HC6: 2 | HD6: 2 | HE6: 19 | HF6: 29 | HG6: 9 | HH6: 31 | HI6: 5 | HJ6: 0 | HK6: 2 | HL6: 38 | HM6: 3 | HN6: 7 | HO6: 0 | HP6: 929 | HQ6: 39 | HR6: 0 | HS6: 5 | HT6: 0 | HU6: 0 | HV6: 5 | HW6: 0 | HX6: 49 | HY6: 8 | HZ6: 23 | IA6: 14 | IB6: 2 | IC6: 2 | ID6: 21 | IE6: 28 | IF6: 9 | IG6: 32 | IH6: 6 | II6: 0 | IJ6: 2 | IK6: 37 | IL6: 3 | IM6: 9 | IN6: 0 | IO6: 929 | IP6: 39 | IQ6: 0 | IR6: 5 | IS6: 0 | IT6: 0 | IU6: 9 | IV6: 0 | IW6: 53 | IX6: 13 | IY6: 18 | IZ6: 19 | JA6: 1 | JB6: 2 | JC6: 25 | JD6: 28 | JE6: 9 | JF6: 34 | JG6: 8 | JH6: 0 | JI6: 2 | JJ6: 37 | JK6: 3 | JL6: 13 | JM6: 0 | JN6: 929 | JO6: 39 | JP6: 0 | JQ6: 3 | JR6: 0 | JS6: 0 | JT6: 11 | JU6: 0 | JV6: 53 | JW6: 14 | JX6: 18 | JY6: 18 | JZ6: 2 | KA6: 1 | KB6: 23 | KC6: 30 | KD6: 8 | KE6: 35 | KF6: 7 | KG6: 0 | KH6: 3 | KI6: 37 | KJ6: 2 | KK6: 14 | KL6: 0 | KM6: 1008 | KN6: =COUNTIFS(Dosen!$P$4:$P$469,$A6,Dosen!$D$4:$D$469,"DT") -> 39 | KO6: =COUNTIFS(Dosen!$P$4:$P$469,$A6,Dosen!$D$4:$D$469,"CDTP") -> 0 | KP6: =COUNTIFS(Dosen!$P$4:$P$469,$A6,Dosen!$D$4:$D$469,"CDTSL") -> 3 | KQ6: =COUNTIFS(Dosen!$P$4:$P$469,$A6,Dosen!$D$4:$D$469,"dosen kopertis") -> 0 | KR6: =COUNTIFS(Dosen!$P$4:$P$469,$A6,Dosen!$D$4:$D$469,"DBK") -> 0 | KS6: =COUNTIFS(Dosen!$P$4:$P$469,$A6,Dosen!$D$4:$D$469,"DPK") -> 11 | KT6: =COUNTIFS(Dosen!$P$4:$P$469,$A6,Dosen!$D$4:$D$469,"DLBK") -> 0 | KU6: =SUM(KN6:KT6) -> 53 | KV6: =COUNTIFS(Dosen!$P$4:$P$469,$A6,Dosen!$E$4:$E$469,"Belum") -> 14 | KW6: =COUNTIFS(Dosen!$P$4:$P$469,$A6,Dosen!$E$4:$E$469,"Asisten Ahli") -> 18 | KX6: =COUNTIFS(Dosen!$P$4:$P$469,$A6,Dosen!$E$4:$E$469,"Lektor") -> 17 | KY6: =COUNTIFS(Dosen!$P$4:$P$469,$A6,Dosen!$E$4:$E$469,"Lektor Kepala") -> 3 | KZ6: =COUNTIFS(Dosen!$P$4:$P$469,$A6,Dosen!$E$4:$E$469,"Guru Besar") -> 1 | LA6: =COUNTIFS(Dosen!$P$5:$P$495,$A6,Dosen!$I$5:$I$495,"Belum") -> 23 | LB6: =COUNTIFS(Dosen!$P$5:$P$495,$A6,Dosen!$I$5:$I$495,"SUDAH") -> 30 | LC6: =COUNTIFS(Dosen!$P$4:$P$495,$A6,Dosen!$H$4:$H$495,"s3") -> 9 | LD6: =COUNTIFS(Dosen!$P$4:$P$495,$A6,Dosen!$H$4:$H$495,"s2") -> 35 | LE6: =COUNTIFS(Dosen!$P$4:$P$495,$A6,Dosen!$H$4:$H$495,"s1") -> 7 | LF6: =COUNTIFS(Dosen!$P$4:$P$495,$A6,Dosen!$H$4:$H$495,"sp.2") -> 0 | LG6: =COUNTIFS(Dosen!$P$4:$P$495,$A6,Dosen!$H$4:$H$495,"sp.1") -> 2 | LH6: =COUNTIFS(Dosen!$P$4:$P$495,$A6,Dosen!$K$4:$K$495,"NIDN") -> 37 | LI6: =COUNTIFS(Dosen!$P$4:$P$495,$A6,Dosen!$K$4:$K$495,"NIDk") -> 2 | LJ6: =COUNTIFS(Dosen!$P$4:$P$495,$A6,Dosen!$K$4:$K$495,"belum") -> 14 | LK6: =COUNTIFS(Dosen!$P$4:$P$495,$A6,Dosen!$K$4:$K$495,"NUPTK") -> 0
A7: Program Pendidikan Profesi Dokter Fakultas Kedokteran | B7: 351 | C7: 32 | D7: 3 | E7: 0 | F7: 0 | G7: 0 | H7: 25 | I7: 0 | J7: 60 | K7: 21 | L7: 35 | M7: 3 | N7: 1 | O7: 0 | P7: 54 | Q7: 6 | R7: 4 | S7: 14 | T7: 0 | U7: 6 | V7: 36 | W7: 24 | X7: 19 | Y7: 17 | Z7: 351 | AA7: 32 | AB7: 4 | AC7: 0 | AD7: 0 | AE7: 0 | AF7: 25 | AG7: 0 | AH7: 61 | AI7: 22 | AJ7: 35 | AK7: 3 | AL7: 1 | AM7: 0 | AN7: 55 | AO7: 6 | AP7: 4 | AQ7: 15 | AR7: 0 | AS7: 6 | AT7: 36 | AU7: 24 | AV7: 19 | AW7: 18 | AX7: 351 | AY7: 32 | AZ7: 5 | BA7: 0 | BB7: 0 | BC7: 0 | BD7: 25 | BE7: 1 | BF7: 63 | BG7: 23 | BH7: 35 | BI7: 3 | BJ7: 1 | BK7: 1 | BL7: 57 | BM7: 6 | BN7: 5 | BO7: 16 | BP7: 0 | BQ7: 6 | BR7: 36 | BS7: 29 | BT7: 22 | BU7: 8 | BV7: 351 | BW7: 32 | BX7: 5 | BY7: 0 | BZ7: 0 | CA7: 0 | CB7: 25 | CC7: 1 | CD7: 63 | CE7: 23 | CF7: 35 | CG7: 3 | CH7: 1 | CI7: 1 | CJ7: 57 | CK7: 6 | CL7: 5 | CM7: 16 | CN7: 0 | CO7: 6 | CP7: 36 | CQ7: 29 | CR7: 22 | CS7: 8 | CT7: 4 | CU7: 351 | CV7: 31 | CW7: 3 | CX7: 0 | CY7: 0 | CZ7: 0 | DA7: 24 | DB7: 1 | DC7: 59 | DD7: 20 | DE7: 33 | DF7: 4 | DG7: 1 | DH7: 1 | DI7: 53 | DJ7: 6 | DK7: 6 | DL7: 11 | DM7: 0 | DN7: 6 | DO7: 36 | DP7: 28 | DQ7: 22 | DR7: 5 | DS7: 4 | DT7: 331 | DU7: =COUNTIFS(Dosen!$P$4:$P$469,A7,Dosen!$D$4:$D$469,"DT") -> 33 | DV7: =COUNTIFS(Dosen!$P$4:$P$469,A7,Dosen!$D$4:$D$469,"CDTP") -> 0 | DW7: =COUNTIFS(Dosen!$P$4:$P$469,A7,Dosen!$D$4:$D$469,"CDTSL") -> 0 | DX7: =COUNTIFS(Dosen!$P$4:$P$469,A7,Dosen!$D$4:$D$469,"dosen kopertis") -> 0 | DY7: =COUNTIFS(Dosen!$P$4:$P$469,A7,Dosen!$D$4:$D$469,"DBK") -> 0 | DZ7: =COUNTIFS(Dosen!$P$4:$P$469,A7,Dosen!$D$4:$D$469,"DPK") -> 28 | EA7: =COUNTIFS(Dosen!$P$4:$P$469,A7,Dosen!$D$4:$D$469,"DLBK") -> 1 | EB7: =SUM(DU7:EA7) -> 62 | EC7: =COUNTIFS(Dosen!$P$4:$P$469,A7,Dosen!$E$4:$E$469,"Belum") -> 16 | ED7: =COUNTIFS(Dosen!$P$4:$P$469,$A7,Dosen!$E$4:$E$469,"Asisten Ahli") -> 37 | EE7: =COUNTIFS(Dosen!$P$4:$P$469,$A7,Dosen!$E$4:$E$469,"Lektor") -> 7 | EF7: =COUNTIFS(Dosen!$P$4:$P$469,$A7,Dosen!$E$4:$E$469,"Lektor Kepala") -> 1 | EG7: =COUNTIFS(Dosen!$P$4:$P$469,$A7,Dosen!$E$4:$E$469,"Guru Besar") -> 1 | EH7: =COUNTIFS(Dosen!$P$5:$P$449,A7,Dosen!$I$5:$I$449,"Belum") -> 50 | EI7: =COUNTIFS(Dosen!$P$5:$P$449,A7,Dosen!$I$5:$I$449,"SUDAH") -> 12 | EJ7: =COUNTIFS(Dosen!$P$4:$P$449,A7,Dosen!$H$4:$H$449,"s3") -> 6 | EK7: =COUNTIFS(Dosen!$P$4:$P$449,A7,Dosen!$H$4:$H$449,"s2") -> 11 | EL7: =COUNTIFS(Dosen!$P$4:$P$449,A7,Dosen!$H$4:$H$449,"s1") -> 0 | EM7: =COUNTIFS(Dosen!$P$4:$P$449,A7,Dosen!$H$4:$H$449,"sp.2") -> 6 | EN7: =COUNTIFS(Dosen!$P$4:$P$449,A7,Dosen!$H$4:$H$449,"sp.1") -> 39 | EO7: =COUNTIFS(Dosen!$P$4:$P$449,A7,Dosen!$K$4:$K$449,"NIDN") -> 28 | EP7: =COUNTIFS(Dosen!$P$4:$P$449,A7,Dosen!$K$4:$K$449,"NIDk") -> 22 | EQ7: =COUNTIFS(Dosen!$P$4:$P$449,A7,Dosen!$K$4:$K$449,"belum") -> 8 | ER7: =COUNTIFS(Dosen!$P$4:$P$449,A7,Dosen!$K$4:$K$449,"NUPTK") -> 4 | ES7: 331 | ET7: =COUNTIFS(Dosen!$P$4:$P$469,A7,Dosen!$D$4:$D$469,"DT") -> 33 | EU7: =COUNTIFS(Dosen!$P$4:$P$469,A7,Dosen!$D$4:$D$469,"CDTP") -> 0 | EV7: =COUNTIFS(Dosen!$P$4:$P$469,A7,Dosen!$D$4:$D$469,"CDTSL") -> 0 | EW7: =COUNTIFS(Dosen!$P$4:$P$469,A7,Dosen!$D$4:$D$469,"dosen kopertis") -> 0 | EX7: =COUNTIFS(Dosen!$P$4:$P$469,A7,Dosen!$D$4:$D$469,"DBK") -> 0 | EY7: =COUNTIFS(Dosen!$P$4:$P$469,A7,Dosen!$D$4:$D$469,"DPK") -> 28 | EZ7: =COUNTIFS(Dosen!$P$4:$P$469,A7,Dosen!$D$4:$D$469,"DLBK") -> 1 | FA7: =SUM(ET7:EZ7) -> 62 | FB7: =COUNTIFS(Dosen!$P$4:$P$469,A7,Dosen!$E$4:$E$469,"Belum") -> 16 | FC7: =COUNTIFS(Dosen!$P$4:$P$469,$A7,Dosen!$E$4:$E$469,"Asisten Ahli") -> 37 | FD7: =COUNTIFS(Dosen!$P$4:$P$469,$A7,Dosen!$E$4:$E$469,"Lektor") -> 7 | FE7: =COUNTIFS(Dosen!$P$4:$P$469,$A7,Dosen!$E$4:$E$469,"Lektor Kepala") -> 1 | FF7: =COUNTIFS(Dosen!$P$4:$P$469,$A7,Dosen!$E$4:$E$469,"Guru Besar") -> 1 | FG7: =COUNTIFS(Dosen!$P$5:$P$449,$A7,Dosen!$I$5:$I$449,"Belum") -> 50 | FH7: =COUNTIFS(Dosen!$P$5:$P$449,A7,Dosen!$I$5:$I$449,"SUDAH") -> 12 | FI7: =COUNTIFS(Dosen!$P$4:$P$449,A7,Dosen!$H$4:$H$449,"s3") -> 6 | FJ7: =COUNTIFS(Dosen!$P$4:$P$449,A7,Dosen!$H$4:$H$449,"s2") -> 11 | FK7: =COUNTIFS(Dosen!$P$4:$P$449,A7,Dosen!$H$4:$H$449,"s1") -> 0 | FL7: =COUNTIFS(Dosen!$P$4:$P$449,A7,Dosen!$H$4:$H$449,"sp.2") -> 6 | FM7: =COUNTIFS(Dosen!$P$4:$P$449,A7,Dosen!$H$4:$H$449,"sp.1") -> 39 | FN7: =COUNTIFS(Dosen!$P$4:$P$449,A7,Dosen!$K$4:$K$449,"NIDN") -> 28 | FO7: =COUNTIFS(Dosen!$P$4:$P$449,A7,Dosen!$K$4:$K$449,"NIDk") -> 22 | FP7: =COUNTIFS(Dosen!$P$4:$P$449,A7,Dosen!$K$4:$K$449,"belum") -> 8 | FQ7: =COUNTIFS(Dosen!$P$4:$P$449,A7,Dosen!$K$4:$K$449,"NUPTK") -> 4 | FR7: 331 | FS7: =COUNTIFS(Dosen!$P$4:$P$469,$A7,Dosen!$D$4:$D$469,"DT") -> 33 | FT7: =COUNTIFS(Dosen!$P$4:$P$469,$A7,Dosen!$D$4:$D$469,"CDTP") -> 0 | FU7: =COUNTIFS(Dosen!$P$4:$P$469,$A7,Dosen!$D$4:$D$469,"CDTSL") -> 0 | FV7: =COUNTIFS(Dosen!$P$4:$P$469,$A7,Dosen!$D$4:$D$469,"dosen kopertis") -> 0 | FW7: =COUNTIFS(Dosen!$P$4:$P$469,$A7,Dosen!$D$4:$D$469,"DBK") -> 0 | FX7: =COUNTIFS(Dosen!$P$4:$P$469,$A7,Dosen!$D$4:$D$469,"DPK") -> 28 | FY7: =COUNTIFS(Dosen!$P$4:$P$469,$A7,Dosen!$D$4:$D$469,"DLBK") -> 1 | FZ7: =SUM(FS7:FY7) -> 62 | GA7: =COUNTIFS(Dosen!$P$4:$P$469,$A7,Dosen!$E$4:$E$469,"Belum") -> 16 | GB7: =COUNTIFS(Dosen!$P$4:$P$469,$A7,Dosen!$E$4:$E$469,"Asisten Ahli") -> 37 | GC7: =COUNTIFS(Dosen!$P$4:$P$469,$A7,Dosen!$E$4:$E$469,"Lektor") -> 7 | GD7: =COUNTIFS(Dosen!$P$4:$P$469,$A7,Dosen!$E$4:$E$469,"Lektor Kepala") -> 1 | GE7: =COUNTIFS(Dosen!$P$4:$P$469,$A7,Dosen!$E$4:$E$469,"Guru Besar") -> 1 | GF7: =COUNTIFS(Dosen!$P$5:$P$449,$A7,Dosen!$I$5:$I$449,"Belum") -> 50 | GG7: =COUNTIFS(Dosen!$P$5:$P$449,$A7,Dosen!$I$5:$I$449,"SUDAH") -> 12 | GH7: =COUNTIFS(Dosen!$P$4:$P$449,$A7,Dosen!$H$4:$H$449,"s3") -> 6 | GI7: =COUNTIFS(Dosen!$P$4:$P$449,$A7,Dosen!$H$4:$H$449,"s2") -> 11 | GJ7: =COUNTIFS(Dosen!$P$4:$P$449,$A7,Dosen!$H$4:$H$449,"s1") -> 0 | GK7: =COUNTIFS(Dosen!$P$4:$P$449,$A7,Dosen!$H$4:$H$449,"sp.2") -> 6 | GL7: =COUNTIFS(Dosen!$P$4:$P$449,$A7,Dosen!$H$4:$H$449,"sp.1") -> 39 | GM7: =COUNTIFS(Dosen!$P$4:$P$449,$A7,Dosen!$K$4:$K$449,"NIDN") -> 28 | GN7: =COUNTIFS(Dosen!$P$4:$P$449,$A7,Dosen!$K$4:$K$449,"NIDk") -> 22 | GO7: =COUNTIFS(Dosen!$P$4:$P$449,$A7,Dosen!$K$4:$K$449,"belum") -> 8 | GP7: =COUNTIFS(Dosen!$P$4:$P$449,$A7,Dosen!$K$4:$K$449,"NUPTK") -> 4 | GQ7: 331 | GR7: 33 | GS7: 1 | GT7: 0 | GU7: 0 | GV7: 0 | GW7: 24 | GX7: 1 | GY7: 59 | GZ7: 19 | HA7: 34 | HB7: 4 | HC7: 1 | HD7: 1 | HE7: 53 | HF7: 6 | HG7: 6 | HH7: 10 | HI7: 0 | HJ7: 6 | HK7: 36 | HL7: 28 | HM7: 22 | HN7: 5 | HO7: 4 | HP7: 331 | HQ7: 33 | HR7: 0 | HS7: 0 | HT7: 0 | HU7: 0 | HV7: 27 | HW7: 1 | HX7: 61 | HY7: 16 | HZ7: 38 | IA7: 5 | IB7: 1 | IC7: 1 | ID7: 55 | IE7: 6 | IF7: 6 | IG7: 11 | IH7: 0 | II7: 6 | IJ7: 38 | IK7: 28 | IL7: 22 | IM7: 7 | IN7: 4 | IO7: 331 | IP7: 33 | IQ7: 0 | IR7: 0 | IS7: 0 | IT7: 0 | IU7: 27 | IV7: 1 | IW7: 61 | IX7: 15 | IY7: 37 | IZ7: 7 | JA7: 1 | JB7: 1 | JC7: 55 | JD7: 6 | JE7: 6 | JF7: 11 | JG7: 0 | JH7: 6 | JI7: 38 | JJ7: 28 | JK7: 22 | JL7: 7 | JM7: 4 | JN7: 331 | JO7: 33 | JP7: 0 | JQ7: 0 | JR7: 0 | JS7: 0 | JT7: 28 | JU7: 1 | JV7: 62 | JW7: 16 | JX7: 37 | JY7: 7 | JZ7: 1 | KA7: 1 | KB7: 50 | KC7: 12 | KD7: 6 | KE7: 11 | KF7: 0 | KG7: 6 | KH7: 39 | KI7: 28 | KJ7: 22 | KK7: 8 | KL7: 4 | KM7: 373 | KN7: =COUNTIFS(Dosen!$P$4:$P$469,$A7,Dosen!$D$4:$D$469,"DT") -> 33 | KO7: =COUNTIFS(Dosen!$P$4:$P$469,$A7,Dosen!$D$4:$D$469,"CDTP") -> 0 | KP7: =COUNTIFS(Dosen!$P$4:$P$469,$A7,Dosen!$D$4:$D$469,"CDTSL") -> 0 | KQ7: =COUNTIFS(Dosen!$P$4:$P$469,$A7,Dosen!$D$4:$D$469,"dosen kopertis") -> 0 | KR7: =COUNTIFS(Dosen!$P$4:$P$469,$A7,Dosen!$D$4:$D$469,"DBK") -> 0 | KS7: =COUNTIFS(Dosen!$P$4:$P$469,$A7,Dosen!$D$4:$D$469,"DPK") -> 28 | KT7: =COUNTIFS(Dosen!$P$4:$P$469,$A7,Dosen!$D$4:$D$469,"DLBK") -> 1 | KU7: =SUM(KN7:KT7) -> 62 | KV7: =COUNTIFS(Dosen!$P$4:$P$469,$A7,Dosen!$E$4:$E$469,"Belum") -> 16 | KW7: =COUNTIFS(Dosen!$P$4:$P$469,$A7,Dosen!$E$4:$E$469,"Asisten Ahli") -> 37 | KX7: =COUNTIFS(Dosen!$P$4:$P$469,$A7,Dosen!$E$4:$E$469,"Lektor") -> 7 | KY7: =COUNTIFS(Dosen!$P$4:$P$469,$A7,Dosen!$E$4:$E$469,"Lektor Kepala") -> 1 | KZ7: =COUNTIFS(Dosen!$P$4:$P$469,$A7,Dosen!$E$4:$E$469,"Guru Besar") -> 1 | LA7: =COUNTIFS(Dosen!$P$5:$P$495,$A7,Dosen!$I$5:$I$495,"Belum") -> 50 | LB7: =COUNTIFS(Dosen!$P$5:$P$495,$A7,Dosen!$I$5:$I$495,"SUDAH") -> 12 | LC7: =COUNTIFS(Dosen!$P$4:$P$495,$A7,Dosen!$H$4:$H$495,"s3") -> 6 | LD7: =COUNTIFS(Dosen!$P$4:$P$495,$A7,Dosen!$H$4:$H$495,"s2") -> 11 | LE7: =COUNTIFS(Dosen!$P$4:$P$495,$A7,Dosen!$H$4:$H$495,"s1") -> 0 | LF7: =COUNTIFS(Dosen!$P$4:$P$495,$A7,Dosen!$H$4:$H$495,"sp.2") -> 6 | LG7: =COUNTIFS(Dosen!$P$4:$P$495,$A7,Dosen!$H$4:$H$495,"sp.1") -> 39 | LH7: =COUNTIFS(Dosen!$P$4:$P$495,$A7,Dosen!$K$4:$K$495,"NIDN") -> 28 | LI7: =COUNTIFS(Dosen!$P$4:$P$495,$A7,Dosen!$K$4:$K$495,"NIDk") -> 22 | LJ7: =COUNTIFS(Dosen!$P$4:$P$495,$A7,Dosen!$K$4:$K$495,"belum") -> 8 | LK7: =COUNTIFS(Dosen!$P$4:$P$495,$A7,Dosen!$K$4:$K$495,"NUPTK") -> 4
A8: Program Magister Kesehatan Penuaan Kulit dan Estetika | B8: 77 | C8: 5 | D8: 0 | E8: 0 | F8: 0 | G8: 0 | H8: 0 | I8: 0 | J8: 5 | K8: 0 | L8: 0 | M8: 1 | N8: 2 | O8: 2 | P8: 1 | Q8: 4 | R8: 5 | S8: 0 | T8: 0 | U8: 0 | V8: 0 | W8: 5 | X8: 0 | Y8: 0 | Z8: 77 | AA8: 5 | AB8: 0 | AC8: 0 | AD8: 0 | AE8: 0 | AF8: 0 | AG8: 0 | AH8: 5 | AI8: 0 | AJ8: 0 | AK8: 1 | AL8: 2 | AM8: 2 | AN8: 1 | AO8: 4 | AP8: 5 | AQ8: 0 | AR8: 0 | AS8: 0 | AT8: 0 | AU8: 5 | AV8: 0 | AW8: 0 | AX8: 77 | AY8: 5 | AZ8: 0 | BA8: 0 | BB8: 0 | BC8: 0 | BD8: 0 | BE8: 0 | BF8: 5 | BG8: 0 | BH8: 0 | BI8: 1 | BJ8: 2 | BK8: 2 | BL8: 1 | BM8: 4 | BN8: 5 | BO8: 0 | BP8: 0 | BQ8: 0 | BR8: 0 | BS8: 5 | BT8: 0 | BU8: 0 | BV8: 77 | BW8: 5 | BX8: 0 | BY8: 0 | BZ8: 0 | CA8: 0 | CB8: 0 | CC8: 0 | CD8: 5 | CE8: 0 | CF8: 0 | CG8: 1 | CH8: 2 | CI8: 2 | CJ8: 1 | CK8: 4 | CL8: 5 | CM8: 0 | CN8: 0 | CO8: 0 | CP8: 0 | CQ8: 5 | CR8: 0 | CS8: 0 | CT8: 0 | CU8: 77 | CV8: 5 | CW8: 0 | CX8: 0 | CY8: 0 | CZ8: 0 | DA8: 0 | DB8: 0 | DC8: 5 | DD8: 0 | DE8: 0 | DF8: 0 | DG8: 2 | DH8: 3 | DI8: 0 | DJ8: 5 | DK8: 5 | DL8: 0 | DM8: 0 | DN8: 0 | DO8: 0 | DP8: 5 | DQ8: 0 | DR8: 0 | DS8: 0 | DT8: 86 | DU8: =COUNTIFS(Dosen!$P$4:$P$469,A8,Dosen!$D$4:$D$469,"DT") -> 5 | DV8: =COUNTIFS(Dosen!$P$4:$P$469,A8,Dosen!$D$4:$D$469,"CDTP") -> 0 | DW8: =COUNTIFS(Dosen!$P$4:$P$469,A8,Dosen!$D$4:$D$469,"CDTSL") -> 0 | DX8: =COUNTIFS(Dosen!$P$4:$P$469,A8,Dosen!$D$4:$D$469,"dosen kopertis") -> 0 | DY8: =COUNTIFS(Dosen!$P$4:$P$469,A8,Dosen!$D$4:$D$469,"DBK") -> 0 | DZ8: =COUNTIFS(Dosen!$P$4:$P$469,A8,Dosen!$D$4:$D$469,"DPK") -> 0 | EA8: =COUNTIFS(Dosen!$P$4:$P$469,A8,Dosen!$D$4:$D$469,"DLBK") -> 0 | EB8: =SUM(DU8:EA8) -> 5 | EC8: =COUNTIFS(Dosen!$P$4:$P$469,A8,Dosen!$E$4:$E$469,"Belum") -> 0 | ED8: =COUNTIFS(Dosen!$P$4:$P$469,$A8,Dosen!$E$4:$E$469,"Asisten Ahli") -> 0 | EE8: =COUNTIFS(Dosen!$P$4:$P$469,$A8,Dosen!$E$4:$E$469,"Lektor") -> 0 | EF8: =COUNTIFS(Dosen!$P$4:$P$469,$A8,Dosen!$E$4:$E$469,"Lektor Kepala") -> 2 | EG8: =COUNTIFS(Dosen!$P$4:$P$469,$A8,Dosen!$E$4:$E$469,"Guru Besar") -> 3 | EH8: =COUNTIFS(Dosen!$P$5:$P$449,A8,Dosen!$I$5:$I$449,"Belum") -> 0 | EI8: =COUNTIFS(Dosen!$P$5:$P$449,A8,Dosen!$I$5:$I$449,"SUDAH") -> 5 | EJ8: =COUNTIFS(Dosen!$P$4:$P$449,A8,Dosen!$H$4:$H$449,"s3") -> 5 | EK8: =COUNTIFS(Dosen!$P$4:$P$449,A8,Dosen!$H$4:$H$449,"s2") -> 0 | EL8: =COUNTIFS(Dosen!$P$4:$P$449,A8,Dosen!$H$4:$H$449,"s1") -> 0 | EM8: =COUNTIFS(Dosen!$P$4:$P$449,A8,Dosen!$H$4:$H$449,"sp.2") -> 0 | EN8: =COUNTIFS(Dosen!$P$4:$P$449,A8,Dosen!$H$4:$H$449,"sp.1") -> 0 | EO8: =COUNTIFS(Dosen!$P$4:$P$449,A8,Dosen!$K$4:$K$449,"NIDN") -> 5 | EP8: =COUNTIFS(Dosen!$P$4:$P$449,A8,Dosen!$K$4:$K$449,"NIDk") -> 0 | EQ8: =COUNTIFS(Dosen!$P$4:$P$449,A8,Dosen!$K$4:$K$449,"belum") -> 0 | ER8: =COUNTIFS(Dosen!$P$4:$P$449,A8,Dosen!$K$4:$K$449,"NUPTK") -> 0 | ES8: 86 | ET8: =COUNTIFS(Dosen!$P$4:$P$469,A8,Dosen!$D$4:$D$469,"DT") -> 5 | EU8: =COUNTIFS(Dosen!$P$4:$P$469,A8,Dosen!$D$4:$D$469,"CDTP") -> 0 | EV8: =COUNTIFS(Dosen!$P$4:$P$469,A8,Dosen!$D$4:$D$469,"CDTSL") -> 0 | EW8: =COUNTIFS(Dosen!$P$4:$P$469,A8,Dosen!$D$4:$D$469,"dosen kopertis") -> 0 | EX8: =COUNTIFS(Dosen!$P$4:$P$469,A8,Dosen!$D$4:$D$469,"DBK") -> 0 | EY8: =COUNTIFS(Dosen!$P$4:$P$469,A8,Dosen!$D$4:$D$469,"DPK") -> 0 | EZ8: =COUNTIFS(Dosen!$P$4:$P$469,A8,Dosen!$D$4:$D$469,"DLBK") -> 0 | FA8: =SUM(ET8:EZ8) -> 5 | FB8: =COUNTIFS(Dosen!$P$4:$P$469,A8,Dosen!$E$4:$E$469,"Belum") -> 0 | FC8: =COUNTIFS(Dosen!$P$4:$P$469,$A8,Dosen!$E$4:$E$469,"Asisten Ahli") -> 0 | FD8: =COUNTIFS(Dosen!$P$4:$P$469,$A8,Dosen!$E$4:$E$469,"Lektor") -> 0 | FE8: =COUNTIFS(Dosen!$P$4:$P$469,$A8,Dosen!$E$4:$E$469,"Lektor Kepala") -> 2 | FF8: =COUNTIFS(Dosen!$P$4:$P$469,$A8,Dosen!$E$4:$E$469,"Guru Besar") -> 3 | FG8: =COUNTIFS(Dosen!$P$5:$P$449,$A8,Dosen!$I$5:$I$449,"Belum") -> 0 | FH8: =COUNTIFS(Dosen!$P$5:$P$449,A8,Dosen!$I$5:$I$449,"SUDAH") -> 5 | FI8: =COUNTIFS(Dosen!$P$4:$P$449,A8,Dosen!$H$4:$H$449,"s3") -> 5 | FJ8: =COUNTIFS(Dosen!$P$4:$P$449,A8,Dosen!$H$4:$H$449,"s2") -> 0 | FK8: =COUNTIFS(Dosen!$P$4:$P$449,A8,Dosen!$H$4:$H$449,"s1") -> 0 | FL8: =COUNTIFS(Dosen!$P$4:$P$449,A8,Dosen!$H$4:$H$449,"sp.2") -> 0 | FM8: =COUNTIFS(Dosen!$P$4:$P$449,A8,Dosen!$H$4:$H$449,"sp.1") -> 0 | FN8: =COUNTIFS(Dosen!$P$4:$P$449,A8,Dosen!$K$4:$K$449,"NIDN") -> 5 | FO8: =COUNTIFS(Dosen!$P$4:$P$449,A8,Dosen!$K$4:$K$449,"NIDk") -> 0 | FP8: =COUNTIFS(Dosen!$P$4:$P$449,A8,Dosen!$K$4:$K$449,"belum") -> 0 | FQ8: =COUNTIFS(Dosen!$P$4:$P$449,A8,Dosen!$K$4:$K$449,"NUPTK") -> 0 | FR8: 86 | FS8: =COUNTIFS(Dosen!$P$4:$P$469,$A8,Dosen!$D$4:$D$469,"DT") -> 5 | FT8: =COUNTIFS(Dosen!$P$4:$P$469,$A8,Dosen!$D$4:$D$469,"CDTP") -> 0 | FU8: =COUNTIFS(Dosen!$P$4:$P$469,$A8,Dosen!$D$4:$D$469,"CDTSL") -> 0 | FV8: =COUNTIFS(Dosen!$P$4:$P$469,$A8,Dosen!$D$4:$D$469,"dosen kopertis") -> 0 | FW8: =COUNTIFS(Dosen!$P$4:$P$469,$A8,Dosen!$D$4:$D$469,"DBK") -> 0 | FX8: =COUNTIFS(Dosen!$P$4:$P$469,$A8,Dosen!$D$4:$D$469,"DPK") -> 0 | FY8: =COUNTIFS(Dosen!$P$4:$P$469,$A8,Dosen!$D$4:$D$469,"DLBK") -> 0 | FZ8: =SUM(FS8:FY8) -> 5 | GA8: =COUNTIFS(Dosen!$P$4:$P$469,$A8,Dosen!$E$4:$E$469,"Belum") -> 0 | GB8: =COUNTIFS(Dosen!$P$4:$P$469,$A8,Dosen!$E$4:$E$469,"Asisten Ahli") -> 0 | GC8: =COUNTIFS(Dosen!$P$4:$P$469,$A8,Dosen!$E$4:$E$469,"Lektor") -> 0 | GD8: =COUNTIFS(Dosen!$P$4:$P$469,$A8,Dosen!$E$4:$E$469,"Lektor Kepala") -> 2 | GE8: =COUNTIFS(Dosen!$P$4:$P$469,$A8,Dosen!$E$4:$E$469,"Guru Besar") -> 3 | GF8: =COUNTIFS(Dosen!$P$5:$P$449,$A8,Dosen!$I$5:$I$449,"Belum") -> 0 | GG8: =COUNTIFS(Dosen!$P$5:$P$449,$A8,Dosen!$I$5:$I$449,"SUDAH") -> 5 | GH8: =COUNTIFS(Dosen!$P$4:$P$449,$A8,Dosen!$H$4:$H$449,"s3") -> 5 | GI8: =COUNTIFS(Dosen!$P$4:$P$449,$A8,Dosen!$H$4:$H$449,"s2") -> 0 | GJ8: =COUNTIFS(Dosen!$P$4:$P$449,$A8,Dosen!$H$4:$H$449,"s1") -> 0 | GK8: =COUNTIFS(Dosen!$P$4:$P$449,$A8,Dosen!$H$4:$H$449,"sp.2") -> 0 | GL8: =COUNTIFS(Dosen!$P$4:$P$449,$A8,Dosen!$H$4:$H$449,"sp.1") -> 0 | GM8: =COUNTIFS(Dosen!$P$4:$P$449,$A8,Dosen!$K$4:$K$449,"NIDN") -> 5 | GN8: =COUNTIFS(Dosen!$P$4:$P$449,$A8,Dosen!$K$4:$K$449,"NIDk") -> 0 | GO8: =COUNTIFS(Dosen!$P$4:$P$449,$A8,Dosen!$K$4:$K$449,"belum") -> 0 | GP8: =COUNTIFS(Dosen!$P$4:$P$449,$A8,Dosen!$K$4:$K$449,"NUPTK") -> 0 | GQ8: 86 | GR8: 5 | GS8: 0 | GT8: 0 | GU8: 0 | GV8: 0 | GW8: 0 | GX8: 0 | GY8: 5 | GZ8: 0 | HA8: 0 | HB8: 0 | HC8: 2 | HD8: 3 | HE8: 0 | HF8: 5 | HG8: 5 | HH8: 0 | HI8: 0 | HJ8: 0 | HK8: 0 | HL8: 5 | HM8: 0 | HN8: 0 | HO8: 0 | HP8: 86 | HQ8: 5 | HR8: 0 | HS8: 0 | HT8: 0 | HU8: 0 | HV8: 0 | HW8: 0 | HX8: 5 | HY8: 0 | HZ8: 0 | IA8: 0 | IB8: 2 | IC8: 3 | ID8: 0 | IE8: 5 | IF8: 5 | IG8: 0 | IH8: 0 | II8: 0 | IJ8: 0 | IK8: 5 | IL8: 0 | IM8: 0 | IN8: 0 | IO8: 86 | IP8: 5 | IQ8: 0 | IR8: 0 | IS8: 0 | IT8: 0 | IU8: 0 | IV8: 0 | IW8: 5 | IX8: 0 | IY8: 0 | IZ8: 0 | JA8: 2 | JB8: 3 | JC8: 0 | JD8: 5 | JE8: 5 | JF8: 0 | JG8: 0 | JH8: 0 | JI8: 0 | JJ8: 5 | JK8: 0 | JL8: 0 | JM8: 0 | JN8: 86 | JO8: 5 | JP8: 0 | JQ8: 0 | JR8: 0 | JS8: 0 | JT8: 0 | JU8: 0 | JV8: 5 | JW8: 0 | JX8: 0 | JY8: 0 | JZ8: 2 | KA8: 3 | KB8: 0 | KC8: 5 | KD8: 5 | KE8: 0 | KF8: 0 | KG8: 0 | KH8: 0 | KI8: 5 | KJ8: 0 | KK8: 0 | KL8: 0 | KM8: 97 | KN8: =COUNTIFS(Dosen!$P$4:$P$469,$A8,Dosen!$D$4:$D$469,"DT") -> 5 | KO8: =COUNTIFS(Dosen!$P$4:$P$469,$A8,Dosen!$D$4:$D$469,"CDTP") -> 0 | KP8: =COUNTIFS(Dosen!$P$4:$P$469,$A8,Dosen!$D$4:$D$469,"CDTSL") -> 0 | KQ8: =COUNTIFS(Dosen!$P$4:$P$469,$A8,Dosen!$D$4:$D$469,"dosen kopertis") -> 0 | KR8: =COUNTIFS(Dosen!$P$4:$P$469,$A8,Dosen!$D$4:$D$469,"DBK") -> 0 | KS8: =COUNTIFS(Dosen!$P$4:$P$469,$A8,Dosen!$D$4:$D$469,"DPK") -> 0 | KT8: =COUNTIFS(Dosen!$P$4:$P$469,$A8,Dosen!$D$4:$D$469,"DLBK") -> 0 | KU8: =SUM(KN8:KT8) -> 5 | KV8: =COUNTIFS(Dosen!$P$4:$P$469,$A8,Dosen!$E$4:$E$469,"Belum") -> 0 | KW8: =COUNTIFS(Dosen!$P$4:$P$469,$A8,Dosen!$E$4:$E$469,"Asisten Ahli") -> 0 | KX8: =COUNTIFS(Dosen!$P$4:$P$469,$A8,Dosen!$E$4:$E$469,"Lektor") -> 0 | KY8: =COUNTIFS(Dosen!$P$4:$P$469,$A8,Dosen!$E$4:$E$469,"Lektor Kepala") -> 2 | KZ8: =COUNTIFS(Dosen!$P$4:$P$469,$A8,Dosen!$E$4:$E$469,"Guru Besar") -> 3 | LA8: =COUNTIFS(Dosen!$P$5:$P$495,$A8,Dosen!$I$5:$I$495,"Belum") -> 0 | LB8: =COUNTIFS(Dosen!$P$5:$P$495,$A8,Dosen!$I$5:$I$495,"SUDAH") -> 5 | LC8: =COUNTIFS(Dosen!$P$4:$P$495,$A8,Dosen!$H$4:$H$495,"s3") -> 5 | LD8: =COUNTIFS(Dosen!$P$4:$P$495,$A8,Dosen!$H$4:$H$495,"s2") -> 0 | LE8: =COUNTIFS(Dosen!$P$4:$P$495,$A8,Dosen!$H$4:$H$495,"s1") -> 0 | LF8: =COUNTIFS(Dosen!$P$4:$P$495,$A8,Dosen!$H$4:$H$495,"sp.2") -> 0 | LG8: =COUNTIFS(Dosen!$P$4:$P$495,$A8,Dosen!$H$4:$H$495,"sp.1") -> 0 | LH8: =COUNTIFS(Dosen!$P$4:$P$495,$A8,Dosen!$K$4:$K$495,"NIDN") -> 5 | LI8: =COUNTIFS(Dosen!$P$4:$P$495,$A8,Dosen!$K$4:$K$495,"NIDk") -> 0 | LJ8: =COUNTIFS(Dosen!$P$4:$P$495,$A8,Dosen!$K$4:$K$495,"belum") -> 0 | LK8: =COUNTIFS(Dosen!$P$4:$P$495,$A8,Dosen!$K$4:$K$495,"NUPTK") -> 0
A9: Program Sarjana Bioteknologi Fakultas Kedokteran | B9: 0 | C9: 0 | D9: 0 | E9: 0 | F9: 0 | G9: 0 | H9: 0 | I9: 0 | J9: 0 | K9: 0 | L9: 0 | M9: 0 | N9: 0 | O9: 0 | P9: 0 | Q9: 0 | R9: 0 | S9: 0 | T9: 0 | U9: 0 | V9: 0 | W9: 0 | X9: 0 | Y9: 0 | Z9: 0 | AA9: 0 | AB9: 0 | AC9: 0 | AD9: 0 | AE9: 0 | AF9: 0 | AG9: 0 | AH9: 0 | AI9: 0 | AJ9: 0 | AK9: 0 | AL9: 0 | AM9: 0 | AN9: 0 | AO9: 0 | AP9: 0 | AQ9: 0 | AR9: 0 | AS9: 0 | AT9: 0 | AU9: 0 | AV9: 0 | AW9: 0 | AX9: 0 | AY9: 0 | AZ9: 0 | BA9: 0 | BB9: 0 | BC9: 0 | BD9: 0 | BE9: 0 | BF9: 0 | BG9: 0 | BH9: 0 | BI9: 0 | BJ9: 0 | BK9: 0 | BL9: 0 | BM9: 0 | BN9: 0 | BO9: 0 | BP9: 0 | BQ9: 0 | BR9: 0 | BS9: 0 | BT9: 0 | BU9: 0 | BV9: 0 | BW9: 0 | BX9: 0 | BY9: 0 | BZ9: 0 | CA9: 0 | CB9: 0 | CC9: 0 | CD9: 0 | CE9: 0 | CF9: 0 | CG9: 0 | CH9: 0 | CI9: 0 | CJ9: 0 | CK9: 0 | CL9: 0 | CM9: 0 | CN9: 0 | CO9: 0 | CP9: 0 | CQ9: 0 | CR9: 0 | CS9: 0 | CT9: 0 | CU9: 0 | CV9: 4 | CW9: 2 | CX9: 0 | CY9: 0 | CZ9: 0 | DA9: 1 | DB9: 0 | DC9: 7 | DD9: 2 | DE9: 2 | DF9: 3 | DG9: 0 | DH9: 0 | DI9: 6 | DJ9: 1 | DK9: 2 | DL9: 5 | DM9: 0 | DN9: 0 | DO9: 0 | DP9: 4 | DQ9: 0 | DR9: 2 | DS9: 1 | DT9: 0 | DU9: =COUNTIFS(Dosen!$P$4:$P$469,A9,Dosen!$D$4:$D$469,"DT") -> 4 | DV9: =COUNTIFS(Dosen!$P$4:$P$469,A9,Dosen!$D$4:$D$469,"CDTP") -> 0 | DW9: =COUNTIFS(Dosen!$P$4:$P$469,A9,Dosen!$D$4:$D$469,"CDTSL") -> 0 | DX9: =COUNTIFS(Dosen!$P$4:$P$469,A9,Dosen!$D$4:$D$469,"dosen kopertis") -> 0 | DY9: =COUNTIFS(Dosen!$P$4:$P$469,A9,Dosen!$D$4:$D$469,"DBK") -> 0 | DZ9: =COUNTIFS(Dosen!$P$4:$P$469,A9,Dosen!$D$4:$D$469,"DPK") -> 4 | EA9: =COUNTIFS(Dosen!$P$4:$P$469,A9,Dosen!$D$4:$D$469,"DLBK") -> 1 | EB9: =SUM(DU9:EA9) -> 9 | EC9: =COUNTIFS(Dosen!$P$4:$P$469,A9,Dosen!$E$4:$E$469,"Belum") -> 4 | ED9: =COUNTIFS(Dosen!$P$4:$P$469,$A9,Dosen!$E$4:$E$469,"Asisten Ahli") -> 2 | EE9: =COUNTIFS(Dosen!$P$4:$P$469,$A9,Dosen!$E$4:$E$469,"Lektor") -> 3 | EF9: =COUNTIFS(Dosen!$P$4:$P$469,$A9,Dosen!$E$4:$E$469,"Lektor Kepala") -> 0 | EG9: =COUNTIFS(Dosen!$P$4:$P$469,$A9,Dosen!$E$4:$E$469,"Guru Besar") -> 0 | EH9: =COUNTIFS(Dosen!$P$5:$P$449,A9,Dosen!$I$5:$I$449,"Belum") -> 7 | EI9: =COUNTIFS(Dosen!$P$5:$P$449,A9,Dosen!$I$5:$I$449,"SUDAH") -> 2 | EJ9: =COUNTIFS(Dosen!$P$4:$P$449,A9,Dosen!$H$4:$H$449,"s3") -> 4 | EK9: =COUNTIFS(Dosen!$P$4:$P$449,A9,Dosen!$H$4:$H$449,"s2") -> 5 | EL9: =COUNTIFS(Dosen!$P$4:$P$449,A9,Dosen!$H$4:$H$449,"s1") -> 0 | EM9: =COUNTIFS(Dosen!$P$4:$P$449,A9,Dosen!$H$4:$H$449,"sp.2") -> 0 | EN9: =COUNTIFS(Dosen!$P$4:$P$449,A9,Dosen!$H$4:$H$449,"sp.1") -> 0 | EO9: =COUNTIFS(Dosen!$P$4:$P$449,A9,Dosen!$K$4:$K$449,"NIDN") -> 4 | EP9: =COUNTIFS(Dosen!$P$4:$P$449,A9,Dosen!$K$4:$K$449,"NIDk") -> 0 | EQ9: =COUNTIFS(Dosen!$P$4:$P$449,A9,Dosen!$K$4:$K$449,"belum") -> 2 | ER9: =COUNTIFS(Dosen!$P$4:$P$449,A9,Dosen!$K$4:$K$449,"NUPTK") -> 3 | ES9: 0 | ET9: =COUNTIFS(Dosen!$P$4:$P$469,A9,Dosen!$D$4:$D$469,"DT") -> 4 | EU9: =COUNTIFS(Dosen!$P$4:$P$469,A9,Dosen!$D$4:$D$469,"CDTP") -> 0 | EV9: =COUNTIFS(Dosen!$P$4:$P$469,A9,Dosen!$D$4:$D$469,"CDTSL") -> 0 | EW9: =COUNTIFS(Dosen!$P$4:$P$469,A9,Dosen!$D$4:$D$469,"dosen kopertis") -> 0 | EX9: =COUNTIFS(Dosen!$P$4:$P$469,A9,Dosen!$D$4:$D$469,"DBK") -> 0 | EY9: =COUNTIFS(Dosen!$P$4:$P$469,A9,Dosen!$D$4:$D$469,"DPK") -> 4 | EZ9: =COUNTIFS(Dosen!$P$4:$P$469,A9,Dosen!$D$4:$D$469,"DLBK") -> 1 | FA9: =SUM(ET9:EZ9) -> 9 | FB9: =COUNTIFS(Dosen!$P$4:$P$469,A9,Dosen!$E$4:$E$469,"Belum") -> 4 | FC9: =COUNTIFS(Dosen!$P$4:$P$469,$A9,Dosen!$E$4:$E$469,"Asisten Ahli") -> 2 | FD9: =COUNTIFS(Dosen!$P$4:$P$469,$A9,Dosen!$E$4:$E$469,"Lektor") -> 3 | FE9: =COUNTIFS(Dosen!$P$4:$P$469,$A9,Dosen!$E$4:$E$469,"Lektor Kepala") -> 0 | FF9: =COUNTIFS(Dosen!$P$4:$P$469,$A9,Dosen!$E$4:$E$469,"Guru Besar") -> 0 | FG9: =COUNTIFS(Dosen!$P$5:$P$449,$A9,Dosen!$I$5:$I$449,"Belum") -> 7 | FH9: =COUNTIFS(Dosen!$P$5:$P$449,A9,Dosen!$I$5:$I$449,"SUDAH") -> 2 | FI9: =COUNTIFS(Dosen!$P$4:$P$449,A9,Dosen!$H$4:$H$449,"s3") -> 4 | FJ9: =COUNTIFS(Dosen!$P$4:$P$449,A9,Dosen!$H$4:$H$449,"s2") -> 5 | FK9: =COUNTIFS(Dosen!$P$4:$P$449,A9,Dosen!$H$4:$H$449,"s1") -> 0 | FL9: =COUNTIFS(Dosen!$P$4:$P$449,A9,Dosen!$H$4:$H$449,"sp.2") -> 0 | FM9: =COUNTIFS(Dosen!$P$4:$P$449,A9,Dosen!$H$4:$H$449,"sp.1") -> 0 | FN9: =COUNTIFS(Dosen!$P$4:$P$449,A9,Dosen!$K$4:$K$449,"NIDN") -> 4 | FO9: =COUNTIFS(Dosen!$P$4:$P$449,A9,Dosen!$K$4:$K$449,"NIDk") -> 0 | FP9: =COUNTIFS(Dosen!$P$4:$P$449,A9,Dosen!$K$4:$K$449,"belum") -> 2 | FQ9: =COUNTIFS(Dosen!$P$4:$P$449,A9,Dosen!$K$4:$K$449,"NUPTK") -> 3 | FR9: 0 | FS9: =COUNTIFS(Dosen!$P$4:$P$469,$A9,Dosen!$D$4:$D$469,"DT") -> 4 | FT9: =COUNTIFS(Dosen!$P$4:$P$469,$A9,Dosen!$D$4:$D$469,"CDTP") -> 0 | FU9: =COUNTIFS(Dosen!$P$4:$P$469,$A9,Dosen!$D$4:$D$469,"CDTSL") -> 0 | FV9: =COUNTIFS(Dosen!$P$4:$P$469,$A9,Dosen!$D$4:$D$469,"dosen kopertis") -> 0 | FW9: =COUNTIFS(Dosen!$P$4:$P$469,$A9,Dosen!$D$4:$D$469,"DBK") -> 0 | FX9: =COUNTIFS(Dosen!$P$4:$P$469,$A9,Dosen!$D$4:$D$469,"DPK") -> 4 | FY9: =COUNTIFS(Dosen!$P$4:$P$469,$A9,Dosen!$D$4:$D$469,"DLBK") -> 1 | FZ9: =SUM(FS9:FY9) -> 9 | GA9: =COUNTIFS(Dosen!$P$4:$P$469,$A9,Dosen!$E$4:$E$469,"Belum") -> 4 | GB9: =COUNTIFS(Dosen!$P$4:$P$469,$A9,Dosen!$E$4:$E$469,"Asisten Ahli") -> 2 | GC9: =COUNTIFS(Dosen!$P$4:$P$469,$A9,Dosen!$E$4:$E$469,"Lektor") -> 3 | GD9: =COUNTIFS(Dosen!$P$4:$P$469,$A9,Dosen!$E$4:$E$469,"Lektor Kepala") -> 0 | GE9: =COUNTIFS(Dosen!$P$4:$P$469,$A9,Dosen!$E$4:$E$469,"Guru Besar") -> 0 | GF9: =COUNTIFS(Dosen!$P$5:$P$449,$A9,Dosen!$I$5:$I$449,"Belum") -> 7 | GG9: =COUNTIFS(Dosen!$P$5:$P$449,$A9,Dosen!$I$5:$I$449,"SUDAH") -> 2 | GH9: =COUNTIFS(Dosen!$P$4:$P$449,$A9,Dosen!$H$4:$H$449,"s3") -> 4 | GI9: =COUNTIFS(Dosen!$P$4:$P$449,$A9,Dosen!$H$4:$H$449,"s2") -> 5 | GJ9: =COUNTIFS(Dosen!$P$4:$P$449,$A9,Dosen!$H$4:$H$449,"s1") -> 0 | GK9: =COUNTIFS(Dosen!$P$4:$P$449,$A9,Dosen!$H$4:$H$449,"sp.2") -> 0 | GL9: =COUNTIFS(Dosen!$P$4:$P$449,$A9,Dosen!$H$4:$H$449,"sp.1") -> 0 | GM9: =COUNTIFS(Dosen!$P$4:$P$449,$A9,Dosen!$K$4:$K$449,"NIDN") -> 4 | GN9: =COUNTIFS(Dosen!$P$4:$P$449,$A9,Dosen!$K$4:$K$449,"NIDk") -> 0 | GO9: =COUNTIFS(Dosen!$P$4:$P$449,$A9,Dosen!$K$4:$K$449,"belum") -> 2 | GP9: =COUNTIFS(Dosen!$P$4:$P$449,$A9,Dosen!$K$4:$K$449,"NUPTK") -> 3 | GQ9: 0 | GR9: 4 | GS9: 2 | GT9: 0 | GU9: 0 | GV9: 0 | GW9: 2 | GX9: 1 | GY9: 9 | GZ9: 4 | HA9: 2 | HB9: 3 | HC9: 0 | HD9: 0 | HE9: 8 | HF9: 1 | HG9: 3 | HH9: 6 | HI9: 0 | HJ9: 0 | HK9: 0 | HL9: 4 | HM9: 0 | HN9: 4 | HO9: 1 | HP9: 0 | HQ9: 4 | HR9: 1 | HS9: 0 | HT9: 0 | HU9: 0 | HV9: 3 | HW9: 1 | HX9: 9 | HY9: 4 | HZ9: 2 | IA9: 3 | IB9: 0 | IC9: 0 | ID9: 8 | IE9: 1 | IF9: 4 | IG9: 5 | IH9: 0 | II9: 0 | IJ9: 0 | IK9: 4 | IL9: 0 | IM9: 4 | IN9: 1 | IO9: 0 | IP9: 4 | IQ9: 0 | IR9: 0 | IS9: 0 | IT9: 0 | IU9: 4 | IV9: 1 | IW9: 9 | IX9: 4 | IY9: 2 | IZ9: 3 | JA9: 0 | JB9: 0 | JC9: 8 | JD9: 1 | JE9: 4 | JF9: 5 | JG9: 0 | JH9: 0 | JI9: 0 | JJ9: 4 | JK9: 0 | JL9: 4 | JM9: 1 | JN9: 0 | JO9: 4 | JP9: 0 | JQ9: 0 | JR9: 0 | JS9: 0 | JT9: 4 | JU9: 1 | JV9: 9 | JW9: 4 | JX9: 2 | JY9: 3 | JZ9: 0 | KA9: 0 | KB9: 7 | KC9: 2 | KD9: 4 | KE9: 5 | KF9: 0 | KG9: 0 | KH9: 0 | KI9: 4 | KJ9: 0 | KK9: 4 | KL9: 1 | KM9: 12 | KN9: =COUNTIFS(Dosen!$P$4:$P$469,$A9,Dosen!$D$4:$D$469,"DT") -> 4 | KO9: =COUNTIFS(Dosen!$P$4:$P$469,$A9,Dosen!$D$4:$D$469,"CDTP") -> 0 | KP9: =COUNTIFS(Dosen!$P$4:$P$469,$A9,Dosen!$D$4:$D$469,"CDTSL") -> 0 | KQ9: =COUNTIFS(Dosen!$P$4:$P$469,$A9,Dosen!$D$4:$D$469,"dosen kopertis") -> 0 | KR9: =COUNTIFS(Dosen!$P$4:$P$469,$A9,Dosen!$D$4:$D$469,"DBK") -> 0 | KS9: =COUNTIFS(Dosen!$P$4:$P$469,$A9,Dosen!$D$4:$D$469,"DPK") -> 4 | KT9: =COUNTIFS(Dosen!$P$4:$P$469,$A9,Dosen!$D$4:$D$469,"DLBK") -> 1 | KU9: =SUM(KN9:KT9) -> 9 | KV9: =COUNTIFS(Dosen!$P$4:$P$469,$A9,Dosen!$E$4:$E$469,"Belum") -> 4 | KW9: =COUNTIFS(Dosen!$P$4:$P$469,$A9,Dosen!$E$4:$E$469,"Asisten Ahli") -> 2 | KX9: =COUNTIFS(Dosen!$P$4:$P$469,$A9,Dosen!$E$4:$E$469,"Lektor") -> 3 | KY9: =COUNTIFS(Dosen!$P$4:$P$469,$A9,Dosen!$E$4:$E$469,"Lektor Kepala") -> 0 | KZ9: =COUNTIFS(Dosen!$P$4:$P$469,$A9,Dosen!$E$4:$E$469,"Guru Besar") -> 0 | LA9: =COUNTIFS(Dosen!$P$5:$P$495,$A9,Dosen!$I$5:$I$495,"Belum") -> 7 | LB9: =COUNTIFS(Dosen!$P$5:$P$495,$A9,Dosen!$I$5:$I$495,"SUDAH") -> 2 | LC9: =COUNTIFS(Dosen!$P$4:$P$495,$A9,Dosen!$H$4:$H$495,"s3") -> 4 | LD9: =COUNTIFS(Dosen!$P$4:$P$495,$A9,Dosen!$H$4:$H$495,"s2") -> 5 | LE9: =COUNTIFS(Dosen!$P$4:$P$495,$A9,Dosen!$H$4:$H$495,"s1") -> 0 | LF9: =COUNTIFS(Dosen!$P$4:$P$495,$A9,Dosen!$H$4:$H$495,"sp.2") -> 0 | LG9: =COUNTIFS(Dosen!$P$4:$P$495,$A9,Dosen!$H$4:$H$495,"sp.1") -> 0 | LH9: =COUNTIFS(Dosen!$P$4:$P$495,$A9,Dosen!$K$4:$K$495,"NIDN") -> 4 | LI9: =COUNTIFS(Dosen!$P$4:$P$495,$A9,Dosen!$K$4:$K$495,"NIDk") -> 0 | LJ9: =COUNTIFS(Dosen!$P$4:$P$495,$A9,Dosen!$K$4:$K$495,"belum") -> 2 | LK9: =COUNTIFS(Dosen!$P$4:$P$495,$A9,Dosen!$K$4:$K$495,"NUPTK") -> 3
A10: Program Sarjana Pendidikan Dokter Gigi Fakultas Kedokteran Gigi | B10: 366 | C10: 16 | D10: 0 | E10: 1 | F10: 0 | G10: 0 | H10: 1 | I10: 0 | J10: 18 | K10: 1 | L10: 8 | M10: 8 | N10: 1 | O10: 0 | P10: 11 | Q10: 7 | R10: 3 | S10: 11 | T10: 1 | U10: 0 | V10: 3 | W10: 14 | X10: 1 | Y10: 3 | Z10: 366 | AA10: 16 | AB10: 0 | AC10: 1 | AD10: 0 | AE10: 0 | AF10: 1 | AG10: 0 | AH10: 18 | AI10: 1 | AJ10: 8 | AK10: 8 | AL10: 1 | AM10: 0 | AN10: 11 | AO10: 7 | AP10: 3 | AQ10: 11 | AR10: 1 | AS10: 0 | AT10: 3 | AU10: 14 | AV10: 1 | AW10: 3 | AX10: 366 | AY10: 16 | AZ10: 0 | BA10: 1 | BB10: 0 | BC10: 0 | BD10: 1 | BE10: 0 | BF10: 18 | BG10: 1 | BH10: 8 | BI10: 8 | BJ10: 1 | BK10: 0 | BL10: 11 | BM10: 7 | BN10: 3 | BO10: 11 | BP10: 1 | BQ10: 0 | BR10: 3 | BS10: 16 | BT10: 1 | BU10: 1 | BV10: 366 | BW10: 16 | BX10: 0 | BY10: 1 | BZ10: 0 | CA10: 0 | CB10: 1 | CC10: 0 | CD10: 18 | CE10: 1 | CF10: 8 | CG10: 8 | CH10: 1 | CI10: 0 | CJ10: 11 | CK10: 7 | CL10: 3 | CM10: 11 | CN10: 1 | CO10: 0 | CP10: 3 | CQ10: 16 | CR10: 1 | CS10: 1 | CT10: 0 | CU10: 366 | CV10: 16 | CW10: 0 | CX10: 0 | CY10: 0 | CZ10: 0 | DA10: 1 | DB10: 0 | DC10: 17 | DD10: 0 | DE10: 3 | DF10: 13 | DG10: 1 | DH10: 0 | DI10: 8 | DJ10: 9 | DK10: 3 | DL10: 11 | DM10: 0 | DN10: 0 | DO10: 3 | DP10: 16 | DQ10: 1 | DR10: 0 | DS10: 0 | DT10: 341 | DU10: =COUNTIFS(Dosen!$P$4:$P$469,A10,Dosen!$D$4:$D$469,"DT") -> 16 | DV10: =COUNTIFS(Dosen!$P$4:$P$469,A10,Dosen!$D$4:$D$469,"CDTP") -> 0 | DW10: =COUNTIFS(Dosen!$P$4:$P$469,A10,Dosen!$D$4:$D$469,"CDTSL") -> 0 | DX10: =COUNTIFS(Dosen!$P$4:$P$469,A10,Dosen!$D$4:$D$469,"dosen kopertis") -> 0 | DY10: =COUNTIFS(Dosen!$P$4:$P$469,A10,Dosen!$D$4:$D$469,"DBK") -> 0 | DZ10: =COUNTIFS(Dosen!$P$4:$P$469,A10,Dosen!$D$4:$D$469,"DPK") -> 4 | EA10: =COUNTIFS(Dosen!$P$4:$P$469,A10,Dosen!$D$4:$D$469,"DLBK") -> 0 | EB10: =SUM(DU10:EA10) -> 20 | EC10: =COUNTIFS(Dosen!$P$4:$P$469,A10,Dosen!$E$4:$E$469,"Belum") -> 3 | ED10: =COUNTIFS(Dosen!$P$4:$P$469,$A10,Dosen!$E$4:$E$469,"Asisten Ahli") -> 3 | EE10: =COUNTIFS(Dosen!$P$4:$P$469,$A10,Dosen!$E$4:$E$469,"Lektor") -> 12 | EF10: =COUNTIFS(Dosen!$P$4:$P$469,$A10,Dosen!$E$4:$E$469,"Lektor Kepala") -> 1 | EG10: =COUNTIFS(Dosen!$P$4:$P$469,$A10,Dosen!$E$4:$E$469,"Guru Besar") -> 1 | EH10: =COUNTIFS(Dosen!$P$5:$P$449,A10,Dosen!$I$5:$I$449,"Belum") -> 9 | EI10: =COUNTIFS(Dosen!$P$5:$P$449,A10,Dosen!$I$5:$I$449,"SUDAH") -> 11 | EJ10: =COUNTIFS(Dosen!$P$4:$P$449,A10,Dosen!$H$4:$H$449,"s3") -> 3 | EK10: =COUNTIFS(Dosen!$P$4:$P$449,A10,Dosen!$H$4:$H$449,"s2") -> 12 | EL10: =COUNTIFS(Dosen!$P$4:$P$449,A10,Dosen!$H$4:$H$449,"s1") -> 2 | EM10: =COUNTIFS(Dosen!$P$4:$P$449,A10,Dosen!$H$4:$H$449,"sp.2") -> 0 | EN10: =COUNTIFS(Dosen!$P$4:$P$449,A10,Dosen!$H$4:$H$449,"sp.1") -> 3 | EO10: =COUNTIFS(Dosen!$P$4:$P$449,A10,Dosen!$K$4:$K$449,"NIDN") -> 16 | EP10: =COUNTIFS(Dosen!$P$4:$P$449,A10,Dosen!$K$4:$K$449,"NIDk") -> 1 | EQ10: =COUNTIFS(Dosen!$P$4:$P$449,A10,Dosen!$K$4:$K$449,"belum") -> 3 | ER10: =COUNTIFS(Dosen!$P$4:$P$449,A10,Dosen!$K$4:$K$449,"NUPTK") -> 0 | ES10: 341 | ET10: =COUNTIFS(Dosen!$P$4:$P$469,A10,Dosen!$D$4:$D$469,"DT") -> 16 | EU10: =COUNTIFS(Dosen!$P$4:$P$469,A10,Dosen!$D$4:$D$469,"CDTP") -> 0 | EV10: =COUNTIFS(Dosen!$P$4:$P$469,A10,Dosen!$D$4:$D$469,"CDTSL") -> 0 | EW10: =COUNTIFS(Dosen!$P$4:$P$469,A10,Dosen!$D$4:$D$469,"dosen kopertis") -> 0 | EX10: =COUNTIFS(Dosen!$P$4:$P$469,A10,Dosen!$D$4:$D$469,"DBK") -> 0 | EY10: =COUNTIFS(Dosen!$P$4:$P$469,A10,Dosen!$D$4:$D$469,"DPK") -> 4 | EZ10: =COUNTIFS(Dosen!$P$4:$P$469,A10,Dosen!$D$4:$D$469,"DLBK") -> 0 | FA10: =SUM(ET10:EZ10) -> 20 | FB10: =COUNTIFS(Dosen!$P$4:$P$469,A10,Dosen!$E$4:$E$469,"Belum") -> 3 | FC10: =COUNTIFS(Dosen!$P$4:$P$469,$A10,Dosen!$E$4:$E$469,"Asisten Ahli") -> 3 | FD10: =COUNTIFS(Dosen!$P$4:$P$469,$A10,Dosen!$E$4:$E$469,"Lektor") -> 12 | FE10: =COUNTIFS(Dosen!$P$4:$P$469,$A10,Dosen!$E$4:$E$469,"Lektor Kepala") -> 1 | FF10: =COUNTIFS(Dosen!$P$4:$P$469,$A10,Dosen!$E$4:$E$469,"Guru Besar") -> 1 | FG10: =COUNTIFS(Dosen!$P$5:$P$449,$A10,Dosen!$I$5:$I$449,"Belum") -> 9 | FH10: =COUNTIFS(Dosen!$P$5:$P$449,A10,Dosen!$I$5:$I$449,"SUDAH") -> 11 | FI10: =COUNTIFS(Dosen!$P$4:$P$449,A10,Dosen!$H$4:$H$449,"s3") -> 3 | FJ10: =COUNTIFS(Dosen!$P$4:$P$449,A10,Dosen!$H$4:$H$449,"s2") -> 12 | FK10: =COUNTIFS(Dosen!$P$4:$P$449,A10,Dosen!$H$4:$H$449,"s1") -> 2 | FL10: =COUNTIFS(Dosen!$P$4:$P$449,A10,Dosen!$H$4:$H$449,"sp.2") -> 0 | FM10: =COUNTIFS(Dosen!$P$4:$P$449,A10,Dosen!$H$4:$H$449,"sp.1") -> 3 | FN10: =COUNTIFS(Dosen!$P$4:$P$449,A10,Dosen!$K$4:$K$449,"NIDN") -> 16 | FO10: =COUNTIFS(Dosen!$P$4:$P$449,A10,Dosen!$K$4:$K$449,"NIDk") -> 1 | FP10: =COUNTIFS(Dosen!$P$4:$P$449,A10,Dosen!$K$4:$K$449,"belum") -> 3 | FQ10: =COUNTIFS(Dosen!$P$4:$P$449,A10,Dosen!$K$4:$K$449,"NUPTK") -> 0 | FR10: 341 | FS10: =COUNTIFS(Dosen!$P$4:$P$469,$A10,Dosen!$D$4:$D$469,"DT") -> 16 | FT10: =COUNTIFS(Dosen!$P$4:$P$469,$A10,Dosen!$D$4:$D$469,"CDTP") -> 0 | FU10: =COUNTIFS(Dosen!$P$4:$P$469,$A10,Dosen!$D$4:$D$469,"CDTSL") -> 0 | FV10: =COUNTIFS(Dosen!$P$4:$P$469,$A10,Dosen!$D$4:$D$469,"dosen kopertis") -> 0 | FW10: =COUNTIFS(Dosen!$P$4:$P$469,$A10,Dosen!$D$4:$D$469,"DBK") -> 0 | FX10: =COUNTIFS(Dosen!$P$4:$P$469,$A10,Dosen!$D$4:$D$469,"DPK") -> 4 | FY10: =COUNTIFS(Dosen!$P$4:$P$469,$A10,Dosen!$D$4:$D$469,"DLBK") -> 0 | FZ10: =SUM(FS10:FY10) -> 20 | GA10: =COUNTIFS(Dosen!$P$4:$P$469,$A10,Dosen!$E$4:$E$469,"Belum") -> 3 | GB10: =COUNTIFS(Dosen!$P$4:$P$469,$A10,Dosen!$E$4:$E$469,"Asisten Ahli") -> 3 | GC10: =COUNTIFS(Dosen!$P$4:$P$469,$A10,Dosen!$E$4:$E$469,"Lektor") -> 12 | GD10: =COUNTIFS(Dosen!$P$4:$P$469,$A10,Dosen!$E$4:$E$469,"Lektor Kepala") -> 1 | GE10: =COUNTIFS(Dosen!$P$4:$P$469,$A10,Dosen!$E$4:$E$469,"Guru Besar") -> 1 | GF10: =COUNTIFS(Dosen!$P$5:$P$449,$A10,Dosen!$I$5:$I$449,"Belum") -> 9 | GG10: =COUNTIFS(Dosen!$P$5:$P$449,$A10,Dosen!$I$5:$I$449,"SUDAH") -> 11 | GH10: =COUNTIFS(Dosen!$P$4:$P$449,$A10,Dosen!$H$4:$H$449,"s3") -> 3 | GI10: =COUNTIFS(Dosen!$P$4:$P$449,$A10,Dosen!$H$4:$H$449,"s2") -> 12 | GJ10: =COUNTIFS(Dosen!$P$4:$P$449,$A10,Dosen!$H$4:$H$449,"s1") -> 2 | GK10: =COUNTIFS(Dosen!$P$4:$P$449,$A10,Dosen!$H$4:$H$449,"sp.2") -> 0 | GL10: =COUNTIFS(Dosen!$P$4:$P$449,$A10,Dosen!$H$4:$H$449,"sp.1") -> 3 | GM10: =COUNTIFS(Dosen!$P$4:$P$449,$A10,Dosen!$K$4:$K$449,"NIDN") -> 16 | GN10: =COUNTIFS(Dosen!$P$4:$P$449,$A10,Dosen!$K$4:$K$449,"NIDk") -> 1 | GO10: =COUNTIFS(Dosen!$P$4:$P$449,$A10,Dosen!$K$4:$K$449,"belum") -> 3 | GP10: =COUNTIFS(Dosen!$P$4:$P$449,$A10,Dosen!$K$4:$K$449,"NUPTK") -> 0 | GQ10: 341 | GR10: 16 | GS10: 0 | GT10: 0 | GU10: 0 | GV10: 0 | GW10: 1 | GX10: 0 | GY10: 17 | GZ10: 0 | HA10: 3 | HB10: 13 | HC10: 0 | HD10: 1 | HE10: 12 | HF10: 5 | HG10: 3 | HH10: 11 | HI10: 0 | HJ10: 0 | HK10: 3 | HL10: 16 | HM10: 1 | HN10: 0 | HO10: 0 | HP10: 341 | HQ10: 16 | HR10: 0 | HS10: 0 | HT10: 0 | HU10: 0 | HV10: 1 | HW10: 0 | HX10: 17 | HY10: 0 | HZ10: 3 | IA10: 13 | IB10: 0 | IC10: 1 | ID10: 12 | IE10: 5 | IF10: 3 | IG10: 11 | IH10: 0 | II10: 0 | IJ10: 3 | IK10: 16 | IL10: 1 | IM10: 0 | IN10: 0 | IO10: 341 | IP10: 16 | IQ10: 0 | IR10: 0 | IS10: 0 | IT10: 0 | IU10: 3 | IV10: 0 | IW10: 19 | IX10: 2 | IY10: 3 | IZ10: 13 | JA10: 0 | JB10: 1 | JC10: 14 | JD10: 5 | JE10: 3 | JF10: 12 | JG10: 1 | JH10: 0 | JI10: 3 | JJ10: 16 | JK10: 1 | JL10: 2 | JM10: 0 | JN10: 341 | JO10: 16 | JP10: 0 | JQ10: 0 | JR10: 0 | JS10: 0 | JT10: 4 | JU10: 0 | JV10: 20 | JW10: 3 | JX10: 3 | JY10: 13 | JZ10: 0 | KA10: 1 | KB10: 9 | KC10: 11 | KD10: 3 | KE10: 12 | KF10: 2 | KG10: 0 | KH10: 3 | KI10: 16 | KJ10: 1 | KK10: 3 | KL10: 0 | KM10: 358 | KN10: =COUNTIFS(Dosen!$P$4:$P$469,$A10,Dosen!$D$4:$D$469,"DT") -> 16 | KO10: =COUNTIFS(Dosen!$P$4:$P$469,$A10,Dosen!$D$4:$D$469,"CDTP") -> 0 | KP10: =COUNTIFS(Dosen!$P$4:$P$469,$A10,Dosen!$D$4:$D$469,"CDTSL") -> 0 | KQ10: =COUNTIFS(Dosen!$P$4:$P$469,$A10,Dosen!$D$4:$D$469,"dosen kopertis") -> 0 | KR10: =COUNTIFS(Dosen!$P$4:$P$469,$A10,Dosen!$D$4:$D$469,"DBK") -> 0 | KS10: =COUNTIFS(Dosen!$P$4:$P$469,$A10,Dosen!$D$4:$D$469,"DPK") -> 4 | KT10: =COUNTIFS(Dosen!$P$4:$P$469,$A10,Dosen!$D$4:$D$469,"DLBK") -> 0 | KU10: =SUM(KN10:KT10) -> 20 | KV10: =COUNTIFS(Dosen!$P$4:$P$469,$A10,Dosen!$E$4:$E$469,"Belum") -> 3 | KW10: =COUNTIFS(Dosen!$P$4:$P$469,$A10,Dosen!$E$4:$E$469,"Asisten Ahli") -> 3 | KX10: =COUNTIFS(Dosen!$P$4:$P$469,$A10,Dosen!$E$4:$E$469,"Lektor") -> 12 | KY10: =COUNTIFS(Dosen!$P$4:$P$469,$A10,Dosen!$E$4:$E$469,"Lektor Kepala") -> 1 | KZ10: =COUNTIFS(Dosen!$P$4:$P$469,$A10,Dosen!$E$4:$E$469,"Guru Besar") -> 1 | LA10: =COUNTIFS(Dosen!$P$5:$P$495,$A10,Dosen!$I$5:$I$495,"Belum") -> 9 | LB10: =COUNTIFS(Dosen!$P$5:$P$495,$A10,Dosen!$I$5:$I$495,"SUDAH") -> 11 | LC10: =COUNTIFS(Dosen!$P$4:$P$495,$A10,Dosen!$H$4:$H$495,"s3") -> 3 | LD10: =COUNTIFS(Dosen!$P$4:$P$495,$A10,Dosen!$H$4:$H$495,"s2") -> 12 | LE10: =COUNTIFS(Dosen!$P$4:$P$495,$A10,Dosen!$H$4:$H$495,"s1") -> 2 | LF10: =COUNTIFS(Dosen!$P$4:$P$495,$A10,Dosen!$H$4:$H$495,"sp.2") -> 0 | LG10: =COUNTIFS(Dosen!$P$4:$P$495,$A10,Dosen!$H$4:$H$495,"sp.1") -> 3 | LH10: =COUNTIFS(Dosen!$P$4:$P$495,$A10,Dosen!$K$4:$K$495,"NIDN") -> 16 | LI10: =COUNTIFS(Dosen!$P$4:$P$495,$A10,Dosen!$K$4:$K$495,"NIDk") -> 1 | LJ10: =COUNTIFS(Dosen!$P$4:$P$495,$A10,Dosen!$K$4:$K$495,"belum") -> 3 | LK10: =COUNTIFS(Dosen!$P$4:$P$495,$A10,Dosen!$K$4:$K$495,"NUPTK") -> 0
A11: Program Pendidikan Profesi Dokter Gigi Fakultas Kedokteran Gigi | B11: 273 | C11: 8 | D11: 0 | E11: 4 | F11: 0 | G11: 0 | H11: 2 | I11: 0 | J11: 14 | K11: 5 | L11: 6 | M11: 2 | N11: 0 | O11: 1 | P11: 14 | Q11: 0 | R11: 2 | S11: 3 | T11: 4 | U11: 0 | V11: 5 | W11: 6 | X11: 2 | Y11: 6 | Z11: 273 | AA11: 8 | AB11: 0 | AC11: 4 | AD11: 0 | AE11: 0 | AF11: 2 | AG11: 0 | AH11: 14 | AI11: 5 | AJ11: 6 | AK11: 2 | AL11: 0 | AM11: 1 | AN11: 14 | AO11: 0 | AP11: 2 | AQ11: 3 | AR11: 4 | AS11: 0 | AT11: 5 | AU11: 6 | AV11: 2 | AW11: 6 | AX11: 273 | AY11: 8 | AZ11: 0 | BA11: 4 | BB11: 0 | BC11: 0 | BD11: 2 | BE11: 0 | BF11: 14 | BG11: 5 | BH11: 6 | BI11: 2 | BJ11: 0 | BK11: 1 | BL11: 14 | BM11: 0 | BN11: 2 | BO11: 3 | BP11: 4 | BQ11: 0 | BR11: 5 | BS11: 8 | BT11: 1 | BU11: 4 | BV11: 273 | BW11: 8 | BX11: 0 | BY11: 4 | BZ11: 0 | CA11: 0 | CB11: 2 | CC11: 0 | CD11: 14 | CE11: 5 | CF11: 6 | CG11: 2 | CH11: 0 | CI11: 1 | CJ11: 14 | CK11: 0 | CL11: 2 | CM11: 3 | CN11: 4 | CO11: 0 | CP11: 5 | CQ11: 8 | CR11: 1 | CS11: 4 | CT11: 1 | CU11: 273 | CV11: 8 | CW11: 0 | CX11: 4 | CY11: 0 | CZ11: 0 | DA11: 2 | DB11: 0 | DC11: 14 | DD11: 5 | DE11: 4 | DF11: 4 | DG11: 0 | DH11: 1 | DI11: 13 | DJ11: 1 | DK11: 2 | DL11: 3 | DM11: 4 | DN11: 0 | DO11: 5 | DP11: 8 | DQ11: 1 | DR11: 4 | DS11: 1 | DT11: 208 | DU11: =COUNTIFS(Dosen!$P$4:$P$469,A11,Dosen!$D$4:$D$469,"DT") -> 8 | DV11: =COUNTIFS(Dosen!$P$4:$P$469,A11,Dosen!$D$4:$D$469,"CDTP") -> 0 | DW11: =COUNTIFS(Dosen!$P$4:$P$469,A11,Dosen!$D$4:$D$469,"CDTSL") -> 4 | DX11: =COUNTIFS(Dosen!$P$4:$P$469,A11,Dosen!$D$4:$D$469,"dosen kopertis") -> 0 | DY11: =COUNTIFS(Dosen!$P$4:$P$469,A11,Dosen!$D$4:$D$469,"DBK") -> 0 | DZ11: =COUNTIFS(Dosen!$P$4:$P$469,A11,Dosen!$D$4:$D$469,"DPK") -> 3 | EA11: =COUNTIFS(Dosen!$P$4:$P$469,A11,Dosen!$D$4:$D$469,"DLBK") -> 0 | EB11: =SUM(DU11:EA11) -> 15 | EC11: =COUNTIFS(Dosen!$P$4:$P$469,A11,Dosen!$E$4:$E$469,"Belum") -> 6 | ED11: =COUNTIFS(Dosen!$P$4:$P$469,$A11,Dosen!$E$4:$E$469,"Asisten Ahli") -> 4 | EE11: =COUNTIFS(Dosen!$P$4:$P$469,$A11,Dosen!$E$4:$E$469,"Lektor") -> 4 | EF11: =COUNTIFS(Dosen!$P$4:$P$469,$A11,Dosen!$E$4:$E$469,"Lektor Kepala") -> 0 | EG11: =COUNTIFS(Dosen!$P$4:$P$469,$A11,Dosen!$E$4:$E$469,"Guru Besar") -> 1 | EH11: =COUNTIFS(Dosen!$P$5:$P$449,A11,Dosen!$I$5:$I$449,"Belum") -> 12 | EI11: =COUNTIFS(Dosen!$P$5:$P$449,A11,Dosen!$I$5:$I$449,"SUDAH") -> 3 | EJ11: =COUNTIFS(Dosen!$P$4:$P$449,A11,Dosen!$H$4:$H$449,"s3") -> 2 | EK11: =COUNTIFS(Dosen!$P$4:$P$449,A11,Dosen!$H$4:$H$449,"s2") -> 3 | EL11: =COUNTIFS(Dosen!$P$4:$P$449,A11,Dosen!$H$4:$H$449,"s1") -> 4 | EM11: =COUNTIFS(Dosen!$P$4:$P$449,A11,Dosen!$H$4:$H$449,"sp.2") -> 0 | EN11: =COUNTIFS(Dosen!$P$4:$P$449,A11,Dosen!$H$4:$H$449,"sp.1") -> 6 | EO11: =COUNTIFS(Dosen!$P$4:$P$449,A11,Dosen!$K$4:$K$449,"NIDN") -> 8 | EP11: =COUNTIFS(Dosen!$P$4:$P$449,A11,Dosen!$K$4:$K$449,"NIDk") -> 1 | EQ11: =COUNTIFS(Dosen!$P$4:$P$449,A11,Dosen!$K$4:$K$449,"belum") -> 1 | ER11: =COUNTIFS(Dosen!$P$4:$P$449,A11,Dosen!$K$4:$K$449,"NUPTK") -> 5 | ES11: 208 | ET11: =COUNTIFS(Dosen!$P$4:$P$469,A11,Dosen!$D$4:$D$469,"DT") -> 8 | EU11: =COUNTIFS(Dosen!$P$4:$P$469,A11,Dosen!$D$4:$D$469,"CDTP") -> 0 | EV11: =COUNTIFS(Dosen!$P$4:$P$469,A11,Dosen!$D$4:$D$469,"CDTSL") -> 4 | EW11: =COUNTIFS(Dosen!$P$4:$P$469,A11,Dosen!$D$4:$D$469,"dosen kopertis") -> 0 | EX11: =COUNTIFS(Dosen!$P$4:$P$469,A11,Dosen!$D$4:$D$469,"DBK") -> 0 | EY11: =COUNTIFS(Dosen!$P$4:$P$469,A11,Dosen!$D$4:$D$469,"DPK") -> 3 | EZ11: =COUNTIFS(Dosen!$P$4:$P$469,A11,Dosen!$D$4:$D$469,"DLBK") -> 0 | FA11: =SUM(ET11:EZ11) -> 15 | FB11: =COUNTIFS(Dosen!$P$4:$P$469,A11,Dosen!$E$4:$E$469,"Belum") -> 6 | FC11: =COUNTIFS(Dosen!$P$4:$P$469,$A11,Dosen!$E$4:$E$469,"Asisten Ahli") -> 4 | FD11: =COUNTIFS(Dosen!$P$4:$P$469,$A11,Dosen!$E$4:$E$469,"Lektor") -> 4 | FE11: =COUNTIFS(Dosen!$P$4:$P$469,$A11,Dosen!$E$4:$E$469,"Lektor Kepala") -> 0 | FF11: =COUNTIFS(Dosen!$P$4:$P$469,$A11,Dosen!$E$4:$E$469,"Guru Besar") -> 1 | FG11: =COUNTIFS(Dosen!$P$5:$P$449,$A11,Dosen!$I$5:$I$449,"Belum") -> 12 | FH11: =COUNTIFS(Dosen!$P$5:$P$449,A11,Dosen!$I$5:$I$449,"SUDAH") -> 3 | FI11: =COUNTIFS(Dosen!$P$4:$P$449,A11,Dosen!$H$4:$H$449,"s3") -> 2 | FJ11: =COUNTIFS(Dosen!$P$4:$P$449,A11,Dosen!$H$4:$H$449,"s2") -> 3 | FK11: =COUNTIFS(Dosen!$P$4:$P$449,A11,Dosen!$H$4:$H$449,"s1") -> 4 | FL11: =COUNTIFS(Dosen!$P$4:$P$449,A11,Dosen!$H$4:$H$449,"sp.2") -> 0 | FM11: =COUNTIFS(Dosen!$P$4:$P$449,A11,Dosen!$H$4:$H$449,"sp.1") -> 6 | FN11: =COUNTIFS(Dosen!$P$4:$P$449,A11,Dosen!$K$4:$K$449,"NIDN") -> 8 | FO11: =COUNTIFS(Dosen!$P$4:$P$449,A11,Dosen!$K$4:$K$449,"NIDk") -> 1 | FP11: =COUNTIFS(Dosen!$P$4:$P$449,A11,Dosen!$K$4:$K$449,"belum") -> 1 | FQ11: =COUNTIFS(Dosen!$P$4:$P$449,A11,Dosen!$K$4:$K$449,"NUPTK") -> 5 | FR11: 208 | FS11: =COUNTIFS(Dosen!$P$4:$P$469,$A11,Dosen!$D$4:$D$469,"DT") -> 8 | FT11: =COUNTIFS(Dosen!$P$4:$P$469,$A11,Dosen!$D$4:$D$469,"CDTP") -> 0 | FU11: =COUNTIFS(Dosen!$P$4:$P$469,$A11,Dosen!$D$4:$D$469,"CDTSL") -> 4 | FV11: =COUNTIFS(Dosen!$P$4:$P$469,$A11,Dosen!$D$4:$D$469,"dosen kopertis") -> 0 | FW11: =COUNTIFS(Dosen!$P$4:$P$469,$A11,Dosen!$D$4:$D$469,"DBK") -> 0 | FX11: =COUNTIFS(Dosen!$P$4:$P$469,$A11,Dosen!$D$4:$D$469,"DPK") -> 3 | FY11: =COUNTIFS(Dosen!$P$4:$P$469,$A11,Dosen!$D$4:$D$469,"DLBK") -> 0 | FZ11: =SUM(FS11:FY11) -> 15 | GA11: =COUNTIFS(Dosen!$P$4:$P$469,$A11,Dosen!$E$4:$E$469,"Belum") -> 6 | GB11: =COUNTIFS(Dosen!$P$4:$P$469,$A11,Dosen!$E$4:$E$469,"Asisten Ahli") -> 4 | GC11: =COUNTIFS(Dosen!$P$4:$P$469,$A11,Dosen!$E$4:$E$469,"Lektor") -> 4 | GD11: =COUNTIFS(Dosen!$P$4:$P$469,$A11,Dosen!$E$4:$E$469,"Lektor Kepala") -> 0 | GE11: =COUNTIFS(Dosen!$P$4:$P$469,$A11,Dosen!$E$4:$E$469,"Guru Besar") -> 1 | GF11: =COUNTIFS(Dosen!$P$5:$P$449,$A11,Dosen!$I$5:$I$449,"Belum") -> 12 | GG11: =COUNTIFS(Dosen!$P$5:$P$449,$A11,Dosen!$I$5:$I$449,"SUDAH") -> 3 | GH11: =COUNTIFS(Dosen!$P$4:$P$449,$A11,Dosen!$H$4:$H$449,"s3") -> 2 | GI11: =COUNTIFS(Dosen!$P$4:$P$449,$A11,Dosen!$H$4:$H$449,"s2") -> 3 | GJ11: =COUNTIFS(Dosen!$P$4:$P$449,$A11,Dosen!$H$4:$H$449,"s1") -> 4 | GK11: =COUNTIFS(Dosen!$P$4:$P$449,$A11,Dosen!$H$4:$H$449,"sp.2") -> 0 | GL11: =COUNTIFS(Dosen!$P$4:$P$449,$A11,Dosen!$H$4:$H$449,"sp.1") -> 6 | GM11: =COUNTIFS(Dosen!$P$4:$P$449,$A11,Dosen!$K$4:$K$449,"NIDN") -> 8 | GN11: =COUNTIFS(Dosen!$P$4:$P$449,$A11,Dosen!$K$4:$K$449,"NIDk") -> 1 | GO11: =COUNTIFS(Dosen!$P$4:$P$449,$A11,Dosen!$K$4:$K$449,"belum") -> 1 | GP11: =COUNTIFS(Dosen!$P$4:$P$449,$A11,Dosen!$K$4:$K$449,"NUPTK") -> 5 | GQ11: 208 | GR11: 8 | GS11: 0 | GT11: 4 | GU11: 0 | GV11: 0 | GW11: 3 | GX11: 0 | GY11: 15 | GZ11: 6 | HA11: 4 | HB11: 4 | HC11: 0 | HD11: 1 | HE11: 11 | HF11: 4 | HG11: 2 | HH11: 3 | HI11: 4 | HJ11: 0 | HK11: 6 | HL11: 8 | HM11: 1 | HN11: 5 | HO11: 1 | HP11: 208 | HQ11: 8 | HR11: 0 | HS11: 4 | HT11: 0 | HU11: 0 | HV11: 3 | HW11: 0 | HX11: 15 | HY11: 6 | HZ11: 4 | IA11: 4 | IB11: 0 | IC11: 1 | ID11: 11 | IE11: 4 | IF11: 2 | IG11: 3 | IH11: 4 | II11: 0 | IJ11: 6 | IK11: 8 | IL11: 1 | IM11: 5 | IN11: 1 | IO11: 208 | IP11: 8 | IQ11: 0 | IR11: 4 | IS11: 0 | IT11: 0 | IU11: 3 | IV11: 0 | IW11: 15 | IX11: 6 | IY11: 4 | IZ11: 4 | JA11: 0 | JB11: 1 | JC11: 11 | JD11: 4 | JE11: 2 | JF11: 3 | JG11: 4 | JH11: 0 | JI11: 6 | JJ11: 8 | JK11: 1 | JL11: 5 | JM11: 1 | JN11: 208 | JO11: 8 | JP11: 0 | JQ11: 4 | JR11: 0 | JS11: 0 | JT11: 3 | JU11: 0 | JV11: 15 | JW11: 6 | JX11: 4 | JY11: 4 | JZ11: 0 | KA11: 1 | KB11: 12 | KC11: 3 | KD11: 2 | KE11: 3 | KF11: 4 | KG11: 0 | KH11: 6 | KI11: 8 | KJ11: 1 | KK11: 5 | KL11: 1 | KM11: 268 | KN11: =COUNTIFS(Dosen!$P$4:$P$469,$A11,Dosen!$D$4:$D$469,"DT") -> 8 | KO11: =COUNTIFS(Dosen!$P$4:$P$469,$A11,Dosen!$D$4:$D$469,"CDTP") -> 0 | KP11: =COUNTIFS(Dosen!$P$4:$P$469,$A11,Dosen!$D$4:$D$469,"CDTSL") -> 4 | KQ11: =COUNTIFS(Dosen!$P$4:$P$469,$A11,Dosen!$D$4:$D$469,"dosen kopertis") -> 0 | KR11: =COUNTIFS(Dosen!$P$4:$P$469,$A11,Dosen!$D$4:$D$469,"DBK") -> 0 | KS11: =COUNTIFS(Dosen!$P$4:$P$469,$A11,Dosen!$D$4:$D$469,"DPK") -> 3 | KT11: =COUNTIFS(Dosen!$P$4:$P$469,$A11,Dosen!$D$4:$D$469,"DLBK") -> 0 | KU11: =SUM(KN11:KT11) -> 15 | KV11: =COUNTIFS(Dosen!$P$4:$P$469,$A11,Dosen!$E$4:$E$469,"Belum") -> 6 | KW11: =COUNTIFS(Dosen!$P$4:$P$469,$A11,Dosen!$E$4:$E$469,"Asisten Ahli") -> 4 | KX11: =COUNTIFS(Dosen!$P$4:$P$469,$A11,Dosen!$E$4:$E$469,"Lektor") -> 4 | KY11: =COUNTIFS(Dosen!$P$4:$P$469,$A11,Dosen!$E$4:$E$469,"Lektor Kepala") -> 0 | KZ11: =COUNTIFS(Dosen!$P$4:$P$469,$A11,Dosen!$E$4:$E$469,"Guru Besar") -> 1 | LA11: =COUNTIFS(Dosen!$P$5:$P$495,$A11,Dosen!$I$5:$I$495,"Belum") -> 12 | LB11: =COUNTIFS(Dosen!$P$5:$P$495,$A11,Dosen!$I$5:$I$495,"SUDAH") -> 3 | LC11: =COUNTIFS(Dosen!$P$4:$P$495,$A11,Dosen!$H$4:$H$495,"s3") -> 2 | LD11: =COUNTIFS(Dosen!$P$4:$P$495,$A11,Dosen!$H$4:$H$495,"s2") -> 3 | LE11: =COUNTIFS(Dosen!$P$4:$P$495,$A11,Dosen!$H$4:$H$495,"s1") -> 4 | LF11: =COUNTIFS(Dosen!$P$4:$P$495,$A11,Dosen!$H$4:$H$495,"sp.2") -> 0 | LG11: =COUNTIFS(Dosen!$P$4:$P$495,$A11,Dosen!$H$4:$H$495,"sp.1") -> 6 | LH11: =COUNTIFS(Dosen!$P$4:$P$495,$A11,Dosen!$K$4:$K$495,"NIDN") -> 8 | LI11: =COUNTIFS(Dosen!$P$4:$P$495,$A11,Dosen!$K$4:$K$495,"NIDk") -> 1 | LJ11: =COUNTIFS(Dosen!$P$4:$P$495,$A11,Dosen!$K$4:$K$495,"belum") -> 1 | LK11: =COUNTIFS(Dosen!$P$4:$P$495,$A11,Dosen!$K$4:$K$495,"NUPTK") -> 5
A12: Program Sarjana Teknik Sipil Fakultas Teknologi dan Rekayasa Cerdas | B12: 117 | C12: 6 | D12: 0 | E12: 0 | F12: 0 | G12: 0 | H12: 2 | I12: 1 | J12: 9 | K12: 0 | L12: 2 | M12: 3 | N12: 2 | O12: 2 | P12: 4 | Q12: 5 | R12: 5 | S12: 4 | T12: 0 | U12: 0 | V12: 0 | W12: 8 | X12: 1 | Y12: 0 | Z12: 117 | AA12: 6 | AB12: 0 | AC12: 0 | AD12: 0 | AE12: 0 | AF12: 2 | AG12: 1 | AH12: 9 | AI12: 0 | AJ12: 2 | AK12: 3 | AL12: 2 | AM12: 2 | AN12: 4 | AO12: 5 | AP12: 5 | AQ12: 4 | AR12: 0 | AS12: 0 | AT12: 0 | AU12: 8 | AV12: 1 | AW12: 0 | AX12: 117 | AY12: 6 | AZ12: 0 | BA12: 0 | BB12: 0 | BC12: 0 | BD12: 2 | BE12: 0 | BF12: 8 | BG12: 0 | BH12: 2 | BI12: 3 | BJ12: 2 | BK12: 1 | BL12: 3 | BM12: 5 | BN12: 4 | BO12: 4 | BP12: 0 | BQ12: 0 | BR12: 0 | BS12: 6 | BT12: 2 | BU12: 0 | BV12: 117 | BW12: 6 | BX12: 0 | BY12: 0 | BZ12: 0 | CA12: 0 | CB12: 2 | CC12: 0 | CD12: 8 | CE12: 0 | CF12: 2 | CG12: 3 | CH12: 2 | CI12: 1 | CJ12: 3 | CK12: 5 | CL12: 4 | CM12: 4 | CN12: 0 | CO12: 0 | CP12: 0 | CQ12: 6 | CR12: 2 | CS12: 0 | CT12: 0 | CU12: 117 | CV12: 6 | CW12: 0 | CX12: 0 | CY12: 0 | CZ12: 0 | DA12: 2 | DB12: 0 | DC12: 8 | DD12: 0 | DE12: 2 | DF12: 3 | DG12: 2 | DH12: 1 | DI12: 1 | DJ12: 7 | DK12: 4 | DL12: 4 | DM12: 0 | DN12: 0 | DO12: 0 | DP12: 6 | DQ12: 2 | DR12: 0 | DS12: 0 | DT12: 92 | DU12: =COUNTIFS(Dosen!$P$4:$P$469,A12,Dosen!$D$4:$D$469,"DT") -> 6 | DV12: =COUNTIFS(Dosen!$P$4:$P$469,A12,Dosen!$D$4:$D$469,"CDTP") -> 0 | DW12: =COUNTIFS(Dosen!$P$4:$P$469,A12,Dosen!$D$4:$D$469,"CDTSL") -> 0 | DX12: =COUNTIFS(Dosen!$P$4:$P$469,A12,Dosen!$D$4:$D$469,"dosen kopertis") -> 0 | DY12: =COUNTIFS(Dosen!$P$4:$P$469,A12,Dosen!$D$4:$D$469,"DBK") -> 0 | DZ12: =COUNTIFS(Dosen!$P$4:$P$469,A12,Dosen!$D$4:$D$469,"DPK") -> 1 | EA12: =COUNTIFS(Dosen!$P$4:$P$469,A12,Dosen!$D$4:$D$469,"DLBK") -> 0 | EB12: =SUM(DU12:EA12) -> 7 | EC12: =COUNTIFS(Dosen!$P$4:$P$469,A12,Dosen!$E$4:$E$469,"Belum") -> 0 | ED12: =COUNTIFS(Dosen!$P$4:$P$469,$A12,Dosen!$E$4:$E$469,"Asisten Ahli") -> 2 | EE12: =COUNTIFS(Dosen!$P$4:$P$469,$A12,Dosen!$E$4:$E$469,"Lektor") -> 3 | EF12: =COUNTIFS(Dosen!$P$4:$P$469,$A12,Dosen!$E$4:$E$469,"Lektor Kepala") -> 2 | EG12: =COUNTIFS(Dosen!$P$4:$P$469,$A12,Dosen!$E$4:$E$469,"Guru Besar") -> 0 | EH12: =COUNTIFS(Dosen!$P$5:$P$449,A12,Dosen!$I$5:$I$449,"Belum") -> 0 | EI12: =COUNTIFS(Dosen!$P$5:$P$449,A12,Dosen!$I$5:$I$449,"SUDAH") -> 7 | EJ12: =COUNTIFS(Dosen!$P$4:$P$449,A12,Dosen!$H$4:$H$449,"s3") -> 4 | EK12: =COUNTIFS(Dosen!$P$4:$P$449,A12,Dosen!$H$4:$H$449,"s2") -> 3 | EL12: =COUNTIFS(Dosen!$P$4:$P$449,A12,Dosen!$H$4:$H$449,"s1") -> 0 | EM12: =COUNTIFS(Dosen!$P$4:$P$449,A12,Dosen!$H$4:$H$449,"sp.2") -> 0 | EN12: =COUNTIFS(Dosen!$P$4:$P$449,A12,Dosen!$H$4:$H$449,"sp.1") -> 0 | EO12: =COUNTIFS(Dosen!$P$4:$P$449,A12,Dosen!$K$4:$K$449,"NIDN") -> 6 | EP12: =COUNTIFS(Dosen!$P$4:$P$449,A12,Dosen!$K$4:$K$449,"NIDk") -> 1 | EQ12: =COUNTIFS(Dosen!$P$4:$P$449,A12,Dosen!$K$4:$K$449,"belum") -> 0 | ER12: =COUNTIFS(Dosen!$P$4:$P$449,A12,Dosen!$K$4:$K$449,"NUPTK") -> 0 | ES12: 92 | ET12: =COUNTIFS(Dosen!$P$4:$P$469,A12,Dosen!$D$4:$D$469,"DT") -> 6 | EU12: =COUNTIFS(Dosen!$P$4:$P$469,A12,Dosen!$D$4:$D$469,"CDTP") -> 0 | EV12: =COUNTIFS(Dosen!$P$4:$P$469,A12,Dosen!$D$4:$D$469,"CDTSL") -> 0 | EW12: =COUNTIFS(Dosen!$P$4:$P$469,A12,Dosen!$D$4:$D$469,"dosen kopertis") -> 0 | EX12: =COUNTIFS(Dosen!$P$4:$P$469,A12,Dosen!$D$4:$D$469,"DBK") -> 0 | EY12: =COUNTIFS(Dosen!$P$4:$P$469,A12,Dosen!$D$4:$D$469,"DPK") -> 1 | EZ12: =COUNTIFS(Dosen!$P$4:$P$469,A12,Dosen!$D$4:$D$469,"DLBK") -> 0 | FA12: =SUM(ET12:EZ12) -> 7 | FB12: =COUNTIFS(Dosen!$P$4:$P$469,A12,Dosen!$E$4:$E$469,"Belum") -> 0 | FC12: =COUNTIFS(Dosen!$P$4:$P$469,$A12,Dosen!$E$4:$E$469,"Asisten Ahli") -> 2 | FD12: =COUNTIFS(Dosen!$P$4:$P$469,$A12,Dosen!$E$4:$E$469,"Lektor") -> 3 | FE12: =COUNTIFS(Dosen!$P$4:$P$469,$A12,Dosen!$E$4:$E$469,"Lektor Kepala") -> 2 | FF12: =COUNTIFS(Dosen!$P$4:$P$469,$A12,Dosen!$E$4:$E$469,"Guru Besar") -> 0 | FG12: =COUNTIFS(Dosen!$P$5:$P$449,$A12,Dosen!$I$5:$I$449,"Belum") -> 0 | FH12: =COUNTIFS(Dosen!$P$5:$P$449,A12,Dosen!$I$5:$I$449,"SUDAH") -> 7 | FI12: =COUNTIFS(Dosen!$P$4:$P$449,A12,Dosen!$H$4:$H$449,"s3") -> 4 | FJ12: =COUNTIFS(Dosen!$P$4:$P$449,A12,Dosen!$H$4:$H$449,"s2") -> 3 | FK12: =COUNTIFS(Dosen!$P$4:$P$449,A12,Dosen!$H$4:$H$449,"s1") -> 0 | FL12: =COUNTIFS(Dosen!$P$4:$P$449,A12,Dosen!$H$4:$H$449,"sp.2") -> 0 | FM12: =COUNTIFS(Dosen!$P$4:$P$449,A12,Dosen!$H$4:$H$449,"sp.1") -> 0 | FN12: =COUNTIFS(Dosen!$P$4:$P$449,A12,Dosen!$K$4:$K$449,"NIDN") -> 6 | FO12: =COUNTIFS(Dosen!$P$4:$P$449,A12,Dosen!$K$4:$K$449,"NIDk") -> 1 | FP12: =COUNTIFS(Dosen!$P$4:$P$449,A12,Dosen!$K$4:$K$449,"belum") -> 0 | FQ12: =COUNTIFS(Dosen!$P$4:$P$449,A12,Dosen!$K$4:$K$449,"NUPTK") -> 0 | FR12: 92 | FS12: =COUNTIFS(Dosen!$P$4:$P$469,$A12,Dosen!$D$4:$D$469,"DT") -> 6 | FT12: =COUNTIFS(Dosen!$P$4:$P$469,$A12,Dosen!$D$4:$D$469,"CDTP") -> 0 | FU12: =COUNTIFS(Dosen!$P$4:$P$469,$A12,Dosen!$D$4:$D$469,"CDTSL") -> 0 | FV12: =COUNTIFS(Dosen!$P$4:$P$469,$A12,Dosen!$D$4:$D$469,"dosen kopertis") -> 0 | FW12: =COUNTIFS(Dosen!$P$4:$P$469,$A12,Dosen!$D$4:$D$469,"DBK") -> 0 | FX12: =COUNTIFS(Dosen!$P$4:$P$469,$A12,Dosen!$D$4:$D$469,"DPK") -> 1 | FY12: =COUNTIFS(Dosen!$P$4:$P$469,$A12,Dosen!$D$4:$D$469,"DLBK") -> 0 | FZ12: =SUM(FS12:FY12) -> 7 | GA12: =COUNTIFS(Dosen!$P$4:$P$469,$A12,Dosen!$E$4:$E$469,"Belum") -> 0 | GB12: =COUNTIFS(Dosen!$P$4:$P$469,$A12,Dosen!$E$4:$E$469,"Asisten Ahli") -> 2 | GC12: =COUNTIFS(Dosen!$P$4:$P$469,$A12,Dosen!$E$4:$E$469,"Lektor") -> 3 | GD12: =COUNTIFS(Dosen!$P$4:$P$469,$A12,Dosen!$E$4:$E$469,"Lektor Kepala") -> 2 | GE12: =COUNTIFS(Dosen!$P$4:$P$469,$A12,Dosen!$E$4:$E$469,"Guru Besar") -> 0 | GF12: =COUNTIFS(Dosen!$P$5:$P$449,$A12,Dosen!$I$5:$I$449,"Belum") -> 0 | GG12: =COUNTIFS(Dosen!$P$5:$P$449,$A12,Dosen!$I$5:$I$449,"SUDAH") -> 7 | GH12: =COUNTIFS(Dosen!$P$4:$P$449,$A12,Dosen!$H$4:$H$449,"s3") -> 4 | GI12: =COUNTIFS(Dosen!$P$4:$P$449,$A12,Dosen!$H$4:$H$449,"s2") -> 3 | GJ12: =COUNTIFS(Dosen!$P$4:$P$449,$A12,Dosen!$H$4:$H$449,"s1") -> 0 | GK12: =COUNTIFS(Dosen!$P$4:$P$449,$A12,Dosen!$H$4:$H$449,"sp.2") -> 0 | GL12: =COUNTIFS(Dosen!$P$4:$P$449,$A12,Dosen!$H$4:$H$449,"sp.1") -> 0 | GM12: =COUNTIFS(Dosen!$P$4:$P$449,$A12,Dosen!$K$4:$K$449,"NIDN") -> 6 | GN12: =COUNTIFS(Dosen!$P$4:$P$449,$A12,Dosen!$K$4:$K$449,"NIDk") -> 1 | GO12: =COUNTIFS(Dosen!$P$4:$P$449,$A12,Dosen!$K$4:$K$449,"belum") -> 0 | GP12: =COUNTIFS(Dosen!$P$4:$P$449,$A12,Dosen!$K$4:$K$449,"NUPTK") -> 0 | GQ12: 92 | GR12: 6 | GS12: 0 | GT12: 0 | GU12: 0 | GV12: 0 | GW12: 1 | GX12: 0 | GY12: 7 | GZ12: 0 | HA12: 2 | HB12: 3 | HC12: 2 | HD12: 0 | HE12: 0 | HF12: 7 | HG12: 3 | HH12: 4 | HI12: 0 | HJ12: 0 | HK12: 0 | HL12: 6 | HM12: 1 | HN12: 0 | HO12: 0 | HP12: 92 | HQ12: 6 | HR12: 0 | HS12: 0 | HT12: 0 | HU12: 0 | HV12: 1 | HW12: 0 | HX12: 7 | HY12: 0 | HZ12: 2 | IA12: 3 | IB12: 2 | IC12: 0 | ID12: 0 | IE12: 7 | IF12: 4 | IG12: 3 | IH12: 0 | II12: 0 | IJ12: 0 | IK12: 6 | IL12: 1 | IM12: 0 | IN12: 0 | IO12: 92 | IP12: 6 | IQ12: 0 | IR12: 0 | IS12: 0 | IT12: 0 | IU12: 1 | IV12: 0 | IW12: 7 | IX12: 0 | IY12: 2 | IZ12: 3 | JA12: 2 | JB12: 0 | JC12: 0 | JD12: 7 | JE12: 4 | JF12: 3 | JG12: 0 | JH12: 0 | JI12: 0 | JJ12: 6 | JK12: 1 | JL12: 0 | JM12: 0 | JN12: 92 | JO12: 6 | JP12: 0 | JQ12: 0 | JR12: 0 | JS12: 0 | JT12: 1 | JU12: 0 | JV12: 7 | JW12: 0 | JX12: 2 | JY12: 3 | JZ12: 2 | KA12: 0 | KB12: 0 | KC12: 7 | KD12: 4 | KE12: 3 | KF12: 0 | KG12: 0 | KH12: 0 | KI12: 6 | KJ12: 1 | KK12: 0 | KL12: 0 | KM12: 106 | KN12: =COUNTIFS(Dosen!$P$4:$P$469,$A12,Dosen!$D$4:$D$469,"DT") -> 6 | KO12: =COUNTIFS(Dosen!$P$4:$P$469,$A12,Dosen!$D$4:$D$469,"CDTP") -> 0 | KP12: =COUNTIFS(Dosen!$P$4:$P$469,$A12,Dosen!$D$4:$D$469,"CDTSL") -> 0 | KQ12: =COUNTIFS(Dosen!$P$4:$P$469,$A12,Dosen!$D$4:$D$469,"dosen kopertis") -> 0 | KR12: =COUNTIFS(Dosen!$P$4:$P$469,$A12,Dosen!$D$4:$D$469,"DBK") -> 0 | KS12: =COUNTIFS(Dosen!$P$4:$P$469,$A12,Dosen!$D$4:$D$469,"DPK") -> 1 | KT12: =COUNTIFS(Dosen!$P$4:$P$469,$A12,Dosen!$D$4:$D$469,"DLBK") -> 0 | KU12: =SUM(KN12:KT12) -> 7 | KV12: =COUNTIFS(Dosen!$P$4:$P$469,$A12,Dosen!$E$4:$E$469,"Belum") -> 0 | KW12: =COUNTIFS(Dosen!$P$4:$P$469,$A12,Dosen!$E$4:$E$469,"Asisten Ahli") -> 2 | KX12: =COUNTIFS(Dosen!$P$4:$P$469,$A12,Dosen!$E$4:$E$469,"Lektor") -> 3 | KY12: =COUNTIFS(Dosen!$P$4:$P$469,$A12,Dosen!$E$4:$E$469,"Lektor Kepala") -> 2 | KZ12: =COUNTIFS(Dosen!$P$4:$P$469,$A12,Dosen!$E$4:$E$469,"Guru Besar") -> 0 | LA12: =COUNTIFS(Dosen!$P$5:$P$495,$A12,Dosen!$I$5:$I$495,"Belum") -> 0 | LB12: =COUNTIFS(Dosen!$P$5:$P$495,$A12,Dosen!$I$5:$I$495,"SUDAH") -> 7 | LC12: =COUNTIFS(Dosen!$P$4:$P$495,$A12,Dosen!$H$4:$H$495,"s3") -> 4 | LD12: =COUNTIFS(Dosen!$P$4:$P$495,$A12,Dosen!$H$4:$H$495,"s2") -> 3 | LE12: =COUNTIFS(Dosen!$P$4:$P$495,$A12,Dosen!$H$4:$H$495,"s1") -> 0 | LF12: =COUNTIFS(Dosen!$P$4:$P$495,$A12,Dosen!$H$4:$H$495,"sp.2") -> 0 | LG12: =COUNTIFS(Dosen!$P$4:$P$495,$A12,Dosen!$H$4:$H$495,"sp.1") -> 0 | LH12: =COUNTIFS(Dosen!$P$4:$P$495,$A12,Dosen!$K$4:$K$495,"NIDN") -> 6 | LI12: =COUNTIFS(Dosen!$P$4:$P$495,$A12,Dosen!$K$4:$K$495,"NIDk") -> 1 | LJ12: =COUNTIFS(Dosen!$P$4:$P$495,$A12,Dosen!$K$4:$K$495,"belum") -> 0 | LK12: =COUNTIFS(Dosen!$P$4:$P$495,$A12,Dosen!$K$4:$K$495,"NUPTK") -> 0
A13: Program Magister Teknik Sipil Fakultas Teknologi dan Rekayasa Cerdas | B13: 10 | C13: 6 | D13: 0 | E13: 0 | F13: 0 | G13: 0 | H13: 0 | I13: 0 | J13: 6 | K13: 0 | L13: 0 | M13: 4 | N13: 1 | O13: 1 | P13: 0 | Q13: 6 | R13: 6 | S13: 0 | T13: 0 | U13: 0 | V13: 0 | W13: 6 | X13: 0 | Y13: 0 | Z13: 10 | AA13: 6 | AB13: 0 | AC13: 0 | AD13: 0 | AE13: 0 | AF13: 0 | AG13: 0 | AH13: 6 | AI13: 0 | AJ13: 0 | AK13: 4 | AL13: 1 | AM13: 1 | AN13: 0 | AO13: 6 | AP13: 6 | AQ13: 0 | AR13: 0 | AS13: 0 | AT13: 0 | AU13: 6 | AV13: 0 | AW13: 0 | AX13: 10 | AY13: 6 | AZ13: 0 | BA13: 0 | BB13: 0 | BC13: 0 | BD13: 0 | BE13: 0 | BF13: 6 | BG13: 0 | BH13: 0 | BI13: 4 | BJ13: 1 | BK13: 1 | BL13: 0 | BM13: 6 | BN13: 6 | BO13: 0 | BP13: 0 | BQ13: 0 | BR13: 0 | BS13: 6 | BT13: 0 | BU13: 0 | BV13: 10 | BW13: 6 | BX13: 0 | BY13: 0 | BZ13: 0 | CA13: 0 | CB13: 0 | CC13: 0 | CD13: 6 | CE13: 0 | CF13: 0 | CG13: 4 | CH13: 1 | CI13: 1 | CJ13: 0 | CK13: 6 | CL13: 6 | CM13: 0 | CN13: 0 | CO13: 0 | CP13: 0 | CQ13: 6 | CR13: 0 | CS13: 0 | CT13: 0 | CU13: 10 | CV13: 6 | CW13: 0 | CX13: 0 | CY13: 0 | CZ13: 0 | DA13: 0 | DB13: 0 | DC13: 6 | DD13: 0 | DE13: 0 | DF13: 4 | DG13: 1 | DH13: 1 | DI13: 0 | DJ13: 6 | DK13: 6 | DL13: 0 | DM13: 0 | DN13: 0 | DO13: 0 | DP13: 6 | DQ13: 0 | DR13: 0 | DS13: 0 | DT13: 9 | DU13: =COUNTIFS(Dosen!$P$4:$P$469,A13,Dosen!$D$4:$D$469,"DT") -> 6 | DV13: =COUNTIFS(Dosen!$P$4:$P$469,A13,Dosen!$D$4:$D$469,"CDTP") -> 0 | DW13: =COUNTIFS(Dosen!$P$4:$P$469,A13,Dosen!$D$4:$D$469,"CDTSL") -> 0 | DX13: =COUNTIFS(Dosen!$P$4:$P$469,A13,Dosen!$D$4:$D$469,"dosen kopertis") -> 0 | DY13: =COUNTIFS(Dosen!$P$4:$P$469,A13,Dosen!$D$4:$D$469,"DBK") -> 0 | DZ13: =COUNTIFS(Dosen!$P$4:$P$469,A13,Dosen!$D$4:$D$469,"DPK") -> 0 | EA13: =COUNTIFS(Dosen!$P$4:$P$469,A13,Dosen!$D$4:$D$469,"DLBK") -> 0 | EB13: =SUM(DU13:EA13) -> 6 | EC13: =COUNTIFS(Dosen!$P$4:$P$469,A13,Dosen!$E$4:$E$469,"Belum") -> 0 | ED13: =COUNTIFS(Dosen!$P$4:$P$469,$A13,Dosen!$E$4:$E$469,"Asisten Ahli") -> 0 | EE13: =COUNTIFS(Dosen!$P$4:$P$469,$A13,Dosen!$E$4:$E$469,"Lektor") -> 3 | EF13: =COUNTIFS(Dosen!$P$4:$P$469,$A13,Dosen!$E$4:$E$469,"Lektor Kepala") -> 1 | EG13: =COUNTIFS(Dosen!$P$4:$P$469,$A13,Dosen!$E$4:$E$469,"Guru Besar") -> 2 | EH13: =COUNTIFS(Dosen!$P$5:$P$449,A13,Dosen!$I$5:$I$449,"Belum") -> 0 | EI13: =COUNTIFS(Dosen!$P$5:$P$449,A13,Dosen!$I$5:$I$449,"SUDAH") -> 6 | EJ13: =COUNTIFS(Dosen!$P$4:$P$449,A13,Dosen!$H$4:$H$449,"s3") -> 6 | EK13: =COUNTIFS(Dosen!$P$4:$P$449,A13,Dosen!$H$4:$H$449,"s2") -> 0 | EL13: =COUNTIFS(Dosen!$P$4:$P$449,A13,Dosen!$H$4:$H$449,"s1") -> 0 | EM13: =COUNTIFS(Dosen!$P$4:$P$449,A13,Dosen!$H$4:$H$449,"sp.2") -> 0 | EN13: =COUNTIFS(Dosen!$P$4:$P$449,A13,Dosen!$H$4:$H$449,"sp.1") -> 0 | EO13: =COUNTIFS(Dosen!$P$4:$P$449,A13,Dosen!$K$4:$K$449,"NIDN") -> 6 | EP13: =COUNTIFS(Dosen!$P$4:$P$449,A13,Dosen!$K$4:$K$449,"NIDk") -> 0 | EQ13: =COUNTIFS(Dosen!$P$4:$P$449,A13,Dosen!$K$4:$K$449,"belum") -> 0 | ER13: =COUNTIFS(Dosen!$P$4:$P$449,A13,Dosen!$K$4:$K$449,"NUPTK") -> 0 | ES13: 9 | ET13: =COUNTIFS(Dosen!$P$4:$P$469,A13,Dosen!$D$4:$D$469,"DT") -> 6 | EU13: =COUNTIFS(Dosen!$P$4:$P$469,A13,Dosen!$D$4:$D$469,"CDTP") -> 0 | EV13: =COUNTIFS(Dosen!$P$4:$P$469,A13,Dosen!$D$4:$D$469,"CDTSL") -> 0 | EW13: =COUNTIFS(Dosen!$P$4:$P$469,A13,Dosen!$D$4:$D$469,"dosen kopertis") -> 0 | EX13: =COUNTIFS(Dosen!$P$4:$P$469,A13,Dosen!$D$4:$D$469,"DBK") -> 0 | EY13: =COUNTIFS(Dosen!$P$4:$P$469,A13,Dosen!$D$4:$D$469,"DPK") -> 0 | EZ13: =COUNTIFS(Dosen!$P$4:$P$469,A13,Dosen!$D$4:$D$469,"DLBK") -> 0 | FA13: =SUM(ET13:EZ13) -> 6 | FB13: =COUNTIFS(Dosen!$P$4:$P$469,A13,Dosen!$E$4:$E$469,"Belum") -> 0 | FC13: =COUNTIFS(Dosen!$P$4:$P$469,$A13,Dosen!$E$4:$E$469,"Asisten Ahli") -> 0 | FD13: =COUNTIFS(Dosen!$P$4:$P$469,$A13,Dosen!$E$4:$E$469,"Lektor") -> 3 | FE13: =COUNTIFS(Dosen!$P$4:$P$469,$A13,Dosen!$E$4:$E$469,"Lektor Kepala") -> 1 | FF13: =COUNTIFS(Dosen!$P$4:$P$469,$A13,Dosen!$E$4:$E$469,"Guru Besar") -> 2 | FG13: =COUNTIFS(Dosen!$P$5:$P$449,$A13,Dosen!$I$5:$I$449,"Belum") -> 0 | FH13: =COUNTIFS(Dosen!$P$5:$P$449,A13,Dosen!$I$5:$I$449,"SUDAH") -> 6 | FI13: =COUNTIFS(Dosen!$P$4:$P$449,A13,Dosen!$H$4:$H$449,"s3") -> 6 | FJ13: =COUNTIFS(Dosen!$P$4:$P$449,A13,Dosen!$H$4:$H$449,"s2") -> 0 | FK13: =COUNTIFS(Dosen!$P$4:$P$449,A13,Dosen!$H$4:$H$449,"s1") -> 0 | FL13: =COUNTIFS(Dosen!$P$4:$P$449,A13,Dosen!$H$4:$H$449,"sp.2") -> 0 | FM13: =COUNTIFS(Dosen!$P$4:$P$449,A13,Dosen!$H$4:$H$449,"sp.1") -> 0 | FN13: =COUNTIFS(Dosen!$P$4:$P$449,A13,Dosen!$K$4:$K$449,"NIDN") -> 6 | FO13: =COUNTIFS(Dosen!$P$4:$P$449,A13,Dosen!$K$4:$K$449,"NIDk") -> 0 | FP13: =COUNTIFS(Dosen!$P$4:$P$449,A13,Dosen!$K$4:$K$449,"belum") -> 0 | FQ13: =COUNTIFS(Dosen!$P$4:$P$449,A13,Dosen!$K$4:$K$449,"NUPTK") -> 0 | FR13: 9 | FS13: =COUNTIFS(Dosen!$P$4:$P$469,$A13,Dosen!$D$4:$D$469,"DT") -> 6 | FT13: =COUNTIFS(Dosen!$P$4:$P$469,$A13,Dosen!$D$4:$D$469,"CDTP") -> 0 | FU13: =COUNTIFS(Dosen!$P$4:$P$469,$A13,Dosen!$D$4:$D$469,"CDTSL") -> 0 | FV13: =COUNTIFS(Dosen!$P$4:$P$469,$A13,Dosen!$D$4:$D$469,"dosen kopertis") -> 0 | FW13: =COUNTIFS(Dosen!$P$4:$P$469,$A13,Dosen!$D$4:$D$469,"DBK") -> 0 | FX13: =COUNTIFS(Dosen!$P$4:$P$469,$A13,Dosen!$D$4:$D$469,"DPK") -> 0 | FY13: =COUNTIFS(Dosen!$P$4:$P$469,$A13,Dosen!$D$4:$D$469,"DLBK") -> 0 | FZ13: =SUM(FS13:FY13) -> 6 | GA13: =COUNTIFS(Dosen!$P$4:$P$469,$A13,Dosen!$E$4:$E$469,"Belum") -> 0 | GB13: =COUNTIFS(Dosen!$P$4:$P$469,$A13,Dosen!$E$4:$E$469,"Asisten Ahli") -> 0 | GC13: =COUNTIFS(Dosen!$P$4:$P$469,$A13,Dosen!$E$4:$E$469,"Lektor") -> 3 | GD13: =COUNTIFS(Dosen!$P$4:$P$469,$A13,Dosen!$E$4:$E$469,"Lektor Kepala") -> 1 | GE13: =COUNTIFS(Dosen!$P$4:$P$469,$A13,Dosen!$E$4:$E$469,"Guru Besar") -> 2 | GF13: =COUNTIFS(Dosen!$P$5:$P$449,$A13,Dosen!$I$5:$I$449,"Belum") -> 0 | GG13: =COUNTIFS(Dosen!$P$5:$P$449,$A13,Dosen!$I$5:$I$449,"SUDAH") -> 6 | GH13: =COUNTIFS(Dosen!$P$4:$P$449,$A13,Dosen!$H$4:$H$449,"s3") -> 6 | GI13: =COUNTIFS(Dosen!$P$4:$P$449,$A13,Dosen!$H$4:$H$449,"s2") -> 0 | GJ13: =COUNTIFS(Dosen!$P$4:$P$449,$A13,Dosen!$H$4:$H$449,"s1") -> 0 | GK13: =COUNTIFS(Dosen!$P$4:$P$449,$A13,Dosen!$H$4:$H$449,"sp.2") -> 0 | GL13: =COUNTIFS(Dosen!$P$4:$P$449,$A13,Dosen!$H$4:$H$449,"sp.1") -> 0 | GM13: =COUNTIFS(Dosen!$P$4:$P$449,$A13,Dosen!$K$4:$K$449,"NIDN") -> 6 | GN13: =COUNTIFS(Dosen!$P$4:$P$449,$A13,Dosen!$K$4:$K$449,"NIDk") -> 0 | GO13: =COUNTIFS(Dosen!$P$4:$P$449,$A13,Dosen!$K$4:$K$449,"belum") -> 0 | GP13: =COUNTIFS(Dosen!$P$4:$P$449,$A13,Dosen!$K$4:$K$449,"NUPTK") -> 0 | GQ13: 9 | GR13: 6 | GS13: 0 | GT13: 0 | GU13: 0 | GV13: 0 | GW13: 0 | GX13: 0 | GY13: 6 | GZ13: 0 | HA13: 0 | HB13: 3 | HC13: 1 | HD13: 2 | HE13: 0 | HF13: 6 | HG13: 6 | HH13: 0 | HI13: 0 | HJ13: 0 | HK13: 0 | HL13: 6 | HM13: 0 | HN13: 0 | HO13: 0 | HP13: 9 | HQ13: 6 | HR13: 0 | HS13: 0 | HT13: 0 | HU13: 0 | HV13: 0 | HW13: 0 | HX13: 6 | HY13: 0 | HZ13: 0 | IA13: 3 | IB13: 1 | IC13: 2 | ID13: 0 | IE13: 6 | IF13: 6 | IG13: 0 | IH13: 0 | II13: 0 | IJ13: 0 | IK13: 6 | IL13: 0 | IM13: 0 | IN13: 0 | IO13: 9 | IP13: 6 | IQ13: 0 | IR13: 0 | IS13: 0 | IT13: 0 | IU13: 0 | IV13: 0 | IW13: 6 | IX13: 0 | IY13: 0 | IZ13: 3 | JA13: 1 | JB13: 2 | JC13: 0 | JD13: 6 | JE13: 6 | JF13: 0 | JG13: 0 | JH13: 0 | JI13: 0 | JJ13: 6 | JK13: 0 | JL13: 0 | JM13: 0 | JN13: 9 | JO13: 6 | JP13: 0 | JQ13: 0 | JR13: 0 | JS13: 0 | JT13: 0 | JU13: 0 | JV13: 6 | JW13: 0 | JX13: 0 | JY13: 3 | JZ13: 1 | KA13: 2 | KB13: 0 | KC13: 6 | KD13: 6 | KE13: 0 | KF13: 0 | KG13: 0 | KH13: 0 | KI13: 6 | KJ13: 0 | KK13: 0 | KL13: 0 | KM13: 13 | KN13: =COUNTIFS(Dosen!$P$4:$P$469,$A13,Dosen!$D$4:$D$469,"DT") -> 6 | KO13: =COUNTIFS(Dosen!$P$4:$P$469,$A13,Dosen!$D$4:$D$469,"CDTP") -> 0 | KP13: =COUNTIFS(Dosen!$P$4:$P$469,$A13,Dosen!$D$4:$D$469,"CDTSL") -> 0 | KQ13: =COUNTIFS(Dosen!$P$4:$P$469,$A13,Dosen!$D$4:$D$469,"dosen kopertis") -> 0 | KR13: =COUNTIFS(Dosen!$P$4:$P$469,$A13,Dosen!$D$4:$D$469,"DBK") -> 0 | KS13: =COUNTIFS(Dosen!$P$4:$P$469,$A13,Dosen!$D$4:$D$469,"DPK") -> 0 | KT13: =COUNTIFS(Dosen!$P$4:$P$469,$A13,Dosen!$D$4:$D$469,"DLBK") -> 0 | KU13: =SUM(KN13:KT13) -> 6 | KV13: =COUNTIFS(Dosen!$P$4:$P$469,$A13,Dosen!$E$4:$E$469,"Belum") -> 0 | KW13: =COUNTIFS(Dosen!$P$4:$P$469,$A13,Dosen!$E$4:$E$469,"Asisten Ahli") -> 0 | KX13: =COUNTIFS(Dosen!$P$4:$P$469,$A13,Dosen!$E$4:$E$469,"Lektor") -> 3 | KY13: =COUNTIFS(Dosen!$P$4:$P$469,$A13,Dosen!$E$4:$E$469,"Lektor Kepala") -> 1 | KZ13: =COUNTIFS(Dosen!$P$4:$P$469,$A13,Dosen!$E$4:$E$469,"Guru Besar") -> 2 | LA13: =COUNTIFS(Dosen!$P$5:$P$495,$A13,Dosen!$I$5:$I$495,"Belum") -> 0 | LB13: =COUNTIFS(Dosen!$P$5:$P$495,$A13,Dosen!$I$5:$I$495,"SUDAH") -> 6 | LC13: =COUNTIFS(Dosen!$P$4:$P$495,$A13,Dosen!$H$4:$H$495,"s3") -> 6 | LD13: =COUNTIFS(Dosen!$P$4:$P$495,$A13,Dosen!$H$4:$H$495,"s2") -> 0 | LE13: =COUNTIFS(Dosen!$P$4:$P$495,$A13,Dosen!$H$4:$H$495,"s1") -> 0 | LF13: =COUNTIFS(Dosen!$P$4:$P$495,$A13,Dosen!$H$4:$H$495,"sp.2") -> 0 | LG13: =COUNTIFS(Dosen!$P$4:$P$495,$A13,Dosen!$H$4:$H$495,"sp.1") -> 0 | LH13: =COUNTIFS(Dosen!$P$4:$P$495,$A13,Dosen!$K$4:$K$495,"NIDN") -> 6 | LI13: =COUNTIFS(Dosen!$P$4:$P$495,$A13,Dosen!$K$4:$K$495,"NIDk") -> 0 | LJ13: =COUNTIFS(Dosen!$P$4:$P$495,$A13,Dosen!$K$4:$K$495,"belum") -> 0 | LK13: =COUNTIFS(Dosen!$P$4:$P$495,$A13,Dosen!$K$4:$K$495,"NUPTK") -> 0
A14: Program Sarjana Teknik Elektro Fakultas Teknologi dan Rekayasa Cerdas | B14: 49 | C14: 12 | D14: 0 | E14: 0 | F14: 0 | G14: 0 | H14: 0 | I14: 0 | J14: 12 | K14: 0 | L14: 1 | M14: 4 | N14: 7 | O14: 0 | P14: 1 | Q14: 11 | R14: 5 | S14: 7 | T14: 0 | U14: 0 | V14: 0 | W14: 12 | X14: 0 | Y14: 0 | Z14: 49 | AA14: 12 | AB14: 0 | AC14: 0 | AD14: 0 | AE14: 0 | AF14: 0 | AG14: 0 | AH14: 12 | AI14: 0 | AJ14: 1 | AK14: 4 | AL14: 7 | AM14: 0 | AN14: 1 | AO14: 11 | AP14: 5 | AQ14: 7 | AR14: 0 | AS14: 0 | AT14: 0 | AU14: 12 | AV14: 0 | AW14: 0 | AX14: 49 | AY14: 12 | AZ14: 0 | BA14: 0 | BB14: 0 | BC14: 0 | BD14: 0 | BE14: 0 | BF14: 12 | BG14: 0 | BH14: 1 | BI14: 4 | BJ14: 7 | BK14: 0 | BL14: 1 | BM14: 11 | BN14: 5 | BO14: 7 | BP14: 0 | BQ14: 0 | BR14: 0 | BS14: 12 | BT14: 0 | BU14: 0 | BV14: 49 | BW14: 12 | BX14: 0 | BY14: 0 | BZ14: 0 | CA14: 0 | CB14: 0 | CC14: 0 | CD14: 12 | CE14: 0 | CF14: 1 | CG14: 4 | CH14: 7 | CI14: 0 | CJ14: 1 | CK14: 11 | CL14: 5 | CM14: 7 | CN14: 0 | CO14: 0 | CP14: 0 | CQ14: 12 | CR14: 0 | CS14: 0 | CT14: 0 | CU14: 49 | CV14: 12 | CW14: 0 | CX14: 0 | CY14: 0 | CZ14: 0 | DA14: 0 | DB14: 0 | DC14: 12 | DD14: 0 | DE14: 1 | DF14: 4 | DG14: 7 | DH14: 0 | DI14: 1 | DJ14: 11 | DK14: 5 | DL14: 7 | DM14: 0 | DN14: 0 | DO14: 0 | DP14: 12 | DQ14: 0 | DR14: 0 | DS14: 0 | DT14: 42 | DU14: =COUNTIFS(Dosen!$P$4:$P$469,A14,Dosen!$D$4:$D$469,"DT") -> 11 | DV14: =COUNTIFS(Dosen!$P$4:$P$469,A14,Dosen!$D$4:$D$469,"CDTP") -> 0 | DW14: =COUNTIFS(Dosen!$P$4:$P$469,A14,Dosen!$D$4:$D$469,"CDTSL") -> 0 | DX14: =COUNTIFS(Dosen!$P$4:$P$469,A14,Dosen!$D$4:$D$469,"dosen kopertis") -> 0 | DY14: =COUNTIFS(Dosen!$P$4:$P$469,A14,Dosen!$D$4:$D$469,"DBK") -> 0 | DZ14: =COUNTIFS(Dosen!$P$4:$P$469,A14,Dosen!$D$4:$D$469,"DPK") -> 0 | EA14: =COUNTIFS(Dosen!$P$4:$P$469,A14,Dosen!$D$4:$D$469,"DLBK") -> 0 | EB14: =SUM(DU14:EA14) -> 11 | EC14: =COUNTIFS(Dosen!$P$4:$P$469,A14,Dosen!$E$4:$E$469,"Belum") -> 0 | ED14: =COUNTIFS(Dosen!$P$4:$P$469,$A14,Dosen!$E$4:$E$469,"Asisten Ahli") -> 0 | EE14: =COUNTIFS(Dosen!$P$4:$P$469,$A14,Dosen!$E$4:$E$469,"Lektor") -> 5 | EF14: =COUNTIFS(Dosen!$P$4:$P$469,$A14,Dosen!$E$4:$E$469,"Lektor Kepala") -> 6 | EG14: =COUNTIFS(Dosen!$P$4:$P$469,$A14,Dosen!$E$4:$E$469,"Guru Besar") -> 0 | EH14: =COUNTIFS(Dosen!$P$5:$P$449,A14,Dosen!$I$5:$I$449,"Belum") -> 1 | EI14: =COUNTIFS(Dosen!$P$5:$P$449,A14,Dosen!$I$5:$I$449,"SUDAH") -> 10 | EJ14: =COUNTIFS(Dosen!$P$4:$P$449,A14,Dosen!$H$4:$H$449,"s3") -> 5 | EK14: =COUNTIFS(Dosen!$P$4:$P$449,A14,Dosen!$H$4:$H$449,"s2") -> 6 | EL14: =COUNTIFS(Dosen!$P$4:$P$449,A14,Dosen!$H$4:$H$449,"s1") -> 0 | EM14: =COUNTIFS(Dosen!$P$4:$P$449,A14,Dosen!$H$4:$H$449,"sp.2") -> 0 | EN14: =COUNTIFS(Dosen!$P$4:$P$449,A14,Dosen!$H$4:$H$449,"sp.1") -> 0 | EO14: =COUNTIFS(Dosen!$P$4:$P$449,A14,Dosen!$K$4:$K$449,"NIDN") -> 11 | EP14: =COUNTIFS(Dosen!$P$4:$P$449,A14,Dosen!$K$4:$K$449,"NIDk") -> 0 | EQ14: =COUNTIFS(Dosen!$P$4:$P$449,A14,Dosen!$K$4:$K$449,"belum") -> 0 | ER14: =COUNTIFS(Dosen!$P$4:$P$449,A14,Dosen!$K$4:$K$449,"NUPTK") -> 0 | ES14: 42 | ET14: =COUNTIFS(Dosen!$P$4:$P$469,A14,Dosen!$D$4:$D$469,"DT") -> 11 | EU14: =COUNTIFS(Dosen!$P$4:$P$469,A14,Dosen!$D$4:$D$469,"CDTP") -> 0 | EV14: =COUNTIFS(Dosen!$P$4:$P$469,A14,Dosen!$D$4:$D$469,"CDTSL") -> 0 | EW14: =COUNTIFS(Dosen!$P$4:$P$469,A14,Dosen!$D$4:$D$469,"dosen kopertis") -> 0 | EX14: =COUNTIFS(Dosen!$P$4:$P$469,A14,Dosen!$D$4:$D$469,"DBK") -> 0 | EY14: =COUNTIFS(Dosen!$P$4:$P$469,A14,Dosen!$D$4:$D$469,"DPK") -> 0 | EZ14: =COUNTIFS(Dosen!$P$4:$P$469,A14,Dosen!$D$4:$D$469,"DLBK") -> 0 | FA14: =SUM(ET14:EZ14) -> 11 | FB14: =COUNTIFS(Dosen!$P$4:$P$469,A14,Dosen!$E$4:$E$469,"Belum") -> 0 | FC14: =COUNTIFS(Dosen!$P$4:$P$469,$A14,Dosen!$E$4:$E$469,"Asisten Ahli") -> 0 | FD14: =COUNTIFS(Dosen!$P$4:$P$469,$A14,Dosen!$E$4:$E$469,"Lektor") -> 5 | FE14: =COUNTIFS(Dosen!$P$4:$P$469,$A14,Dosen!$E$4:$E$469,"Lektor Kepala") -> 6 | FF14: =COUNTIFS(Dosen!$P$4:$P$469,$A14,Dosen!$E$4:$E$469,"Guru Besar") -> 0 | FG14: =COUNTIFS(Dosen!$P$5:$P$449,$A14,Dosen!$I$5:$I$449,"Belum") -> 1 | FH14: =COUNTIFS(Dosen!$P$5:$P$449,A14,Dosen!$I$5:$I$449,"SUDAH") -> 10 | FI14: =COUNTIFS(Dosen!$P$4:$P$449,A14,Dosen!$H$4:$H$449,"s3") -> 5 | FJ14: =COUNTIFS(Dosen!$P$4:$P$449,A14,Dosen!$H$4:$H$449,"s2") -> 6 | FK14: =COUNTIFS(Dosen!$P$4:$P$449,A14,Dosen!$H$4:$H$449,"s1") -> 0 | FL14: =COUNTIFS(Dosen!$P$4:$P$449,A14,Dosen!$H$4:$H$449,"sp.2") -> 0 | FM14: =COUNTIFS(Dosen!$P$4:$P$449,A14,Dosen!$H$4:$H$449,"sp.1") -> 0 | FN14: =COUNTIFS(Dosen!$P$4:$P$449,A14,Dosen!$K$4:$K$449,"NIDN") -> 11 | FO14: =COUNTIFS(Dosen!$P$4:$P$449,A14,Dosen!$K$4:$K$449,"NIDk") -> 0 | FP14: =COUNTIFS(Dosen!$P$4:$P$449,A14,Dosen!$K$4:$K$449,"belum") -> 0 | FQ14: =COUNTIFS(Dosen!$P$4:$P$449,A14,Dosen!$K$4:$K$449,"NUPTK") -> 0 | FR14: 42 | FS14: =COUNTIFS(Dosen!$P$4:$P$469,$A14,Dosen!$D$4:$D$469,"DT") -> 11 | FT14: =COUNTIFS(Dosen!$P$4:$P$469,$A14,Dosen!$D$4:$D$469,"CDTP") -> 0 | FU14: =COUNTIFS(Dosen!$P$4:$P$469,$A14,Dosen!$D$4:$D$469,"CDTSL") -> 0 | FV14: =COUNTIFS(Dosen!$P$4:$P$469,$A14,Dosen!$D$4:$D$469,"dosen kopertis") -> 0 | FW14: =COUNTIFS(Dosen!$P$4:$P$469,$A14,Dosen!$D$4:$D$469,"DBK") -> 0 | FX14: =COUNTIFS(Dosen!$P$4:$P$469,$A14,Dosen!$D$4:$D$469,"DPK") -> 0 | FY14: =COUNTIFS(Dosen!$P$4:$P$469,$A14,Dosen!$D$4:$D$469,"DLBK") -> 0 | FZ14: =SUM(FS14:FY14) -> 11 | GA14: =COUNTIFS(Dosen!$P$4:$P$469,$A14,Dosen!$E$4:$E$469,"Belum") -> 0 | GB14: =COUNTIFS(Dosen!$P$4:$P$469,$A14,Dosen!$E$4:$E$469,"Asisten Ahli") -> 0 | GC14: =COUNTIFS(Dosen!$P$4:$P$469,$A14,Dosen!$E$4:$E$469,"Lektor") -> 5 | GD14: =COUNTIFS(Dosen!$P$4:$P$469,$A14,Dosen!$E$4:$E$469,"Lektor Kepala") -> 6 | GE14: =COUNTIFS(Dosen!$P$4:$P$469,$A14,Dosen!$E$4:$E$469,"Guru Besar") -> 0 | GF14: =COUNTIFS(Dosen!$P$5:$P$449,$A14,Dosen!$I$5:$I$449,"Belum") -> 1 | GG14: =COUNTIFS(Dosen!$P$5:$P$449,$A14,Dosen!$I$5:$I$449,"SUDAH") -> 10 | GH14: =COUNTIFS(Dosen!$P$4:$P$449,$A14,Dosen!$H$4:$H$449,"s3") -> 5 | GI14: =COUNTIFS(Dosen!$P$4:$P$449,$A14,Dosen!$H$4:$H$449,"s2") -> 6 | GJ14: =COUNTIFS(Dosen!$P$4:$P$449,$A14,Dosen!$H$4:$H$449,"s1") -> 0 | GK14: =COUNTIFS(Dosen!$P$4:$P$449,$A14,Dosen!$H$4:$H$449,"sp.2") -> 0 | GL14: =COUNTIFS(Dosen!$P$4:$P$449,$A14,Dosen!$H$4:$H$449,"sp.1") -> 0 | GM14: =COUNTIFS(Dosen!$P$4:$P$449,$A14,Dosen!$K$4:$K$449,"NIDN") -> 11 | GN14: =COUNTIFS(Dosen!$P$4:$P$449,$A14,Dosen!$K$4:$K$449,"NIDk") -> 0 | GO14: =COUNTIFS(Dosen!$P$4:$P$449,$A14,Dosen!$K$4:$K$449,"belum") -> 0 | GP14: =COUNTIFS(Dosen!$P$4:$P$449,$A14,Dosen!$K$4:$K$449,"NUPTK") -> 0 | GQ14: 42 | GR14: 12 | GS14: 0 | GT14: 0 | GU14: 0 | GV14: 0 | GW14: 0 | GX14: 0 | GY14: 12 | GZ14: 0 | HA14: 0 | HB14: 5 | HC14: 7 | HD14: 0 | HE14: 1 | HF14: 11 | HG14: 5 | HH14: 7 | HI14: 0 | HJ14: 0 | HK14: 0 | HL14: 12 | HM14: 0 | HN14: 0 | HO14: 0 | HP14: 42 | HQ14: 12 | HR14: 0 | HS14: 0 | HT14: 0 | HU14: 0 | HV14: 0 | HW14: 0 | HX14: 12 | HY14: 0 | HZ14: 0 | IA14: 5 | IB14: 7 | IC14: 0 | ID14: 1 | IE14: 11 | IF14: 5 | IG14: 7 | IH14: 0 | II14: 0 | IJ14: 0 | IK14: 12 | IL14: 0 | IM14: 0 | IN14: 0 | IO14: 42 | IP14: 12 | IQ14: 0 | IR14: 0 | IS14: 0 | IT14: 0 | IU14: 0 | IV14: 0 | IW14: 12 | IX14: 0 | IY14: 0 | IZ14: 5 | JA14: 7 | JB14: 0 | JC14: 1 | JD14: 11 | JE14: 5 | JF14: 7 | JG14: 0 | JH14: 0 | JI14: 0 | JJ14: 12 | JK14: 0 | JL14: 0 | JM14: 0 | JN14: 42 | JO14: 12 | JP14: 0 | JQ14: 0 | JR14: 0 | JS14: 0 | JT14: 0 | JU14: 0 | JV14: 12 | JW14: 0 | JX14: 0 | JY14: 5 | JZ14: 7 | KA14: 0 | KB14: 1 | KC14: 11 | KD14: 5 | KE14: 7 | KF14: 0 | KG14: 0 | KH14: 0 | KI14: 12 | KJ14: 0 | KK14: 0 | KL14: 0 | KM14: 60 | KN14: =COUNTIFS(Dosen!$P$4:$P$469,$A14,Dosen!$D$4:$D$469,"DT") -> 11 | KO14: =COUNTIFS(Dosen!$P$4:$P$469,$A14,Dosen!$D$4:$D$469,"CDTP") -> 0 | KP14: =COUNTIFS(Dosen!$P$4:$P$469,$A14,Dosen!$D$4:$D$469,"CDTSL") -> 0 | KQ14: =COUNTIFS(Dosen!$P$4:$P$469,$A14,Dosen!$D$4:$D$469,"dosen kopertis") -> 0 | KR14: =COUNTIFS(Dosen!$P$4:$P$469,$A14,Dosen!$D$4:$D$469,"DBK") -> 0 | KS14: =COUNTIFS(Dosen!$P$4:$P$469,$A14,Dosen!$D$4:$D$469,"DPK") -> 0 | KT14: =COUNTIFS(Dosen!$P$4:$P$469,$A14,Dosen!$D$4:$D$469,"DLBK") -> 0 | KU14: =SUM(KN14:KT14) -> 11 | KV14: =COUNTIFS(Dosen!$P$4:$P$469,$A14,Dosen!$E$4:$E$469,"Belum") -> 0 | KW14: =COUNTIFS(Dosen!$P$4:$P$469,$A14,Dosen!$E$4:$E$469,"Asisten Ahli") -> 0 | KX14: =COUNTIFS(Dosen!$P$4:$P$469,$A14,Dosen!$E$4:$E$469,"Lektor") -> 5 | KY14: =COUNTIFS(Dosen!$P$4:$P$469,$A14,Dosen!$E$4:$E$469,"Lektor Kepala") -> 6 | KZ14: =COUNTIFS(Dosen!$P$4:$P$469,$A14,Dosen!$E$4:$E$469,"Guru Besar") -> 0 | LA14: =COUNTIFS(Dosen!$P$5:$P$495,$A14,Dosen!$I$5:$I$495,"Belum") -> 1 | LB14: =COUNTIFS(Dosen!$P$5:$P$495,$A14,Dosen!$I$5:$I$495,"SUDAH") -> 10 | LC14: =COUNTIFS(Dosen!$P$4:$P$495,$A14,Dosen!$H$4:$H$495,"s3") -> 5 | LD14: =COUNTIFS(Dosen!$P$4:$P$495,$A14,Dosen!$H$4:$H$495,"s2") -> 6 | LE14: =COUNTIFS(Dosen!$P$4:$P$495,$A14,Dosen!$H$4:$H$495,"s1") -> 0 | LF14: =COUNTIFS(Dosen!$P$4:$P$495,$A14,Dosen!$H$4:$H$495,"sp.2") -> 0 | LG14: =COUNTIFS(Dosen!$P$4:$P$495,$A14,Dosen!$H$4:$H$495,"sp.1") -> 0 | LH14: =COUNTIFS(Dosen!$P$4:$P$495,$A14,Dosen!$K$4:$K$495,"NIDN") -> 11 | LI14: =COUNTIFS(Dosen!$P$4:$P$495,$A14,Dosen!$K$4:$K$495,"NIDk") -> 0 | LJ14: =COUNTIFS(Dosen!$P$4:$P$495,$A14,Dosen!$K$4:$K$495,"belum") -> 0 | LK14: =COUNTIFS(Dosen!$P$4:$P$495,$A14,Dosen!$K$4:$K$495,"NUPTK") -> 0
A15: Program Sarjana Teknik Industri Fakultas Teknologi dan Rekayasa Cerdas | B15: 104 | C15: 19 | D15: 0 | E15: 0 | F15: 0 | G15: 0 | H15: 0 | I15: 0 | J15: 19 | K15: 0 | L15: 2 | M15: 17 | N15: 0 | O15: 0 | P15: 1 | Q15: 18 | R15: 4 | S15: 15 | T15: 0 | U15: 0 | V15: 0 | W15: 19 | X15: 0 | Y15: 0 | Z15: 104 | AA15: 19 | AB15: 0 | AC15: 0 | AD15: 0 | AE15: 0 | AF15: 0 | AG15: 0 | AH15: 19 | AI15: 0 | AJ15: 2 | AK15: 17 | AL15: 0 | AM15: 0 | AN15: 1 | AO15: 18 | AP15: 4 | AQ15: 15 | AR15: 0 | AS15: 0 | AT15: 0 | AU15: 19 | AV15: 0 | AW15: 0 | AX15: 104 | AY15: 19 | AZ15: 0 | BA15: 0 | BB15: 0 | BC15: 0 | BD15: 0 | BE15: 0 | BF15: 19 | BG15: 0 | BH15: 2 | BI15: 17 | BJ15: 0 | BK15: 0 | BL15: 1 | BM15: 18 | BN15: 4 | BO15: 15 | BP15: 0 | BQ15: 0 | BR15: 0 | BS15: 19 | BT15: 0 | BU15: 0 | BV15: 104 | BW15: 19 | BX15: 0 | BY15: 0 | BZ15: 0 | CA15: 0 | CB15: 0 | CC15: 0 | CD15: 19 | CE15: 0 | CF15: 2 | CG15: 17 | CH15: 0 | CI15: 0 | CJ15: 1 | CK15: 18 | CL15: 4 | CM15: 15 | CN15: 0 | CO15: 0 | CP15: 0 | CQ15: 19 | CR15: 0 | CS15: 0 | CT15: 0 | CU15: 104 | CV15: 19 | CW15: 0 | CX15: 0 | CY15: 0 | CZ15: 0 | DA15: 0 | DB15: 0 | DC15: 19 | DD15: 0 | DE15: 1 | DF15: 18 | DG15: 0 | DH15: 0 | DI15: 1 | DJ15: 18 | DK15: 4 | DL15: 15 | DM15: 0 | DN15: 0 | DO15: 0 | DP15: 19 | DQ15: 0 | DR15: 0 | DS15: 0 | DT15: 84 | DU15: =COUNTIFS(Dosen!$P$4:$P$469,A15,Dosen!$D$4:$D$469,"DT") -> 19 | DV15: =COUNTIFS(Dosen!$P$4:$P$469,A15,Dosen!$D$4:$D$469,"CDTP") -> 0 | DW15: =COUNTIFS(Dosen!$P$4:$P$469,A15,Dosen!$D$4:$D$469,"CDTSL") -> 0 | DX15: =COUNTIFS(Dosen!$P$4:$P$469,A15,Dosen!$D$4:$D$469,"dosen kopertis") -> 0 | DY15: =COUNTIFS(Dosen!$P$4:$P$469,A15,Dosen!$D$4:$D$469,"DBK") -> 0 | DZ15: =COUNTIFS(Dosen!$P$4:$P$469,A15,Dosen!$D$4:$D$469,"DPK") -> 0 | EA15: =COUNTIFS(Dosen!$P$4:$P$469,A15,Dosen!$D$4:$D$469,"DLBK") -> 0 | EB15: =SUM(DU15:EA15) -> 19 | EC15: =COUNTIFS(Dosen!$P$4:$P$469,A15,Dosen!$E$4:$E$469,"Belum") -> 0 | ED15: =COUNTIFS(Dosen!$P$4:$P$469,$A15,Dosen!$E$4:$E$469,"Asisten Ahli") -> 1 | EE15: =COUNTIFS(Dosen!$P$4:$P$469,$A15,Dosen!$E$4:$E$469,"Lektor") -> 13 | EF15: =COUNTIFS(Dosen!$P$4:$P$469,$A15,Dosen!$E$4:$E$469,"Lektor Kepala") -> 5 | EG15: =COUNTIFS(Dosen!$P$4:$P$469,$A15,Dosen!$E$4:$E$469,"Guru Besar") -> 0 | EH15: =COUNTIFS(Dosen!$P$5:$P$449,A15,Dosen!$I$5:$I$449,"Belum") -> 1 | EI15: =COUNTIFS(Dosen!$P$5:$P$449,A15,Dosen!$I$5:$I$449,"SUDAH") -> 18 | EJ15: =COUNTIFS(Dosen!$P$4:$P$449,A15,Dosen!$H$4:$H$449,"s3") -> 6 | EK15: =COUNTIFS(Dosen!$P$4:$P$449,A15,Dosen!$H$4:$H$449,"s2") -> 13 | EL15: =COUNTIFS(Dosen!$P$4:$P$449,A15,Dosen!$H$4:$H$449,"s1") -> 0 | EM15: =COUNTIFS(Dosen!$P$4:$P$449,A15,Dosen!$H$4:$H$449,"sp.2") -> 0 | EN15: =COUNTIFS(Dosen!$P$4:$P$449,A15,Dosen!$H$4:$H$449,"sp.1") -> 0 | EO15: =COUNTIFS(Dosen!$P$4:$P$449,A15,Dosen!$K$4:$K$449,"NIDN") -> 19 | EP15: =COUNTIFS(Dosen!$P$4:$P$449,A15,Dosen!$K$4:$K$449,"NIDk") -> 0 | EQ15: =COUNTIFS(Dosen!$P$4:$P$449,A15,Dosen!$K$4:$K$449,"belum") -> 0 | ER15: =COUNTIFS(Dosen!$P$4:$P$449,A15,Dosen!$K$4:$K$449,"NUPTK") -> 0 | ES15: 84 | ET15: =COUNTIFS(Dosen!$P$4:$P$469,A15,Dosen!$D$4:$D$469,"DT") -> 19 | EU15: =COUNTIFS(Dosen!$P$4:$P$469,A15,Dosen!$D$4:$D$469,"CDTP") -> 0 | EV15: =COUNTIFS(Dosen!$P$4:$P$469,A15,Dosen!$D$4:$D$469,"CDTSL") -> 0 | EW15: =COUNTIFS(Dosen!$P$4:$P$469,A15,Dosen!$D$4:$D$469,"dosen kopertis") -> 0 | EX15: =COUNTIFS(Dosen!$P$4:$P$469,A15,Dosen!$D$4:$D$469,"DBK") -> 0 | EY15: =COUNTIFS(Dosen!$P$4:$P$469,A15,Dosen!$D$4:$D$469,"DPK") -> 0 | EZ15: =COUNTIFS(Dosen!$P$4:$P$469,A15,Dosen!$D$4:$D$469,"DLBK") -> 0 | FA15: =SUM(ET15:EZ15) -> 19 | FB15: =COUNTIFS(Dosen!$P$4:$P$469,A15,Dosen!$E$4:$E$469,"Belum") -> 0 | FC15: =COUNTIFS(Dosen!$P$4:$P$469,$A15,Dosen!$E$4:$E$469,"Asisten Ahli") -> 1 | FD15: =COUNTIFS(Dosen!$P$4:$P$469,$A15,Dosen!$E$4:$E$469,"Lektor") -> 13 | FE15: =COUNTIFS(Dosen!$P$4:$P$469,$A15,Dosen!$E$4:$E$469,"Lektor Kepala") -> 5 | FF15: =COUNTIFS(Dosen!$P$4:$P$469,$A15,Dosen!$E$4:$E$469,"Guru Besar") -> 0 | FG15: =COUNTIFS(Dosen!$P$5:$P$449,$A15,Dosen!$I$5:$I$449,"Belum") -> 1 | FH15: =COUNTIFS(Dosen!$P$5:$P$449,A15,Dosen!$I$5:$I$449,"SUDAH") -> 18 | FI15: =COUNTIFS(Dosen!$P$4:$P$449,A15,Dosen!$H$4:$H$449,"s3") -> 6 | FJ15: =COUNTIFS(Dosen!$P$4:$P$449,A15,Dosen!$H$4:$H$449,"s2") -> 13 | FK15: =COUNTIFS(Dosen!$P$4:$P$449,A15,Dosen!$H$4:$H$449,"s1") -> 0 | FL15: =COUNTIFS(Dosen!$P$4:$P$449,A15,Dosen!$H$4:$H$449,"sp.2") -> 0 | FM15: =COUNTIFS(Dosen!$P$4:$P$449,A15,Dosen!$H$4:$H$449,"sp.1") -> 0 | FN15: =COUNTIFS(Dosen!$P$4:$P$449,A15,Dosen!$K$4:$K$449,"NIDN") -> 19 | FO15: =COUNTIFS(Dosen!$P$4:$P$449,A15,Dosen!$K$4:$K$449,"NIDk") -> 0 | FP15: =COUNTIFS(Dosen!$P$4:$P$449,A15,Dosen!$K$4:$K$449,"belum") -> 0 | FQ15: =COUNTIFS(Dosen!$P$4:$P$449,A15,Dosen!$K$4:$K$449,"NUPTK") -> 0 | FR15: 84 | FS15: =COUNTIFS(Dosen!$P$4:$P$469,$A15,Dosen!$D$4:$D$469,"DT") -> 19 | FT15: =COUNTIFS(Dosen!$P$4:$P$469,$A15,Dosen!$D$4:$D$469,"CDTP") -> 0 | FU15: =COUNTIFS(Dosen!$P$4:$P$469,$A15,Dosen!$D$4:$D$469,"CDTSL") -> 0 | FV15: =COUNTIFS(Dosen!$P$4:$P$469,$A15,Dosen!$D$4:$D$469,"dosen kopertis") -> 0 | FW15: =COUNTIFS(Dosen!$P$4:$P$469,$A15,Dosen!$D$4:$D$469,"DBK") -> 0 | FX15: =COUNTIFS(Dosen!$P$4:$P$469,$A15,Dosen!$D$4:$D$469,"DPK") -> 0 | FY15: =COUNTIFS(Dosen!$P$4:$P$469,$A15,Dosen!$D$4:$D$469,"DLBK") -> 0 | FZ15: =SUM(FS15:FY15) -> 19 | GA15: =COUNTIFS(Dosen!$P$4:$P$469,$A15,Dosen!$E$4:$E$469,"Belum") -> 0 | GB15: =COUNTIFS(Dosen!$P$4:$P$469,$A15,Dosen!$E$4:$E$469,"Asisten Ahli") -> 1 | GC15: =COUNTIFS(Dosen!$P$4:$P$469,$A15,Dosen!$E$4:$E$469,"Lektor") -> 13 | GD15: =COUNTIFS(Dosen!$P$4:$P$469,$A15,Dosen!$E$4:$E$469,"Lektor Kepala") -> 5 | GE15: =COUNTIFS(Dosen!$P$4:$P$469,$A15,Dosen!$E$4:$E$469,"Guru Besar") -> 0 | GF15: =COUNTIFS(Dosen!$P$5:$P$449,$A15,Dosen!$I$5:$I$449,"Belum") -> 1 | GG15: =COUNTIFS(Dosen!$P$5:$P$449,$A15,Dosen!$I$5:$I$449,"SUDAH") -> 18 | GH15: =COUNTIFS(Dosen!$P$4:$P$449,$A15,Dosen!$H$4:$H$449,"s3") -> 6 | GI15: =COUNTIFS(Dosen!$P$4:$P$449,$A15,Dosen!$H$4:$H$449,"s2") -> 13 | GJ15: =COUNTIFS(Dosen!$P$4:$P$449,$A15,Dosen!$H$4:$H$449,"s1") -> 0 | GK15: =COUNTIFS(Dosen!$P$4:$P$449,$A15,Dosen!$H$4:$H$449,"sp.2") -> 0 | GL15: =COUNTIFS(Dosen!$P$4:$P$449,$A15,Dosen!$H$4:$H$449,"sp.1") -> 0 | GM15: =COUNTIFS(Dosen!$P$4:$P$449,$A15,Dosen!$K$4:$K$449,"NIDN") -> 19 | GN15: =COUNTIFS(Dosen!$P$4:$P$449,$A15,Dosen!$K$4:$K$449,"NIDk") -> 0 | GO15: =COUNTIFS(Dosen!$P$4:$P$449,$A15,Dosen!$K$4:$K$449,"belum") -> 0 | GP15: =COUNTIFS(Dosen!$P$4:$P$449,$A15,Dosen!$K$4:$K$449,"NUPTK") -> 0 | GQ15: 84 | GR15: 19 | GS15: 0 | GT15: 0 | GU15: 0 | GV15: 0 | GW15: 0 | GX15: 0 | GY15: 19 | GZ15: 0 | HA15: 1 | HB15: 18 | HC15: 0 | HD15: 0 | HE15: 1 | HF15: 18 | HG15: 4 | HH15: 15 | HI15: 0 | HJ15: 0 | HK15: 0 | HL15: 19 | HM15: 0 | HN15: 0 | HO15: 0 | HP15: 84 | HQ15: 19 | HR15: 0 | HS15: 0 | HT15: 0 | HU15: 0 | HV15: 0 | HW15: 0 | HX15: 19 | HY15: 0 | HZ15: 1 | IA15: 18 | IB15: 0 | IC15: 0 | ID15: 1 | IE15: 18 | IF15: 5 | IG15: 14 | IH15: 0 | II15: 0 | IJ15: 0 | IK15: 19 | IL15: 0 | IM15: 0 | IN15: 0 | IO15: 84 | IP15: 19 | IQ15: 0 | IR15: 0 | IS15: 0 | IT15: 0 | IU15: 0 | IV15: 0 | IW15: 19 | IX15: 0 | IY15: 1 | IZ15: 18 | JA15: 0 | JB15: 0 | JC15: 1 | JD15: 18 | JE15: 6 | JF15: 13 | JG15: 0 | JH15: 0 | JI15: 0 | JJ15: 19 | JK15: 0 | JL15: 0 | JM15: 0 | JN15: 84 | JO15: 19 | JP15: 0 | JQ15: 0 | JR15: 0 | JS15: 0 | JT15: 0 | JU15: 0 | JV15: 19 | JW15: 0 | JX15: 1 | JY15: 16 | JZ15: 2 | KA15: 0 | KB15: 1 | KC15: 18 | KD15: 6 | KE15: 13 | KF15: 0 | KG15: 0 | KH15: 0 | KI15: 19 | KJ15: 0 | KK15: 0 | KL15: 0 | KM15: 96 | KN15: =COUNTIFS(Dosen!$P$4:$P$469,$A15,Dosen!$D$4:$D$469,"DT") -> 19 | KO15: =COUNTIFS(Dosen!$P$4:$P$469,$A15,Dosen!$D$4:$D$469,"CDTP") -> 0 | KP15: =COUNTIFS(Dosen!$P$4:$P$469,$A15,Dosen!$D$4:$D$469,"CDTSL") -> 0 | KQ15: =COUNTIFS(Dosen!$P$4:$P$469,$A15,Dosen!$D$4:$D$469,"dosen kopertis") -> 0 | KR15: =COUNTIFS(Dosen!$P$4:$P$469,$A15,Dosen!$D$4:$D$469,"DBK") -> 0 | KS15: =COUNTIFS(Dosen!$P$4:$P$469,$A15,Dosen!$D$4:$D$469,"DPK") -> 0 | KT15: =COUNTIFS(Dosen!$P$4:$P$469,$A15,Dosen!$D$4:$D$469,"DLBK") -> 0 | KU15: =SUM(KN15:KT15) -> 19 | KV15: =COUNTIFS(Dosen!$P$4:$P$469,$A15,Dosen!$E$4:$E$469,"Belum") -> 0 | KW15: =COUNTIFS(Dosen!$P$4:$P$469,$A15,Dosen!$E$4:$E$469,"Asisten Ahli") -> 1 | KX15: =COUNTIFS(Dosen!$P$4:$P$469,$A15,Dosen!$E$4:$E$469,"Lektor") -> 13 | KY15: =COUNTIFS(Dosen!$P$4:$P$469,$A15,Dosen!$E$4:$E$469,"Lektor Kepala") -> 5 | KZ15: =COUNTIFS(Dosen!$P$4:$P$469,$A15,Dosen!$E$4:$E$469,"Guru Besar") -> 0 | LA15: =COUNTIFS(Dosen!$P$5:$P$495,$A15,Dosen!$I$5:$I$495,"Belum") -> 1 | LB15: =COUNTIFS(Dosen!$P$5:$P$495,$A15,Dosen!$I$5:$I$495,"SUDAH") -> 18 | LC15: =COUNTIFS(Dosen!$P$4:$P$495,$A15,Dosen!$H$4:$H$495,"s3") -> 6 | LD15: =COUNTIFS(Dosen!$P$4:$P$495,$A15,Dosen!$H$4:$H$495,"s2") -> 13 | LE15: =COUNTIFS(Dosen!$P$4:$P$495,$A15,Dosen!$H$4:$H$495,"s1") -> 0 | LF15: =COUNTIFS(Dosen!$P$4:$P$495,$A15,Dosen!$H$4:$H$495,"sp.2") -> 0 | LG15: =COUNTIFS(Dosen!$P$4:$P$495,$A15,Dosen!$H$4:$H$495,"sp.1") -> 0 | LH15: =COUNTIFS(Dosen!$P$4:$P$495,$A15,Dosen!$K$4:$K$495,"NIDN") -> 19 | LI15: =COUNTIFS(Dosen!$P$4:$P$495,$A15,Dosen!$K$4:$K$495,"NIDk") -> 0 | LJ15: =COUNTIFS(Dosen!$P$4:$P$495,$A15,Dosen!$K$4:$K$495,"belum") -> 0 | LK15: =COUNTIFS(Dosen!$P$4:$P$495,$A15,Dosen!$K$4:$K$495,"NUPTK") -> 0
A16: Program Sarjana Sistem Komputer Fakultas Teknologi dan Rekayasa Cerdas | B16: 47 | C16: 8 | D16: 0 | E16: 0 | F16: 0 | G16: 0 | H16: 0 | I16: 0 | J16: 8 | K16: 0 | L16: 5 | M16: 2 | N16: 1 | O16: 0 | P16: 1 | Q16: 7 | R16: 1 | S16: 7 | T16: 0 | U16: 0 | V16: 0 | W16: 8 | X16: 0 | Y16: 0 | Z16: 47 | AA16: 8 | AB16: 0 | AC16: 0 | AD16: 0 | AE16: 0 | AF16: 0 | AG16: 0 | AH16: 8 | AI16: 0 | AJ16: 5 | AK16: 2 | AL16: 1 | AM16: 0 | AN16: 1 | AO16: 7 | AP16: 1 | AQ16: 7 | AR16: 0 | AS16: 0 | AT16: 0 | AU16: 8 | AV16: 0 | AW16: 0 | AX16: 47 | AY16: 8 | AZ16: 0 | BA16: 0 | BB16: 0 | BC16: 0 | BD16: 0 | BE16: 0 | BF16: 8 | BG16: 0 | BH16: 5 | BI16: 2 | BJ16: 1 | BK16: 0 | BL16: 1 | BM16: 7 | BN16: 1 | BO16: 7 | BP16: 0 | BQ16: 0 | BR16: 0 | BS16: 8 | BT16: 0 | BU16: 0 | BV16: 47 | BW16: 8 | BX16: 0 | BY16: 0 | BZ16: 0 | CA16: 0 | CB16: 0 | CC16: 0 | CD16: 8 | CE16: 0 | CF16: 5 | CG16: 2 | CH16: 1 | CI16: 0 | CJ16: 1 | CK16: 7 | CL16: 1 | CM16: 7 | CN16: 0 | CO16: 0 | CP16: 0 | CQ16: 8 | CR16: 0 | CS16: 0 | CT16: 0 | CU16: 47 | CV16: 8 | CW16: 0 | CX16: 0 | CY16: 0 | CZ16: 0 | DA16: 0 | DB16: 0 | DC16: 8 | DD16: 0 | DE16: 5 | DF16: 2 | DG16: 1 | DH16: 0 | DI16: 1 | DJ16: 7 | DK16: 1 | DL16: 7 | DM16: 0 | DN16: 0 | DO16: 0 | DP16: 8 | DQ16: 0 | DR16: 0 | DS16: 0 | DT16: 44 | DU16: =COUNTIFS(Dosen!$P$4:$P$469,A16,Dosen!$D$4:$D$469,"DT") -> 8 | DV16: =COUNTIFS(Dosen!$P$4:$P$469,A16,Dosen!$D$4:$D$469,"CDTP") -> 0 | DW16: =COUNTIFS(Dosen!$P$4:$P$469,A16,Dosen!$D$4:$D$469,"CDTSL") -> 0 | DX16: =COUNTIFS(Dosen!$P$4:$P$469,A16,Dosen!$D$4:$D$469,"dosen kopertis") -> 0 | DY16: =COUNTIFS(Dosen!$P$4:$P$469,A16,Dosen!$D$4:$D$469,"DBK") -> 0 | DZ16: =COUNTIFS(Dosen!$P$4:$P$469,A16,Dosen!$D$4:$D$469,"DPK") -> 0 | EA16: =COUNTIFS(Dosen!$P$4:$P$469,A16,Dosen!$D$4:$D$469,"DLBK") -> 0 | EB16: =SUM(DU16:EA16) -> 8 | EC16: =COUNTIFS(Dosen!$P$4:$P$469,A16,Dosen!$E$4:$E$469,"Belum") -> 0 | ED16: =COUNTIFS(Dosen!$P$4:$P$469,$A16,Dosen!$E$4:$E$469,"Asisten Ahli") -> 3 | EE16: =COUNTIFS(Dosen!$P$4:$P$469,$A16,Dosen!$E$4:$E$469,"Lektor") -> 3 | EF16: =COUNTIFS(Dosen!$P$4:$P$469,$A16,Dosen!$E$4:$E$469,"Lektor Kepala") -> 2 | EG16: =COUNTIFS(Dosen!$P$4:$P$469,$A16,Dosen!$E$4:$E$469,"Guru Besar") -> 0 | EH16: =COUNTIFS(Dosen!$P$5:$P$449,A16,Dosen!$I$5:$I$449,"Belum") -> 1 | EI16: =COUNTIFS(Dosen!$P$5:$P$449,A16,Dosen!$I$5:$I$449,"SUDAH") -> 7 | EJ16: =COUNTIFS(Dosen!$P$4:$P$449,A16,Dosen!$H$4:$H$449,"s3") -> 1 | EK16: =COUNTIFS(Dosen!$P$4:$P$449,A16,Dosen!$H$4:$H$449,"s2") -> 7 | EL16: =COUNTIFS(Dosen!$P$4:$P$449,A16,Dosen!$H$4:$H$449,"s1") -> 0 | EM16: =COUNTIFS(Dosen!$P$4:$P$449,A16,Dosen!$H$4:$H$449,"sp.2") -> 0 | EN16: =COUNTIFS(Dosen!$P$4:$P$449,A16,Dosen!$H$4:$H$449,"sp.1") -> 0 | EO16: =COUNTIFS(Dosen!$P$4:$P$449,A16,Dosen!$K$4:$K$449,"NIDN") -> 8 | EP16: =COUNTIFS(Dosen!$P$4:$P$449,A16,Dosen!$K$4:$K$449,"NIDk") -> 0 | EQ16: =COUNTIFS(Dosen!$P$4:$P$449,A16,Dosen!$K$4:$K$449,"belum") -> 0 | ER16: =COUNTIFS(Dosen!$P$4:$P$449,A16,Dosen!$K$4:$K$449,"NUPTK") -> 0 | ES16: 44 | ET16: =COUNTIFS(Dosen!$P$4:$P$469,A16,Dosen!$D$4:$D$469,"DT") -> 8 | EU16: =COUNTIFS(Dosen!$P$4:$P$469,A16,Dosen!$D$4:$D$469,"CDTP") -> 0 | EV16: =COUNTIFS(Dosen!$P$4:$P$469,A16,Dosen!$D$4:$D$469,"CDTSL") -> 0 | EW16: =COUNTIFS(Dosen!$P$4:$P$469,A16,Dosen!$D$4:$D$469,"dosen kopertis") -> 0 | EX16: =COUNTIFS(Dosen!$P$4:$P$469,A16,Dosen!$D$4:$D$469,"DBK") -> 0 | EY16: =COUNTIFS(Dosen!$P$4:$P$469,A16,Dosen!$D$4:$D$469,"DPK") -> 0 | EZ16: =COUNTIFS(Dosen!$P$4:$P$469,A16,Dosen!$D$4:$D$469,"DLBK") -> 0 | FA16: =SUM(ET16:EZ16) -> 8 | FB16: =COUNTIFS(Dosen!$P$4:$P$469,A16,Dosen!$E$4:$E$469,"Belum") -> 0 | FC16: =COUNTIFS(Dosen!$P$4:$P$469,$A16,Dosen!$E$4:$E$469,"Asisten Ahli") -> 3 | FD16: =COUNTIFS(Dosen!$P$4:$P$469,$A16,Dosen!$E$4:$E$469,"Lektor") -> 3 | FE16: =COUNTIFS(Dosen!$P$4:$P$469,$A16,Dosen!$E$4:$E$469,"Lektor Kepala") -> 2 | FF16: =COUNTIFS(Dosen!$P$4:$P$469,$A16,Dosen!$E$4:$E$469,"Guru Besar") -> 0 | FG16: =COUNTIFS(Dosen!$P$5:$P$449,$A16,Dosen!$I$5:$I$449,"Belum") -> 1 | FH16: =COUNTIFS(Dosen!$P$5:$P$449,A16,Dosen!$I$5:$I$449,"SUDAH") -> 7 | FI16: =COUNTIFS(Dosen!$P$4:$P$449,A16,Dosen!$H$4:$H$449,"s3") -> 1 | FJ16: =COUNTIFS(Dosen!$P$4:$P$449,A16,Dosen!$H$4:$H$449,"s2") -> 7 | FK16: =COUNTIFS(Dosen!$P$4:$P$449,A16,Dosen!$H$4:$H$449,"s1") -> 0 | FL16: =COUNTIFS(Dosen!$P$4:$P$449,A16,Dosen!$H$4:$H$449,"sp.2") -> 0 | FM16: =COUNTIFS(Dosen!$P$4:$P$449,A16,Dosen!$H$4:$H$449,"sp.1") -> 0 | FN16: =COUNTIFS(Dosen!$P$4:$P$449,A16,Dosen!$K$4:$K$449,"NIDN") -> 8 | FO16: =COUNTIFS(Dosen!$P$4:$P$449,A16,Dosen!$K$4:$K$449,"NIDk") -> 0 | FP16: =COUNTIFS(Dosen!$P$4:$P$449,A16,Dosen!$K$4:$K$449,"belum") -> 0 | FQ16: =COUNTIFS(Dosen!$P$4:$P$449,A16,Dosen!$K$4:$K$449,"NUPTK") -> 0 | FR16: 44 | FS16: =COUNTIFS(Dosen!$P$4:$P$469,$A16,Dosen!$D$4:$D$469,"DT") -> 8 | FT16: =COUNTIFS(Dosen!$P$4:$P$469,$A16,Dosen!$D$4:$D$469,"CDTP") -> 0 | FU16: =COUNTIFS(Dosen!$P$4:$P$469,$A16,Dosen!$D$4:$D$469,"CDTSL") -> 0 | FV16: =COUNTIFS(Dosen!$P$4:$P$469,$A16,Dosen!$D$4:$D$469,"dosen kopertis") -> 0 | FW16: =COUNTIFS(Dosen!$P$4:$P$469,$A16,Dosen!$D$4:$D$469,"DBK") -> 0 | FX16: =COUNTIFS(Dosen!$P$4:$P$469,$A16,Dosen!$D$4:$D$469,"DPK") -> 0 | FY16: =COUNTIFS(Dosen!$P$4:$P$469,$A16,Dosen!$D$4:$D$469,"DLBK") -> 0 | FZ16: =SUM(FS16:FY16) -> 8 | GA16: =COUNTIFS(Dosen!$P$4:$P$469,$A16,Dosen!$E$4:$E$469,"Belum") -> 0 | GB16: =COUNTIFS(Dosen!$P$4:$P$469,$A16,Dosen!$E$4:$E$469,"Asisten Ahli") -> 3 | GC16: =COUNTIFS(Dosen!$P$4:$P$469,$A16,Dosen!$E$4:$E$469,"Lektor") -> 3 | GD16: =COUNTIFS(Dosen!$P$4:$P$469,$A16,Dosen!$E$4:$E$469,"Lektor Kepala") -> 2 | GE16: =COUNTIFS(Dosen!$P$4:$P$469,$A16,Dosen!$E$4:$E$469,"Guru Besar") -> 0 | GF16: =COUNTIFS(Dosen!$P$5:$P$449,$A16,Dosen!$I$5:$I$449,"Belum") -> 1 | GG16: =COUNTIFS(Dosen!$P$5:$P$449,$A16,Dosen!$I$5:$I$449,"SUDAH") -> 7 | GH16: =COUNTIFS(Dosen!$P$4:$P$449,$A16,Dosen!$H$4:$H$449,"s3") -> 1 | GI16: =COUNTIFS(Dosen!$P$4:$P$449,$A16,Dosen!$H$4:$H$449,"s2") -> 7 | GJ16: =COUNTIFS(Dosen!$P$4:$P$449,$A16,Dosen!$H$4:$H$449,"s1") -> 0 | GK16: =COUNTIFS(Dosen!$P$4:$P$449,$A16,Dosen!$H$4:$H$449,"sp.2") -> 0 | GL16: =COUNTIFS(Dosen!$P$4:$P$449,$A16,Dosen!$H$4:$H$449,"sp.1") -> 0 | GM16: =COUNTIFS(Dosen!$P$4:$P$449,$A16,Dosen!$K$4:$K$449,"NIDN") -> 8 | GN16: =COUNTIFS(Dosen!$P$4:$P$449,$A16,Dosen!$K$4:$K$449,"NIDk") -> 0 | GO16: =COUNTIFS(Dosen!$P$4:$P$449,$A16,Dosen!$K$4:$K$449,"belum") -> 0 | GP16: =COUNTIFS(Dosen!$P$4:$P$449,$A16,Dosen!$K$4:$K$449,"NUPTK") -> 0 | GQ16: 44 | GR16: 8 | GS16: 0 | GT16: 0 | GU16: 0 | GV16: 0 | GW16: 0 | GX16: 0 | GY16: 8 | GZ16: 0 | HA16: 4 | HB16: 3 | HC16: 1 | HD16: 0 | HE16: 1 | HF16: 7 | HG16: 1 | HH16: 7 | HI16: 0 | HJ16: 0 | HK16: 0 | HL16: 8 | HM16: 0 | HN16: 0 | HO16: 0 | HP16: 44 | HQ16: 8 | HR16: 0 | HS16: 0 | HT16: 0 | HU16: 0 | HV16: 0 | HW16: 0 | HX16: 8 | HY16: 0 | HZ16: 4 | IA16: 3 | IB16: 1 | IC16: 0 | ID16: 1 | IE16: 7 | IF16: 1 | IG16: 7 | IH16: 0 | II16: 0 | IJ16: 0 | IK16: 8 | IL16: 0 | IM16: 0 | IN16: 0 | IO16: 44 | IP16: 8 | IQ16: 0 | IR16: 0 | IS16: 0 | IT16: 0 | IU16: 0 | IV16: 0 | IW16: 8 | IX16: 0 | IY16: 3 | IZ16: 4 | JA16: 1 | JB16: 0 | JC16: 1 | JD16: 7 | JE16: 1 | JF16: 7 | JG16: 0 | JH16: 0 | JI16: 0 | JJ16: 8 | JK16: 0 | JL16: 0 | JM16: 0 | JN16: 44 | JO16: 8 | JP16: 0 | JQ16: 0 | JR16: 0 | JS16: 0 | JT16: 0 | JU16: 0 | JV16: 8 | JW16: 0 | JX16: 3 | JY16: 4 | JZ16: 1 | KA16: 0 | KB16: 1 | KC16: 7 | KD16: 1 | KE16: 7 | KF16: 0 | KG16: 0 | KH16: 0 | KI16: 8 | KJ16: 0 | KK16: 0 | KL16: 0 | KM16: 55 | KN16: =COUNTIFS(Dosen!$P$4:$P$469,$A16,Dosen!$D$4:$D$469,"DT") -> 8 | KO16: =COUNTIFS(Dosen!$P$4:$P$469,$A16,Dosen!$D$4:$D$469,"CDTP") -> 0 | KP16: =COUNTIFS(Dosen!$P$4:$P$469,$A16,Dosen!$D$4:$D$469,"CDTSL") -> 0 | KQ16: =COUNTIFS(Dosen!$P$4:$P$469,$A16,Dosen!$D$4:$D$469,"dosen kopertis") -> 0 | KR16: =COUNTIFS(Dosen!$P$4:$P$469,$A16,Dosen!$D$4:$D$469,"DBK") -> 0 | KS16: =COUNTIFS(Dosen!$P$4:$P$469,$A16,Dosen!$D$4:$D$469,"DPK") -> 0 | KT16: =COUNTIFS(Dosen!$P$4:$P$469,$A16,Dosen!$D$4:$D$469,"DLBK") -> 0 | KU16: =SUM(KN16:KT16) -> 8 | KV16: =COUNTIFS(Dosen!$P$4:$P$469,$A16,Dosen!$E$4:$E$469,"Belum") -> 0 | KW16: =COUNTIFS(Dosen!$P$4:$P$469,$A16,Dosen!$E$4:$E$469,"Asisten Ahli") -> 3 | KX16: =COUNTIFS(Dosen!$P$4:$P$469,$A16,Dosen!$E$4:$E$469,"Lektor") -> 3 | KY16: =COUNTIFS(Dosen!$P$4:$P$469,$A16,Dosen!$E$4:$E$469,"Lektor Kepala") -> 2 | KZ16: =COUNTIFS(Dosen!$P$4:$P$469,$A16,Dosen!$E$4:$E$469,"Guru Besar") -> 0 | LA16: =COUNTIFS(Dosen!$P$5:$P$495,$A16,Dosen!$I$5:$I$495,"Belum") -> 1 | LB16: =COUNTIFS(Dosen!$P$5:$P$495,$A16,Dosen!$I$5:$I$495,"SUDAH") -> 7 | LC16: =COUNTIFS(Dosen!$P$4:$P$495,$A16,Dosen!$H$4:$H$495,"s3") -> 1 | LD16: =COUNTIFS(Dosen!$P$4:$P$495,$A16,Dosen!$H$4:$H$495,"s2") -> 7 | LE16: =COUNTIFS(Dosen!$P$4:$P$495,$A16,Dosen!$H$4:$H$495,"s1") -> 0 | LF16: =COUNTIFS(Dosen!$P$4:$P$495,$A16,Dosen!$H$4:$H$495,"sp.2") -> 0 | LG16: =COUNTIFS(Dosen!$P$4:$P$495,$A16,Dosen!$H$4:$H$495,"sp.1") -> 0 | LH16: =COUNTIFS(Dosen!$P$4:$P$495,$A16,Dosen!$K$4:$K$495,"NIDN") -> 8 | LI16: =COUNTIFS(Dosen!$P$4:$P$495,$A16,Dosen!$K$4:$K$495,"NIDk") -> 0 | LJ16: =COUNTIFS(Dosen!$P$4:$P$495,$A16,Dosen!$K$4:$K$495,"belum") -> 0 | LK16: =COUNTIFS(Dosen!$P$4:$P$495,$A16,Dosen!$K$4:$K$495,"NUPTK") -> 0
A17: Program Sarjana Psikologi Fakultas Psikologi | B17: 760 | C17: 20 | D17: 0 | E17: 0 | F17: 1 | G17: 0 | H17: 6 | I17: 0 | J17: 27 | K17: 5 | L17: 8 | M17: 12 | N17: 1 | O17: 1 | P17: 7 | Q17: 20 | R17: 5 | S17: 22 | T17: 0 | U17: 0 | V17: 0 | W17: 21 | X17: 4 | Y17: 2 | Z17: 760 | AA17: 20 | AB17: 0 | AC17: 0 | AD17: 1 | AE17: 0 | AF17: 6 | AG17: 0 | AH17: 27 | AI17: 5 | AJ17: 7 | AK17: 13 | AL17: 1 | AM17: 1 | AN17: 7 | AO17: 20 | AP17: 5 | AQ17: 22 | AR17: 0 | AS17: 0 | AT17: 0 | AU17: 21 | AV17: 4 | AW17: 2 | AX17: 760 | AY17: 20 | AZ17: 0 | BA17: 0 | BB17: 1 | BC17: 0 | BD17: 6 | BE17: 0 | BF17: 27 | BG17: 5 | BH17: 7 | BI17: 13 | BJ17: 1 | BK17: 1 | BL17: 7 | BM17: 20 | BN17: 5 | BO17: 22 | BP17: 0 | BQ17: 0 | BR17: 0 | BS17: 21 | BT17: 5 | BU17: 0 | BV17: 760 | BW17: 20 | BX17: 2 | BY17: 0 | BZ17: 1 | CA17: 0 | CB17: 6 | CC17: 0 | CD17: 29 | CE17: 7 | CF17: 7 | CG17: 13 | CH17: 1 | CI17: 1 | CJ17: 9 | CK17: 20 | CL17: 5 | CM17: 24 | CN17: 0 | CO17: 0 | CP17: 0 | CQ17: 21 | CR17: 5 | CS17: 2 | CT17: 1 | CU17: 760 | CV17: 20 | CW17: 2 | CX17: 0 | CY17: 1 | CZ17: 0 | DA17: 6 | DB17: 0 | DC17: 29 | DD17: 7 | DE17: 4 | DF17: 16 | DG17: 1 | DH17: 1 | DI17: 8 | DJ17: 21 | DK17: 5 | DL17: 24 | DM17: 0 | DN17: 0 | DO17: 0 | DP17: 21 | DQ17: 5 | DR17: 2 | DS17: 1 | DT17: 711 | DU17: =COUNTIFS(Dosen!$P$4:$P$469,A17,Dosen!$D$4:$D$469,"DT") -> 20 | DV17: =COUNTIFS(Dosen!$P$4:$P$469,A17,Dosen!$D$4:$D$469,"CDTP") -> 0 | DW17: =COUNTIFS(Dosen!$P$4:$P$469,A17,Dosen!$D$4:$D$469,"CDTSL") -> 0 | DX17: =COUNTIFS(Dosen!$P$4:$P$469,A17,Dosen!$D$4:$D$469,"dosen kopertis") -> 1 | DY17: =COUNTIFS(Dosen!$P$4:$P$469,A17,Dosen!$D$4:$D$469,"DBK") -> 0 | DZ17: =COUNTIFS(Dosen!$P$4:$P$469,A17,Dosen!$D$4:$D$469,"DPK") -> 7 | EA17: =COUNTIFS(Dosen!$P$4:$P$469,A17,Dosen!$D$4:$D$469,"DLBK") -> 0 | EB17: =SUM(DU17:EA17) -> 28 | EC17: =COUNTIFS(Dosen!$P$4:$P$469,A17,Dosen!$E$4:$E$469,"Belum") -> 5 | ED17: =COUNTIFS(Dosen!$P$4:$P$469,$A17,Dosen!$E$4:$E$469,"Asisten Ahli") -> 6 | EE17: =COUNTIFS(Dosen!$P$4:$P$469,$A17,Dosen!$E$4:$E$469,"Lektor") -> 13 | EF17: =COUNTIFS(Dosen!$P$4:$P$469,$A17,Dosen!$E$4:$E$469,"Lektor Kepala") -> 3 | EG17: =COUNTIFS(Dosen!$P$4:$P$469,$A17,Dosen!$E$4:$E$469,"Guru Besar") -> 1 | EH17: =COUNTIFS(Dosen!$P$5:$P$449,A17,Dosen!$I$5:$I$449,"Belum") -> 8 | EI17: =COUNTIFS(Dosen!$P$5:$P$449,A17,Dosen!$I$5:$I$449,"SUDAH") -> 20 | EJ17: =COUNTIFS(Dosen!$P$4:$P$449,A17,Dosen!$H$4:$H$449,"s3") -> 6 | EK17: =COUNTIFS(Dosen!$P$4:$P$449,A17,Dosen!$H$4:$H$449,"s2") -> 22 | EL17: =COUNTIFS(Dosen!$P$4:$P$449,A17,Dosen!$H$4:$H$449,"s1") -> 0 | EM17: =COUNTIFS(Dosen!$P$4:$P$449,A17,Dosen!$H$4:$H$449,"sp.2") -> 0 | EN17: =COUNTIFS(Dosen!$P$4:$P$449,A17,Dosen!$H$4:$H$449,"sp.1") -> 0 | EO17: =COUNTIFS(Dosen!$P$4:$P$449,A17,Dosen!$K$4:$K$449,"NIDN") -> 21 | EP17: =COUNTIFS(Dosen!$P$4:$P$449,A17,Dosen!$K$4:$K$449,"NIDk") -> 4 | EQ17: =COUNTIFS(Dosen!$P$4:$P$449,A17,Dosen!$K$4:$K$449,"belum") -> 2 | ER17: =COUNTIFS(Dosen!$P$4:$P$449,A17,Dosen!$K$4:$K$449,"NUPTK") -> 1 | ES17: 711 | ET17: =COUNTIFS(Dosen!$P$4:$P$469,A17,Dosen!$D$4:$D$469,"DT") -> 20 | EU17: =COUNTIFS(Dosen!$P$4:$P$469,A17,Dosen!$D$4:$D$469,"CDTP") -> 0 | EV17: =COUNTIFS(Dosen!$P$4:$P$469,A17,Dosen!$D$4:$D$469,"CDTSL") -> 0 | EW17: =COUNTIFS(Dosen!$P$4:$P$469,A17,Dosen!$D$4:$D$469,"dosen kopertis") -> 1 | EX17: =COUNTIFS(Dosen!$P$4:$P$469,A17,Dosen!$D$4:$D$469,"DBK") -> 0 | EY17: =COUNTIFS(Dosen!$P$4:$P$469,A17,Dosen!$D$4:$D$469,"DPK") -> 7 | EZ17: =COUNTIFS(Dosen!$P$4:$P$469,A17,Dosen!$D$4:$D$469,"DLBK") -> 0 | FA17: =SUM(ET17:EZ17) -> 28 | FB17: =COUNTIFS(Dosen!$P$4:$P$469,A17,Dosen!$E$4:$E$469,"Belum") -> 5 | FC17: =COUNTIFS(Dosen!$P$4:$P$469,$A17,Dosen!$E$4:$E$469,"Asisten Ahli") -> 6 | FD17: =COUNTIFS(Dosen!$P$4:$P$469,$A17,Dosen!$E$4:$E$469,"Lektor") -> 13 | FE17: =COUNTIFS(Dosen!$P$4:$P$469,$A17,Dosen!$E$4:$E$469,"Lektor Kepala") -> 3 | FF17: =COUNTIFS(Dosen!$P$4:$P$469,$A17,Dosen!$E$4:$E$469,"Guru Besar") -> 1 | FG17: =COUNTIFS(Dosen!$P$5:$P$449,$A17,Dosen!$I$5:$I$449,"Belum") -> 8 | FH17: =COUNTIFS(Dosen!$P$5:$P$449,A17,Dosen!$I$5:$I$449,"SUDAH") -> 20 | FI17: =COUNTIFS(Dosen!$P$4:$P$449,A17,Dosen!$H$4:$H$449,"s3") -> 6 | FJ17: =COUNTIFS(Dosen!$P$4:$P$449,A17,Dosen!$H$4:$H$449,"s2") -> 22 | FK17: =COUNTIFS(Dosen!$P$4:$P$449,A17,Dosen!$H$4:$H$449,"s1") -> 0 | FL17: =COUNTIFS(Dosen!$P$4:$P$449,A17,Dosen!$H$4:$H$449,"sp.2") -> 0 | FM17: =COUNTIFS(Dosen!$P$4:$P$449,A17,Dosen!$H$4:$H$449,"sp.1") -> 0 | FN17: =COUNTIFS(Dosen!$P$4:$P$449,A17,Dosen!$K$4:$K$449,"NIDN") -> 21 | FO17: =COUNTIFS(Dosen!$P$4:$P$449,A17,Dosen!$K$4:$K$449,"NIDk") -> 4 | FP17: =COUNTIFS(Dosen!$P$4:$P$449,A17,Dosen!$K$4:$K$449,"belum") -> 2 | FQ17: =COUNTIFS(Dosen!$P$4:$P$449,A17,Dosen!$K$4:$K$449,"NUPTK") -> 1 | FR17: 711 | FS17: =COUNTIFS(Dosen!$P$4:$P$469,$A17,Dosen!$D$4:$D$469,"DT") -> 20 | FT17: =COUNTIFS(Dosen!$P$4:$P$469,$A17,Dosen!$D$4:$D$469,"CDTP") -> 0 | FU17: =COUNTIFS(Dosen!$P$4:$P$469,$A17,Dosen!$D$4:$D$469,"CDTSL") -> 0 | FV17: =COUNTIFS(Dosen!$P$4:$P$469,$A17,Dosen!$D$4:$D$469,"dosen kopertis") -> 1 | FW17: =COUNTIFS(Dosen!$P$4:$P$469,$A17,Dosen!$D$4:$D$469,"DBK") -> 0 | FX17: =COUNTIFS(Dosen!$P$4:$P$469,$A17,Dosen!$D$4:$D$469,"DPK") -> 7 | FY17: =COUNTIFS(Dosen!$P$4:$P$469,$A17,Dosen!$D$4:$D$469,"DLBK") -> 0 | FZ17: =SUM(FS17:FY17) -> 28 | GA17: =COUNTIFS(Dosen!$P$4:$P$469,$A17,Dosen!$E$4:$E$469,"Belum") -> 5 | GB17: =COUNTIFS(Dosen!$P$4:$P$469,$A17,Dosen!$E$4:$E$469,"Asisten Ahli") -> 6 | GC17: =COUNTIFS(Dosen!$P$4:$P$469,$A17,Dosen!$E$4:$E$469,"Lektor") -> 13 | GD17: =COUNTIFS(Dosen!$P$4:$P$469,$A17,Dosen!$E$4:$E$469,"Lektor Kepala") -> 3 | GE17: =COUNTIFS(Dosen!$P$4:$P$469,$A17,Dosen!$E$4:$E$469,"Guru Besar") -> 1 | GF17: =COUNTIFS(Dosen!$P$5:$P$449,$A17,Dosen!$I$5:$I$449,"Belum") -> 8 | GG17: =COUNTIFS(Dosen!$P$5:$P$449,$A17,Dosen!$I$5:$I$449,"SUDAH") -> 20 | GH17: =COUNTIFS(Dosen!$P$4:$P$449,$A17,Dosen!$H$4:$H$449,"s3") -> 6 | GI17: =COUNTIFS(Dosen!$P$4:$P$449,$A17,Dosen!$H$4:$H$449,"s2") -> 22 | GJ17: =COUNTIFS(Dosen!$P$4:$P$449,$A17,Dosen!$H$4:$H$449,"s1") -> 0 | GK17: =COUNTIFS(Dosen!$P$4:$P$449,$A17,Dosen!$H$4:$H$449,"sp.2") -> 0 | GL17: =COUNTIFS(Dosen!$P$4:$P$449,$A17,Dosen!$H$4:$H$449,"sp.1") -> 0 | GM17: =COUNTIFS(Dosen!$P$4:$P$449,$A17,Dosen!$K$4:$K$449,"NIDN") -> 21 | GN17: =COUNTIFS(Dosen!$P$4:$P$449,$A17,Dosen!$K$4:$K$449,"NIDk") -> 4 | GO17: =COUNTIFS(Dosen!$P$4:$P$449,$A17,Dosen!$K$4:$K$449,"belum") -> 2 | GP17: =COUNTIFS(Dosen!$P$4:$P$449,$A17,Dosen!$K$4:$K$449,"NUPTK") -> 1 | GQ17: 711 | GR17: 20 | GS17: 2 | GT17: 0 | GU17: 1 | GV17: 0 | GW17: 5 | GX17: 0 | GY17: 28 | GZ17: 6 | HA17: 5 | HB17: 15 | HC17: 1 | HD17: 1 | HE17: 9 | HF17: 19 | HG17: 6 | HH17: 22 | HI17: 0 | HJ17: 0 | HK17: 0 | HL17: 21 | HM17: 4 | HN17: 2 | HO17: 1 | HP17: 711 | HQ17: 20 | HR17: 2 | HS17: 0 | HT17: 1 | HU17: 0 | HV17: 5 | HW17: 0 | HX17: 28 | HY17: 5 | HZ17: 6 | IA17: 15 | IB17: 1 | IC17: 1 | ID17: 9 | IE17: 19 | IF17: 6 | IG17: 22 | IH17: 0 | II17: 0 | IJ17: 0 | IK17: 21 | IL17: 4 | IM17: 2 | IN17: 1 | IO17: 711 | IP17: 20 | IQ17: 2 | IR17: 0 | IS17: 1 | IT17: 0 | IU17: 5 | IV17: 0 | IW17: 28 | IX17: 5 | IY17: 6 | IZ17: 15 | JA17: 1 | JB17: 1 | JC17: 9 | JD17: 19 | JE17: 6 | JF17: 22 | JG17: 0 | JH17: 0 | JI17: 0 | JJ17: 21 | JK17: 4 | JL17: 2 | JM17: 1 | JN17: 711 | JO17: 20 | JP17: 0 | JQ17: 0 | JR17: 1 | JS17: 0 | JT17: 7 | JU17: 0 | JV17: 28 | JW17: 5 | JX17: 6 | JY17: 13 | JZ17: 3 | KA17: 1 | KB17: 8 | KC17: 20 | KD17: 6 | KE17: 22 | KF17: 0 | KG17: 0 | KH17: 0 | KI17: 21 | KJ17: 4 | KK17: 2 | KL17: 1 | KM17: 702 | KN17: =COUNTIFS(Dosen!$P$4:$P$469,$A17,Dosen!$D$4:$D$469,"DT") -> 20 | KO17: =COUNTIFS(Dosen!$P$4:$P$469,$A17,Dosen!$D$4:$D$469,"CDTP") -> 0 | KP17: =COUNTIFS(Dosen!$P$4:$P$469,$A17,Dosen!$D$4:$D$469,"CDTSL") -> 0 | KQ17: =COUNTIFS(Dosen!$P$4:$P$469,$A17,Dosen!$D$4:$D$469,"dosen kopertis") -> 1 | KR17: =COUNTIFS(Dosen!$P$4:$P$469,$A17,Dosen!$D$4:$D$469,"DBK") -> 0 | KS17: =COUNTIFS(Dosen!$P$4:$P$469,$A17,Dosen!$D$4:$D$469,"DPK") -> 7 | KT17: =COUNTIFS(Dosen!$P$4:$P$469,$A17,Dosen!$D$4:$D$469,"DLBK") -> 0 | KU17: =SUM(KN17:KT17) -> 28 | KV17: =COUNTIFS(Dosen!$P$4:$P$469,$A17,Dosen!$E$4:$E$469,"Belum") -> 5 | KW17: =COUNTIFS(Dosen!$P$4:$P$469,$A17,Dosen!$E$4:$E$469,"Asisten Ahli") -> 6 | KX17: =COUNTIFS(Dosen!$P$4:$P$469,$A17,Dosen!$E$4:$E$469,"Lektor") -> 13 | KY17: =COUNTIFS(Dosen!$P$4:$P$469,$A17,Dosen!$E$4:$E$469,"Lektor Kepala") -> 3 | KZ17: =COUNTIFS(Dosen!$P$4:$P$469,$A17,Dosen!$E$4:$E$469,"Guru Besar") -> 1 | LA17: =COUNTIFS(Dosen!$P$5:$P$495,$A17,Dosen!$I$5:$I$495,"Belum") -> 8 | LB17: =COUNTIFS(Dosen!$P$5:$P$495,$A17,Dosen!$I$5:$I$495,"SUDAH") -> 20 | LC17: =COUNTIFS(Dosen!$P$4:$P$495,$A17,Dosen!$H$4:$H$495,"s3") -> 6 | LD17: =COUNTIFS(Dosen!$P$4:$P$495,$A17,Dosen!$H$4:$H$495,"s2") -> 22 | LE17: =COUNTIFS(Dosen!$P$4:$P$495,$A17,Dosen!$H$4:$H$495,"s1") -> 0 | LF17: =COUNTIFS(Dosen!$P$4:$P$495,$A17,Dosen!$H$4:$H$495,"sp.2") -> 0 | LG17: =COUNTIFS(Dosen!$P$4:$P$495,$A17,Dosen!$H$4:$H$495,"sp.1") -> 0 | LH17: =COUNTIFS(Dosen!$P$4:$P$495,$A17,Dosen!$K$4:$K$495,"NIDN") -> 21 | LI17: =COUNTIFS(Dosen!$P$4:$P$495,$A17,Dosen!$K$4:$K$495,"NIDk") -> 4 | LJ17: =COUNTIFS(Dosen!$P$4:$P$495,$A17,Dosen!$K$4:$K$495,"belum") -> 2 | LK17: =COUNTIFS(Dosen!$P$4:$P$495,$A17,Dosen!$K$4:$K$495,"NUPTK") -> 1
... A34: Program Sarjana Arsitektur Fakultas Humaniora dan Industri Kreatif | B34: 39 | C34: 6 | D34: 0 | E34: 0 | F34: 0 | G34: 0 | H34: 0 | I34: 0 | J34: 6 | K34: 1 | L34: 2 | M34: 2 | N34: 1 | O34: 0 | P34: 2 | Q34: 4 | R34: 3 | S34: 3 | T34: 0 | U34: 0 | V34: 0 | W34: 6 | X34: 0 | Y34: 0 | Z34: 39 | AA34: 6 | AB34: 0 | AC34: 0 | AD34: 0 | AE34: 0 | AF34: 0 | AG34: 0 | AH34: 6 | AI34: 1 | AJ34: 2 | AK34: 2 | AL34: 1 | AM34: 0 | AN34: 2 | AO34: 4 | AP34: 3 | AQ34: 3 | AR34: 0 | AS34: 0 | AT34: 0 | AU34: 6 | AV34: 0 | AW34: 0 | AX34: 39 | AY34: 7 | AZ34: 0 | BA34: 0 | BB34: 0 | BC34: 0 | BD34: 0 | BE34: 0 | BF34: 7 | BG34: 1 | BH34: 3 | BI34: 2 | BJ34: 1 | BK34: 0 | BL34: 3 | BM34: 4 | BN34: 4 | BO34: 3 | BP34: 0 | BQ34: 0 | BR34: 0 | BS34: 7 | BT34: 0 | BU34: 0 | BV34: 39 | BW34: 7 | BX34: 0 | BY34: 0 | BZ34: 0 | CA34: 0 | CB34: 0 | CC34: 0 | CD34: 7 | CE34: 1 | CF34: 3 | CG34: 2 | CH34: 1 | CI34: 0 | CJ34: 3 | CK34: 4 | CL34: 4 | CM34: 3 | CN34: 0 | CO34: 0 | CP34: 0 | CQ34: 7 | CR34: 0 | CS34: 0 | CT34: 0 | CU34: 39 | CV34: 7 | CW34: 0 | CX34: 0 | CY34: 0 | CZ34: 0 | DA34: 0 | DB34: 0 | DC34: 7 | DD34: 1 | DE34: 2 | DF34: 3 | DG34: 1 | DH34: 0 | DI34: 3 | DJ34: 4 | DK34: 4 | DL34: 3 | DM34: 0 | DN34: 0 | DO34: 0 | DP34: 7 | DQ34: 0 | DR34: 0 | DS34: 0 | DT34: 37 | DU34: =COUNTIFS(Dosen!$P$4:$P$469,A34,Dosen!$D$4:$D$469,"DT") -> 7 | DV34: =COUNTIFS(Dosen!$P$4:$P$469,A34,Dosen!$D$4:$D$469,"CDTP") -> 0 | DW34: =COUNTIFS(Dosen!$P$4:$P$469,A34,Dosen!$D$4:$D$469,"CDTSL") -> 0 | DX34: =COUNTIFS(Dosen!$P$4:$P$469,A34,Dosen!$D$4:$D$469,"dosen kopertis") -> 0 | DY34: =COUNTIFS(Dosen!$P$4:$P$469,A34,Dosen!$D$4:$D$469,"DBK") -> 0 | DZ34: =COUNTIFS(Dosen!$P$4:$P$469,A34,Dosen!$D$4:$D$469,"DPK") -> 0 | EA34: =COUNTIFS(Dosen!$P$4:$P$469,A34,Dosen!$D$4:$D$469,"DLBK") -> 0 | EB34: =SUM(DU34:EA34) -> 7 | EC34: =COUNTIFS(Dosen!$P$4:$P$469,A34,Dosen!$E$4:$E$469,"Belum") -> 0 | ED34: =COUNTIFS(Dosen!$P$4:$P$469,$A34,Dosen!$E$4:$E$469,"Asisten Ahli") -> 2 | EE34: =COUNTIFS(Dosen!$P$4:$P$469,$A34,Dosen!$E$4:$E$469,"Lektor") -> 4 | EF34: =COUNTIFS(Dosen!$P$4:$P$469,$A34,Dosen!$E$4:$E$469,"Lektor Kepala") -> 1 | EG34: =COUNTIFS(Dosen!$P$4:$P$469,$A34,Dosen!$E$4:$E$469,"Guru Besar") -> 0 | EH34: =COUNTIFS(Dosen!$P$5:$P$449,A34,Dosen!$I$5:$I$449,"Belum") -> 3 | EI34: =COUNTIFS(Dosen!$P$5:$P$449,A34,Dosen!$I$5:$I$449,"SUDAH") -> 4 | EJ34: =COUNTIFS(Dosen!$P$4:$P$449,A34,Dosen!$H$4:$H$449,"s3") -> 4 | EK34: =COUNTIFS(Dosen!$P$4:$P$449,A34,Dosen!$H$4:$H$449,"s2") -> 3 | EL34: =COUNTIFS(Dosen!$P$4:$P$449,A34,Dosen!$H$4:$H$449,"s1") -> 0 | EM34: =COUNTIFS(Dosen!$P$4:$P$449,A34,Dosen!$H$4:$H$449,"sp.2") -> 0 | EN34: =COUNTIFS(Dosen!$P$4:$P$449,A34,Dosen!$H$4:$H$449,"sp.1") -> 0 | EO34: =COUNTIFS(Dosen!$P$4:$P$449,A34,Dosen!$K$4:$K$449,"NIDN") -> 7 | EP34: =COUNTIFS(Dosen!$P$4:$P$449,A34,Dosen!$K$4:$K$449,"NIDk") -> 0 | EQ34: =COUNTIFS(Dosen!$P$4:$P$449,A34,Dosen!$K$4:$K$449,"belum") -> 0 | ER34: =COUNTIFS(Dosen!$P$4:$P$449,A34,Dosen!$K$4:$K$449,"NUPTK") -> 0 | ES34: 37 | ET34: =COUNTIFS(Dosen!$P$4:$P$469,A34,Dosen!$D$4:$D$469,"DT") -> 7 | EU34: =COUNTIFS(Dosen!$P$4:$P$469,A34,Dosen!$D$4:$D$469,"CDTP") -> 0 | EV34: =COUNTIFS(Dosen!$P$4:$P$469,A34,Dosen!$D$4:$D$469,"CDTSL") -> 0 | EW34: =COUNTIFS(Dosen!$P$4:$P$469,A34,Dosen!$D$4:$D$469,"dosen kopertis") -> 0 | EX34: =COUNTIFS(Dosen!$P$4:$P$469,A34,Dosen!$D$4:$D$469,"DBK") -> 0 | EY34: =COUNTIFS(Dosen!$P$4:$P$469,A34,Dosen!$D$4:$D$469,"DPK") -> 0 | EZ34: =COUNTIFS(Dosen!$P$4:$P$469,A34,Dosen!$D$4:$D$469,"DLBK") -> 0 | FA34: =SUM(ET34:EZ34) -> 7 | FB34: =COUNTIFS(Dosen!$P$4:$P$469,A34,Dosen!$E$4:$E$469,"Belum") -> 0 | FC34: =COUNTIFS(Dosen!$P$4:$P$469,$A34,Dosen!$E$4:$E$469,"Asisten Ahli") -> 2 | FD34: =COUNTIFS(Dosen!$P$4:$P$469,$A34,Dosen!$E$4:$E$469,"Lektor") -> 4 | FE34: =COUNTIFS(Dosen!$P$4:$P$469,$A34,Dosen!$E$4:$E$469,"Lektor Kepala") -> 1 | FF34: =COUNTIFS(Dosen!$P$4:$P$469,$A34,Dosen!$E$4:$E$469,"Guru Besar") -> 0 | FG34: =COUNTIFS(Dosen!$P$5:$P$449,$A34,Dosen!$I$5:$I$449,"Belum") -> 3 | FH34: =COUNTIFS(Dosen!$P$5:$P$449,A34,Dosen!$I$5:$I$449,"SUDAH") -> 4 | FI34: =COUNTIFS(Dosen!$P$4:$P$449,A34,Dosen!$H$4:$H$449,"s3") -> 4 | FJ34: =COUNTIFS(Dosen!$P$4:$P$449,A34,Dosen!$H$4:$H$449,"s2") -> 3 | FK34: =COUNTIFS(Dosen!$P$4:$P$449,A34,Dosen!$H$4:$H$449,"s1") -> 0 | FL34: =COUNTIFS(Dosen!$P$4:$P$449,A34,Dosen!$H$4:$H$449,"sp.2") -> 0 | FM34: =COUNTIFS(Dosen!$P$4:$P$449,A34,Dosen!$H$4:$H$449,"sp.1") -> 0 | FN34: =COUNTIFS(Dosen!$P$4:$P$449,A34,Dosen!$K$4:$K$449,"NIDN") -> 7 | FO34: =COUNTIFS(Dosen!$P$4:$P$449,A34,Dosen!$K$4:$K$449,"NIDk") -> 0 | FP34: =COUNTIFS(Dosen!$P$4:$P$449,A34,Dosen!$K$4:$K$449,"belum") -> 0 | FQ34: =COUNTIFS(Dosen!$P$4:$P$449,A34,Dosen!$K$4:$K$449,"NUPTK") -> 0 | FR34: 37 | FS34: =COUNTIFS(Dosen!$P$4:$P$469,$A34,Dosen!$D$4:$D$469,"DT") -> 7 | FT34: =COUNTIFS(Dosen!$P$4:$P$469,$A34,Dosen!$D$4:$D$469,"CDTP") -> 0 | FU34: =COUNTIFS(Dosen!$P$4:$P$469,$A34,Dosen!$D$4:$D$469,"CDTSL") -> 0 | FV34: =COUNTIFS(Dosen!$P$4:$P$469,$A34,Dosen!$D$4:$D$469,"dosen kopertis") -> 0 | FW34: =COUNTIFS(Dosen!$P$4:$P$469,$A34,Dosen!$D$4:$D$469,"DBK") -> 0 | FX34: =COUNTIFS(Dosen!$P$4:$P$469,$A34,Dosen!$D$4:$D$469,"DPK") -> 0 | FY34: =COUNTIFS(Dosen!$P$4:$P$469,$A34,Dosen!$D$4:$D$469,"DLBK") -> 0 | FZ34: =SUM(FS34:FY34) -> 7 | GA34: =COUNTIFS(Dosen!$P$4:$P$469,$A34,Dosen!$E$4:$E$469,"Belum") -> 0 | GB34: =COUNTIFS(Dosen!$P$4:$P$469,$A34,Dosen!$E$4:$E$469,"Asisten Ahli") -> 2 | GC34: =COUNTIFS(Dosen!$P$4:$P$469,$A34,Dosen!$E$4:$E$469,"Lektor") -> 4 | GD34: =COUNTIFS(Dosen!$P$4:$P$469,$A34,Dosen!$E$4:$E$469,"Lektor Kepala") -> 1 | GE34: =COUNTIFS(Dosen!$P$4:$P$469,$A34,Dosen!$E$4:$E$469,"Guru Besar") -> 0 | GF34: =COUNTIFS(Dosen!$P$5:$P$449,$A34,Dosen!$I$5:$I$449,"Belum") -> 3 | GG34: =COUNTIFS(Dosen!$P$5:$P$449,$A34,Dosen!$I$5:$I$449,"SUDAH") -> 4 | GH34: =COUNTIFS(Dosen!$P$4:$P$449,$A34,Dosen!$H$4:$H$449,"s3") -> 4 | GI34: =COUNTIFS(Dosen!$P$4:$P$449,$A34,Dosen!$H$4:$H$449,"s2") -> 3 | GJ34: =COUNTIFS(Dosen!$P$4:$P$449,$A34,Dosen!$H$4:$H$449,"s1") -> 0 | GK34: =COUNTIFS(Dosen!$P$4:$P$449,$A34,Dosen!$H$4:$H$449,"sp.2") -> 0 | GL34: =COUNTIFS(Dosen!$P$4:$P$449,$A34,Dosen!$H$4:$H$449,"sp.1") -> 0 | GM34: =COUNTIFS(Dosen!$P$4:$P$449,$A34,Dosen!$K$4:$K$449,"NIDN") -> 7 | GN34: =COUNTIFS(Dosen!$P$4:$P$449,$A34,Dosen!$K$4:$K$449,"NIDk") -> 0 | GO34: =COUNTIFS(Dosen!$P$4:$P$449,$A34,Dosen!$K$4:$K$449,"belum") -> 0 | GP34: =COUNTIFS(Dosen!$P$4:$P$449,$A34,Dosen!$K$4:$K$449,"NUPTK") -> 0 | GQ34: 37 | GR34: 7 | GS34: 0 | GT34: 0 | GU34: 0 | GV34: 0 | GW34: 0 | GX34: 0 | GY34: 7 | GZ34: 0 | HA34: 3 | HB34: 3 | HC34: 1 | HD34: 0 | HE34: 3 | HF34: 4 | HG34: 4 | HH34: 3 | HI34: 0 | HJ34: 0 | HK34: 0 | HL34: 7 | HM34: 0 | HN34: 0 | HO34: 0 | HP34: 37 | HQ34: 7 | HR34: 0 | HS34: 0 | HT34: 0 | HU34: 0 | HV34: 0 | HW34: 0 | HX34: 7 | HY34: 0 | HZ34: 2 | IA34: 4 | IB34: 1 | IC34: 0 | ID34: 3 | IE34: 4 | IF34: 4 | IG34: 3 | IH34: 0 | II34: 0 | IJ34: 0 | IK34: 7 | IL34: 0 | IM34: 0 | IN34: 0 | IO34: 37 | IP34: 7 | IQ34: 0 | IR34: 0 | IS34: 0 | IT34: 0 | IU34: 0 | IV34: 0 | IW34: 7 | IX34: 0 | IY34: 2 | IZ34: 4 | JA34: 1 | JB34: 0 | JC34: 3 | JD34: 4 | JE34: 4 | JF34: 3 | JG34: 0 | JH34: 0 | JI34: 0 | JJ34: 7 | JK34: 0 | JL34: 0 | JM34: 0 | JN34: 37 | JO34: 7 | JP34: 0 | JQ34: 0 | JR34: 0 | JS34: 0 | JT34: 0 | JU34: 0 | JV34: 7 | JW34: 0 | JX34: 2 | JY34: 4 | JZ34: 1 | KA34: 0 | KB34: 3 | KC34: 4 | KD34: 4 | KE34: 3 | KF34: 0 | KG34: 0 | KH34: 0 | KI34: 7 | KJ34: 0 | KK34: 0 | KL34: 0 | KM34: 43 | KN34: =COUNTIFS(Dosen!$P$4:$P$469,$A34,Dosen!$D$4:$D$469,"DT") -> 7 | KO34: =COUNTIFS(Dosen!$P$4:$P$469,$A34,Dosen!$D$4:$D$469,"CDTP") -> 0 | KP34: =COUNTIFS(Dosen!$P$4:$P$469,$A34,Dosen!$D$4:$D$469,"CDTSL") -> 0 | KQ34: =COUNTIFS(Dosen!$P$4:$P$469,$A34,Dosen!$D$4:$D$469,"dosen kopertis") -> 0 | KR34: =COUNTIFS(Dosen!$P$4:$P$469,$A34,Dosen!$D$4:$D$469,"DBK") -> 0 | KS34: =COUNTIFS(Dosen!$P$4:$P$469,$A34,Dosen!$D$4:$D$469,"DPK") -> 0 | KT34: =COUNTIFS(Dosen!$P$4:$P$469,$A34,Dosen!$D$4:$D$469,"DLBK") -> 0 | KU34: =SUM(KN34:KT34) -> 7 | KV34: =COUNTIFS(Dosen!$P$4:$P$469,$A34,Dosen!$E$4:$E$469,"Belum") -> 0 | KW34: =COUNTIFS(Dosen!$P$4:$P$469,$A34,Dosen!$E$4:$E$469,"Asisten Ahli") -> 2 | KX34: =COUNTIFS(Dosen!$P$4:$P$469,$A34,Dosen!$E$4:$E$469,"Lektor") -> 4 | KY34: =COUNTIFS(Dosen!$P$4:$P$469,$A34,Dosen!$E$4:$E$469,"Lektor Kepala") -> 1 | KZ34: =COUNTIFS(Dosen!$P$4:$P$469,$A34,Dosen!$E$4:$E$469,"Guru Besar") -> 0 | LA34: =COUNTIFS(Dosen!$P$5:$P$495,$A34,Dosen!$I$5:$I$495,"Belum") -> 3 | LB34: =COUNTIFS(Dosen!$P$5:$P$495,$A34,Dosen!$I$5:$I$495,"SUDAH") -> 4 | LC34: =COUNTIFS(Dosen!$P$4:$P$495,$A34,Dosen!$H$4:$H$495,"s3") -> 4 | LD34: =COUNTIFS(Dosen!$P$4:$P$495,$A34,Dosen!$H$4:$H$495,"s2") -> 3 | LE34: =COUNTIFS(Dosen!$P$4:$P$495,$A34,Dosen!$H$4:$H$495,"s1") -> 0 | LF34: =COUNTIFS(Dosen!$P$4:$P$495,$A34,Dosen!$H$4:$H$495,"sp.2") -> 0 | LG34: =COUNTIFS(Dosen!$P$4:$P$495,$A34,Dosen!$H$4:$H$495,"sp.1") -> 0 | LH34: =COUNTIFS(Dosen!$P$4:$P$495,$A34,Dosen!$K$4:$K$495,"NIDN") -> 7 | LI34: =COUNTIFS(Dosen!$P$4:$P$495,$A34,Dosen!$K$4:$K$495,"NIDk") -> 0 | LJ34: =COUNTIFS(Dosen!$P$4:$P$495,$A34,Dosen!$K$4:$K$495,"belum") -> 0 | LK34: =COUNTIFS(Dosen!$P$4:$P$495,$A34,Dosen!$K$4:$K$495,"NUPTK") -> 0
A35: Program Sarjana Desain Mode Fakultas Humaniora dan Industri Kreatif | GQ35: 37 | GR35: 3 | GS35: 0 | GT35: 0 | GU35: 0 | GV35: 0 | GW35: 2 | GX35: 0 | GY35: 5 | GZ35: 2 | HA35: 0 | HB35: 3 | HC35: 0 | HD35: 0 | HE35: 4 | HF35: 1 | HG35: 0 | HH35: 5 | HI35: 0 | HJ35: 0 | HK35: 0 | HL35: 3 | HM35: 0 | HN35: 2 | HO35: 0 | HP35: 37 | HQ35: 3 | HR35: 0 | HS35: 0 | HT35: 0 | HU35: 0 | HV35: 2 | HW35: 0 | HX35: 5 | HY35: 2 | HZ35: 0 | IA35: 3 | IB35: 0 | IC35: 0 | ID35: 4 | IE35: 1 | IF35: 0 | IG35: 5 | IH35: 0 | II35: 0 | IJ35: 0 | IK35: 3 | IL35: 0 | IM35: 2 | IN35: 0 | IO35: 37 | IP35: 3 | IQ35: 0 | IR35: 0 | IS35: 0 | IT35: 0 | IU35: 2 | IV35: 0 | IW35: 5 | IX35: 2 | IY35: 0 | IZ35: 3 | JA35: 0 | JB35: 0 | JC35: 4 | JD35: 1 | JE35: 0 | JF35: 5 | JG35: 0 | JH35: 0 | JI35: 0 | JJ35: 3 | JK35: 0 | JL35: 2 | JM35: 0 | JN35: 37 | JO35: 3 | JP35: 0 | JQ35: 0 | JR35: 0 | JS35: 0 | JT35: 2 | JU35: 0 | JV35: 5 | JW35: 2 | JX35: 0 | JY35: 3 | JZ35: 0 | KA35: 0 | KB35: 4 | KC35: 1 | KD35: 0 | KE35: 5 | KF35: 0 | KG35: 0 | KH35: 0 | KI35: 3 | KJ35: 0 | KK35: 2 | KL35: 0 | KM35: 16 | KN35: =COUNTIFS(Dosen!$P$4:$P$469,$A35,Dosen!$D$4:$D$469,"DT") -> 3 | KO35: =COUNTIFS(Dosen!$P$4:$P$469,$A35,Dosen!$D$4:$D$469,"CDTP") -> 0 | KP35: =COUNTIFS(Dosen!$P$4:$P$469,$A35,Dosen!$D$4:$D$469,"CDTSL") -> 0 | KQ35: =COUNTIFS(Dosen!$P$4:$P$469,$A35,Dosen!$D$4:$D$469,"dosen kopertis") -> 0 | KR35: =COUNTIFS(Dosen!$P$4:$P$469,$A35,Dosen!$D$4:$D$469,"DBK") -> 0 | KS35: =COUNTIFS(Dosen!$P$4:$P$469,$A35,Dosen!$D$4:$D$469,"DPK") -> 2 | KT35: =COUNTIFS(Dosen!$P$4:$P$469,$A35,Dosen!$D$4:$D$469,"DLBK") -> 0 | KU35: =SUM(KN35:KT35) -> 5 | KV35: =COUNTIFS(Dosen!$P$4:$P$469,$A35,Dosen!$E$4:$E$469,"Belum") -> 2 | KW35: =COUNTIFS(Dosen!$P$4:$P$469,$A35,Dosen!$E$4:$E$469,"Asisten Ahli") -> 0 | KX35: =COUNTIFS(Dosen!$P$4:$P$469,$A35,Dosen!$E$4:$E$469,"Lektor") -> 3 | KY35: =COUNTIFS(Dosen!$P$4:$P$469,$A35,Dosen!$E$4:$E$469,"Lektor Kepala") -> 0 | KZ35: =COUNTIFS(Dosen!$P$4:$P$469,$A35,Dosen!$E$4:$E$469,"Guru Besar") -> 0 | LA35: =COUNTIFS(Dosen!$P$5:$P$495,$A35,Dosen!$I$5:$I$495,"Belum") -> 4 | LB35: =COUNTIFS(Dosen!$P$5:$P$495,$A35,Dosen!$I$5:$I$495,"SUDAH") -> 1 | LC35: =COUNTIFS(Dosen!$P$4:$P$495,$A35,Dosen!$H$4:$H$495,"s3") -> 0 | LD35: =COUNTIFS(Dosen!$P$4:$P$495,$A35,Dosen!$H$4:$H$495,"s2") -> 5 | LE35: =COUNTIFS(Dosen!$P$4:$P$495,$A35,Dosen!$H$4:$H$495,"s1") -> 0 | LF35: =COUNTIFS(Dosen!$P$4:$P$495,$A35,Dosen!$H$4:$H$495,"sp.2") -> 0 | LG35: =COUNTIFS(Dosen!$P$4:$P$495,$A35,Dosen!$H$4:$H$495,"sp.1") -> 0 | LH35: =COUNTIFS(Dosen!$P$4:$P$495,$A35,Dosen!$K$4:$K$495,"NIDN") -> 3 | LI35: =COUNTIFS(Dosen!$P$4:$P$495,$A35,Dosen!$K$4:$K$495,"NIDk") -> 0 | LJ35: =COUNTIFS(Dosen!$P$4:$P$495,$A35,Dosen!$K$4:$K$495,"belum") -> 2 | LK35: =COUNTIFS(Dosen!$P$4:$P$495,$A35,Dosen!$K$4:$K$495,"NUPTK") -> 0
A36: Program Sarjana Teknik Informatika Fakultas Teknologi dan Rekayasa Cerdas | B36: 223 | C36: 16 | D36: 0 | E36: 0 | F36: 0 | G36: 0 | H36: 0 | I36: 0 | J36: 16 | K36: 0 | L36: 2 | M36: 11 | N36: 3 | O36: 0 | P36: 2 | Q36: 14 | R36: 4 | S36: 12 | T36: 0 | U36: 0 | V36: 0 | W36: 15 | X36: 0 | Y36: 1 | Z36: 223 | AA36: 16 | AB36: 0 | AC36: 0 | AD36: 0 | AE36: 0 | AF36: 0 | AG36: 0 | AH36: 16 | AI36: 0 | AJ36: 2 | AK36: 11 | AL36: 3 | AM36: 0 | AN36: 2 | AO36: 14 | AP36: 4 | AQ36: 12 | AR36: 0 | AS36: 0 | AT36: 0 | AU36: 15 | AV36: 0 | AW36: 1 | AX36: 223 | AY36: 16 | AZ36: 0 | BA36: 0 | BB36: 0 | BC36: 0 | BD36: 0 | BE36: 0 | BF36: 16 | BG36: 0 | BH36: 2 | BI36: 11 | BJ36: 3 | BK36: 0 | BL36: 2 | BM36: 14 | BN36: 4 | BO36: 12 | BP36: 0 | BQ36: 0 | BR36: 0 | BS36: 16 | BT36: 0 | BU36: 0 | BV36: 223 | BW36: 16 | BX36: 0 | BY36: 0 | BZ36: 0 | CA36: 0 | CB36: 0 | CC36: 0 | CD36: 16 | CE36: 0 | CF36: 2 | CG36: 11 | CH36: 3 | CI36: 0 | CJ36: 2 | CK36: 14 | CL36: 4 | CM36: 12 | CN36: 0 | CO36: 0 | CP36: 0 | CQ36: 16 | CR36: 0 | CS36: 0 | CT36: 0 | CU36: 223 | CV36: 16 | CW36: 0 | CX36: 0 | CY36: 0 | CZ36: 0 | DA36: 0 | DB36: 0 | DC36: 16 | DD36: 0 | DE36: 2 | DF36: 11 | DG36: 3 | DH36: 0 | DI36: 2 | DJ36: 14 | DK36: 4 | DL36: 12 | DM36: 0 | DN36: 0 | DO36: 0 | DP36: 16 | DQ36: 0 | DR36: 0 | DS36: 0 | DT36: 206 | DU36: =COUNTIFS(Dosen!$P$4:$P$469,A36,Dosen!$D$4:$D$469,"DT") -> 16 | DV36: =COUNTIFS(Dosen!$P$4:$P$469,A36,Dosen!$D$4:$D$469,"CDTP") -> 0 | DW36: =COUNTIFS(Dosen!$P$4:$P$469,A36,Dosen!$D$4:$D$469,"CDTSL") -> 0 | DX36: =COUNTIFS(Dosen!$P$4:$P$469,A36,Dosen!$D$4:$D$469,"dosen kopertis") -> 0 | DY36: =COUNTIFS(Dosen!$P$4:$P$469,A36,Dosen!$D$4:$D$469,"DBK") -> 0 | DZ36: =COUNTIFS(Dosen!$P$4:$P$469,A36,Dosen!$D$4:$D$469,"DPK") -> 0 | EA36: =COUNTIFS(Dosen!$P$4:$P$469,A36,Dosen!$D$4:$D$469,"DLBK") -> 0 | EB36: =SUM(DU36:EA36) -> 16 | EC36: =COUNTIFS(Dosen!$P$4:$P$469,A36,Dosen!$E$4:$E$469,"Belum") -> 0 | ED36: =COUNTIFS(Dosen!$P$4:$P$469,$A36,Dosen!$E$4:$E$469,"Asisten Ahli") -> 2 | EE36: =COUNTIFS(Dosen!$P$4:$P$469,$A36,Dosen!$E$4:$E$469,"Lektor") -> 10 | EF36: =COUNTIFS(Dosen!$P$4:$P$469,$A36,Dosen!$E$4:$E$469,"Lektor Kepala") -> 4 | EG36: =COUNTIFS(Dosen!$P$4:$P$469,$A36,Dosen!$E$4:$E$469,"Guru Besar") -> 0 | EH36: =COUNTIFS(Dosen!$P$5:$P$449,A36,Dosen!$I$5:$I$449,"Belum") -> 2 | EI36: =COUNTIFS(Dosen!$P$5:$P$449,A36,Dosen!$I$5:$I$449,"SUDAH") -> 14 | EJ36: =COUNTIFS(Dosen!$P$4:$P$449,A36,Dosen!$H$4:$H$449,"s3") -> 4 | EK36: =COUNTIFS(Dosen!$P$4:$P$449,A36,Dosen!$H$4:$H$449,"s2") -> 12 | EL36: =COUNTIFS(Dosen!$P$4:$P$449,A36,Dosen!$H$4:$H$449,"s1") -> 0 | EM36: =COUNTIFS(Dosen!$P$4:$P$449,A36,Dosen!$H$4:$H$449,"sp.2") -> 0 | EN36: =COUNTIFS(Dosen!$P$4:$P$449,A36,Dosen!$H$4:$H$449,"sp.1") -> 0 | EO36: =COUNTIFS(Dosen!$P$4:$P$449,A36,Dosen!$K$4:$K$449,"NIDN") -> 16 | EP36: =COUNTIFS(Dosen!$P$4:$P$449,A36,Dosen!$K$4:$K$449,"NIDk") -> 0 | EQ36: =COUNTIFS(Dosen!$P$4:$P$449,A36,Dosen!$K$4:$K$449,"belum") -> 0 | ER36: =COUNTIFS(Dosen!$P$4:$P$449,A36,Dosen!$K$4:$K$449,"NUPTK") -> 0 | ES36: 206 | ET36: =COUNTIFS(Dosen!$P$4:$P$469,A36,Dosen!$D$4:$D$469,"DT") -> 16 | EU36: =COUNTIFS(Dosen!$P$4:$P$469,A36,Dosen!$D$4:$D$469,"CDTP") -> 0 | EV36: =COUNTIFS(Dosen!$P$4:$P$469,A36,Dosen!$D$4:$D$469,"CDTSL") -> 0 | EW36: =COUNTIFS(Dosen!$P$4:$P$469,A36,Dosen!$D$4:$D$469,"dosen kopertis") -> 0 | EX36: =COUNTIFS(Dosen!$P$4:$P$469,A36,Dosen!$D$4:$D$469,"DBK") -> 0 | EY36: =COUNTIFS(Dosen!$P$4:$P$469,A36,Dosen!$D$4:$D$469,"DPK") -> 0 | EZ36: =COUNTIFS(Dosen!$P$4:$P$469,A36,Dosen!$D$4:$D$469,"DLBK") -> 0 | FA36: =SUM(ET36:EZ36) -> 16 | FB36: =COUNTIFS(Dosen!$P$4:$P$469,A36,Dosen!$E$4:$E$469,"Belum") -> 0 | FC36: =COUNTIFS(Dosen!$P$4:$P$469,$A36,Dosen!$E$4:$E$469,"Asisten Ahli") -> 2 | FD36: =COUNTIFS(Dosen!$P$4:$P$469,$A36,Dosen!$E$4:$E$469,"Lektor") -> 10 | FE36: =COUNTIFS(Dosen!$P$4:$P$469,$A36,Dosen!$E$4:$E$469,"Lektor Kepala") -> 4 | FF36: =COUNTIFS(Dosen!$P$4:$P$469,$A36,Dosen!$E$4:$E$469,"Guru Besar") -> 0 | FG36: =COUNTIFS(Dosen!$P$5:$P$449,$A36,Dosen!$I$5:$I$449,"Belum") -> 2 | FH36: =COUNTIFS(Dosen!$P$5:$P$449,A36,Dosen!$I$5:$I$449,"SUDAH") -> 14 | FI36: =COUNTIFS(Dosen!$P$4:$P$449,A36,Dosen!$H$4:$H$449,"s3") -> 4 | FJ36: =COUNTIFS(Dosen!$P$4:$P$449,A36,Dosen!$H$4:$H$449,"s2") -> 12 | FK36: =COUNTIFS(Dosen!$P$4:$P$449,A36,Dosen!$H$4:$H$449,"s1") -> 0 | FL36: =COUNTIFS(Dosen!$P$4:$P$449,A36,Dosen!$H$4:$H$449,"sp.2") -> 0 | FM36: =COUNTIFS(Dosen!$P$4:$P$449,A36,Dosen!$H$4:$H$449,"sp.1") -> 0 | FN36: =COUNTIFS(Dosen!$P$4:$P$449,A36,Dosen!$K$4:$K$449,"NIDN") -> 16 | FO36: =COUNTIFS(Dosen!$P$4:$P$449,A36,Dosen!$K$4:$K$449,"NIDk") -> 0 | FP36: =COUNTIFS(Dosen!$P$4:$P$449,A36,Dosen!$K$4:$K$449,"belum") -> 0 | FQ36: =COUNTIFS(Dosen!$P$4:$P$449,A36,Dosen!$K$4:$K$449,"NUPTK") -> 0 | FR36: 206 | FS36: =COUNTIFS(Dosen!$P$4:$P$469,$A36,Dosen!$D$4:$D$469,"DT") -> 16 | FT36: =COUNTIFS(Dosen!$P$4:$P$469,$A36,Dosen!$D$4:$D$469,"CDTP") -> 0 | FU36: =COUNTIFS(Dosen!$P$4:$P$469,$A36,Dosen!$D$4:$D$469,"CDTSL") -> 0 | FV36: =COUNTIFS(Dosen!$P$4:$P$469,$A36,Dosen!$D$4:$D$469,"dosen kopertis") -> 0 | FW36: =COUNTIFS(Dosen!$P$4:$P$469,$A36,Dosen!$D$4:$D$469,"DBK") -> 0 | FX36: =COUNTIFS(Dosen!$P$4:$P$469,$A36,Dosen!$D$4:$D$469,"DPK") -> 0 | FY36: =COUNTIFS(Dosen!$P$4:$P$469,$A36,Dosen!$D$4:$D$469,"DLBK") -> 0 | FZ36: =SUM(FS36:FY36) -> 16 | GA36: =COUNTIFS(Dosen!$P$4:$P$469,$A36,Dosen!$E$4:$E$469,"Belum") -> 0 | GB36: =COUNTIFS(Dosen!$P$4:$P$469,$A36,Dosen!$E$4:$E$469,"Asisten Ahli") -> 2 | GC36: =COUNTIFS(Dosen!$P$4:$P$469,$A36,Dosen!$E$4:$E$469,"Lektor") -> 10 | GD36: =COUNTIFS(Dosen!$P$4:$P$469,$A36,Dosen!$E$4:$E$469,"Lektor Kepala") -> 4 | GE36: =COUNTIFS(Dosen!$P$4:$P$469,$A36,Dosen!$E$4:$E$469,"Guru Besar") -> 0 | GF36: =COUNTIFS(Dosen!$P$5:$P$449,$A36,Dosen!$I$5:$I$449,"Belum") -> 2 | GG36: =COUNTIFS(Dosen!$P$5:$P$449,$A36,Dosen!$I$5:$I$449,"SUDAH") -> 14 | GH36: =COUNTIFS(Dosen!$P$4:$P$449,$A36,Dosen!$H$4:$H$449,"s3") -> 4 | GI36: =COUNTIFS(Dosen!$P$4:$P$449,$A36,Dosen!$H$4:$H$449,"s2") -> 12 | GJ36: =COUNTIFS(Dosen!$P$4:$P$449,$A36,Dosen!$H$4:$H$449,"s1") -> 0 | GK36: =COUNTIFS(Dosen!$P$4:$P$449,$A36,Dosen!$H$4:$H$449,"sp.2") -> 0 | GL36: =COUNTIFS(Dosen!$P$4:$P$449,$A36,Dosen!$H$4:$H$449,"sp.1") -> 0 | GM36: =COUNTIFS(Dosen!$P$4:$P$449,$A36,Dosen!$K$4:$K$449,"NIDN") -> 16 | GN36: =COUNTIFS(Dosen!$P$4:$P$449,$A36,Dosen!$K$4:$K$449,"NIDk") -> 0 | GO36: =COUNTIFS(Dosen!$P$4:$P$449,$A36,Dosen!$K$4:$K$449,"belum") -> 0 | GP36: =COUNTIFS(Dosen!$P$4:$P$449,$A36,Dosen!$K$4:$K$449,"NUPTK") -> 0 | GQ36: 206 | GR36: 16 | GS36: 0 | GT36: 0 | GU36: 0 | GV36: 0 | GW36: 0 | GX36: 0 | GY36: 16 | GZ36: 0 | HA36: 2 | HB36: 11 | HC36: 3 | HD36: 0 | HE36: 2 | HF36: 14 | HG36: 4 | HH36: 12 | HI36: 0 | HJ36: 0 | HK36: 0 | HL36: 16 | HM36: 0 | HN36: 0 | HO36: 0 | HP36: 206 | HQ36: 16 | HR36: 0 | HS36: 0 | HT36: 0 | HU36: 0 | HV36: 0 | HW36: 0 | HX36: 16 | HY36: 0 | HZ36: 2 | IA36: 11 | IB36: 3 | IC36: 0 | ID36: 2 | IE36: 14 | IF36: 4 | IG36: 12 | IH36: 0 | II36: 0 | IJ36: 0 | IK36: 16 | IL36: 0 | IM36: 0 | IN36: 0 | IO36: 206 | IP36: 16 | IQ36: 0 | IR36: 0 | IS36: 0 | IT36: 0 | IU36: 0 | IV36: 0 | IW36: 16 | IX36: 0 | IY36: 2 | IZ36: 11 | JA36: 3 | JB36: 0 | JC36: 2 | JD36: 14 | JE36: 4 | JF36: 12 | JG36: 0 | JH36: 0 | JI36: 0 | JJ36: 16 | JK36: 0 | JL36: 0 | JM36: 0 | JN36: 206 | JO36: 16 | JP36: 0 | JQ36: 0 | JR36: 0 | JS36: 0 | JT36: 0 | JU36: 0 | JV36: 16 | JW36: 0 | JX36: 2 | JY36: 11 | JZ36: 3 | KA36: 0 | KB36: 2 | KC36: 14 | KD36: 4 | KE36: 12 | KF36: 0 | KG36: 0 | KH36: 0 | KI36: 16 | KJ36: 0 | KK36: 0 | KL36: 0 | KM36: 235 | KN36: =COUNTIFS(Dosen!$P$4:$P$469,$A36,Dosen!$D$4:$D$469,"DT") -> 16 | KO36: =COUNTIFS(Dosen!$P$4:$P$469,$A36,Dosen!$D$4:$D$469,"CDTP") -> 0 | KP36: =COUNTIFS(Dosen!$P$4:$P$469,$A36,Dosen!$D$4:$D$469,"CDTSL") -> 0 | KQ36: =COUNTIFS(Dosen!$P$4:$P$469,$A36,Dosen!$D$4:$D$469,"dosen kopertis") -> 0 | KR36: =COUNTIFS(Dosen!$P$4:$P$469,$A36,Dosen!$D$4:$D$469,"DBK") -> 0 | KS36: =COUNTIFS(Dosen!$P$4:$P$469,$A36,Dosen!$D$4:$D$469,"DPK") -> 0 | KT36: =COUNTIFS(Dosen!$P$4:$P$469,$A36,Dosen!$D$4:$D$469,"DLBK") -> 0 | KU36: =SUM(KN36:KT36) -> 16 | KV36: =COUNTIFS(Dosen!$P$4:$P$469,$A36,Dosen!$E$4:$E$469,"Belum") -> 0 | KW36: =COUNTIFS(Dosen!$P$4:$P$469,$A36,Dosen!$E$4:$E$469,"Asisten Ahli") -> 2 | KX36: =COUNTIFS(Dosen!$P$4:$P$469,$A36,Dosen!$E$4:$E$469,"Lektor") -> 10 | KY36: =COUNTIFS(Dosen!$P$4:$P$469,$A36,Dosen!$E$4:$E$469,"Lektor Kepala") -> 4 | KZ36: =COUNTIFS(Dosen!$P$4:$P$469,$A36,Dosen!$E$4:$E$469,"Guru Besar") -> 0 | LA36: =COUNTIFS(Dosen!$P$5:$P$495,$A36,Dosen!$I$5:$I$495,"Belum") -> 2 | LB36: =COUNTIFS(Dosen!$P$5:$P$495,$A36,Dosen!$I$5:$I$495,"SUDAH") -> 14 | LC36: =COUNTIFS(Dosen!$P$4:$P$495,$A36,Dosen!$H$4:$H$495,"s3") -> 4 | LD36: =COUNTIFS(Dosen!$P$4:$P$495,$A36,Dosen!$H$4:$H$495,"s2") -> 12 | LE36: =COUNTIFS(Dosen!$P$4:$P$495,$A36,Dosen!$H$4:$H$495,"s1") -> 0 | LF36: =COUNTIFS(Dosen!$P$4:$P$495,$A36,Dosen!$H$4:$H$495,"sp.2") -> 0 | LG36: =COUNTIFS(Dosen!$P$4:$P$495,$A36,Dosen!$H$4:$H$495,"sp.1") -> 0 | LH36: =COUNTIFS(Dosen!$P$4:$P$495,$A36,Dosen!$K$4:$K$495,"NIDN") -> 16 | LI36: =COUNTIFS(Dosen!$P$4:$P$495,$A36,Dosen!$K$4:$K$495,"NIDk") -> 0 | LJ36: =COUNTIFS(Dosen!$P$4:$P$495,$A36,Dosen!$K$4:$K$495,"belum") -> 0 | LK36: =COUNTIFS(Dosen!$P$4:$P$495,$A36,Dosen!$K$4:$K$495,"NUPTK") -> 0
A37: Program Sarjana Sistem Informasi Fakultas Teknologi dan Rekayasa Cerdas | B37: 132 | C37: 6 | D37: 0 | E37: 0 | F37: 0 | G37: 0 | H37: 1 | I37: 0 | J37: 7 | K37: 0 | L37: 0 | M37: 6 | N37: 1 | O37: 0 | P37: 1 | Q37: 6 | R37: 2 | S37: 5 | T37: 0 | U37: 0 | V37: 0 | W37: 6 | X37: 0 | Y37: 1 | Z37: 132 | AA37: 6 | AB37: 0 | AC37: 0 | AD37: 0 | AE37: 0 | AF37: 1 | AG37: 0 | AH37: 7 | AI37: 0 | AJ37: 0 | AK37: 6 | AL37: 1 | AM37: 0 | AN37: 1 | AO37: 6 | AP37: 2 | AQ37: 5 | AR37: 0 | AS37: 0 | AT37: 0 | AU37: 6 | AV37: 0 | AW37: 1 | AX37: 132 | AY37: 6 | AZ37: 0 | BA37: 0 | BB37: 0 | BC37: 0 | BD37: 1 | BE37: 0 | BF37: 7 | BG37: 1 | BH37: 0 | BI37: 5 | BJ37: 1 | BK37: 0 | BL37: 1 | BM37: 6 | BN37: 2 | BO37: 5 | BP37: 0 | BQ37: 0 | BR37: 0 | BS37: 7 | BT37: 0 | BU37: 0 | BV37: 132 | BW37: 6 | BX37: 0 | BY37: 0 | BZ37: 0 | CA37: 0 | CB37: 1 | CC37: 0 | CD37: 7 | CE37: 1 | CF37: 0 | CG37: 5 | CH37: 1 | CI37: 0 | CJ37: 1 | CK37: 6 | CL37: 2 | CM37: 5 | CN37: 0 | CO37: 0 | CP37: 0 | CQ37: 7 | CR37: 0 | CS37: 0 | CT37: 0 | CU37: 132 | CV37: 6 | CW37: 0 | CX37: 0 | CY37: 0 | CZ37: 0 | DA37: 1 | DB37: 0 | DC37: 7 | DD37: 1 | DE37: 0 | DF37: 5 | DG37: 1 | DH37: 0 | DI37: 1 | DJ37: 6 | DK37: 2 | DL37: 5 | DM37: 0 | DN37: 0 | DO37: 0 | DP37: 7 | DQ37: 0 | DR37: 0 | DS37: 0 | DT37: 113 | DU37: =COUNTIFS(Dosen!$P$4:$P$469,A37,Dosen!$D$4:$D$469,"DT") -> 5 | DV37: =COUNTIFS(Dosen!$P$4:$P$469,A37,Dosen!$D$4:$D$469,"CDTP") -> 0 | DW37: =COUNTIFS(Dosen!$P$4:$P$469,A37,Dosen!$D$4:$D$469,"CDTSL") -> 0 | DX37: =COUNTIFS(Dosen!$P$4:$P$469,A37,Dosen!$D$4:$D$469,"dosen kopertis") -> 0 | DY37: =COUNTIFS(Dosen!$P$4:$P$469,A37,Dosen!$D$4:$D$469,"DBK") -> 0 | DZ37: =COUNTIFS(Dosen!$P$4:$P$469,A37,Dosen!$D$4:$D$469,"DPK") -> 1 | EA37: =COUNTIFS(Dosen!$P$4:$P$469,A37,Dosen!$D$4:$D$469,"DLBK") -> 0 | EB37: =SUM(DU37:EA37) -> 6 | EC37: =COUNTIFS(Dosen!$P$4:$P$469,A37,Dosen!$E$4:$E$469,"Belum") -> 0 | ED37: =COUNTIFS(Dosen!$P$4:$P$469,$A37,Dosen!$E$4:$E$469,"Asisten Ahli") -> 0 | EE37: =COUNTIFS(Dosen!$P$4:$P$469,$A37,Dosen!$E$4:$E$469,"Lektor") -> 5 | EF37: =COUNTIFS(Dosen!$P$4:$P$469,$A37,Dosen!$E$4:$E$469,"Lektor Kepala") -> 1 | EG37: =COUNTIFS(Dosen!$P$4:$P$469,$A37,Dosen!$E$4:$E$469,"Guru Besar") -> 0 | EH37: =COUNTIFS(Dosen!$P$5:$P$449,A37,Dosen!$I$5:$I$449,"Belum") -> 0 | EI37: =COUNTIFS(Dosen!$P$5:$P$449,A37,Dosen!$I$5:$I$449,"SUDAH") -> 3 | EJ37: =COUNTIFS(Dosen!$P$4:$P$449,A37,Dosen!$H$4:$H$449,"s3") -> 1 | EK37: =COUNTIFS(Dosen!$P$4:$P$449,A37,Dosen!$H$4:$H$449,"s2") -> 2 | EL37: =COUNTIFS(Dosen!$P$4:$P$449,A37,Dosen!$H$4:$H$449,"s1") -> 0 | EM37: =COUNTIFS(Dosen!$P$4:$P$449,A37,Dosen!$H$4:$H$449,"sp.2") -> 0 | EN37: =COUNTIFS(Dosen!$P$4:$P$449,A37,Dosen!$H$4:$H$449,"sp.1") -> 0 | EO37: =COUNTIFS(Dosen!$P$4:$P$449,A37,Dosen!$K$4:$K$449,"NIDN") -> 3 | EP37: =COUNTIFS(Dosen!$P$4:$P$449,A37,Dosen!$K$4:$K$449,"NIDk") -> 0 | EQ37: =COUNTIFS(Dosen!$P$4:$P$449,A37,Dosen!$K$4:$K$449,"belum") -> 0 | ER37: =COUNTIFS(Dosen!$P$4:$P$449,A37,Dosen!$K$4:$K$449,"NUPTK") -> 0 | ES37: 113 | ET37: =COUNTIFS(Dosen!$P$4:$P$469,A37,Dosen!$D$4:$D$469,"DT") -> 5 | EU37: =COUNTIFS(Dosen!$P$4:$P$469,A37,Dosen!$D$4:$D$469,"CDTP") -> 0 | EV37: =COUNTIFS(Dosen!$P$4:$P$469,A37,Dosen!$D$4:$D$469,"CDTSL") -> 0 | EW37: =COUNTIFS(Dosen!$P$4:$P$469,A37,Dosen!$D$4:$D$469,"dosen kopertis") -> 0 | EX37: =COUNTIFS(Dosen!$P$4:$P$469,A37,Dosen!$D$4:$D$469,"DBK") -> 0 | EY37: =COUNTIFS(Dosen!$P$4:$P$469,A37,Dosen!$D$4:$D$469,"DPK") -> 1 | EZ37: =COUNTIFS(Dosen!$P$4:$P$469,A37,Dosen!$D$4:$D$469,"DLBK") -> 0 | FA37: =SUM(ET37:EZ37) -> 6 | FB37: =COUNTIFS(Dosen!$P$4:$P$469,A37,Dosen!$E$4:$E$469,"Belum") -> 0 | FC37: =COUNTIFS(Dosen!$P$4:$P$469,$A37,Dosen!$E$4:$E$469,"Asisten Ahli") -> 0 | FD37: =COUNTIFS(Dosen!$P$4:$P$469,$A37,Dosen!$E$4:$E$469,"Lektor") -> 5 | FE37: =COUNTIFS(Dosen!$P$4:$P$469,$A37,Dosen!$E$4:$E$469,"Lektor Kepala") -> 1 | FF37: =COUNTIFS(Dosen!$P$4:$P$469,$A37,Dosen!$E$4:$E$469,"Guru Besar") -> 0 | FG37: =COUNTIFS(Dosen!$P$5:$P$449,$A37,Dosen!$I$5:$I$449,"Belum") -> 0 | FH37: =COUNTIFS(Dosen!$P$5:$P$449,A37,Dosen!$I$5:$I$449,"SUDAH") -> 3 | FI37: =COUNTIFS(Dosen!$P$4:$P$449,A37,Dosen!$H$4:$H$449,"s3") -> 1 | FJ37: =COUNTIFS(Dosen!$P$4:$P$449,A37,Dosen!$H$4:$H$449,"s2") -> 2 | FK37: =COUNTIFS(Dosen!$P$4:$P$449,A37,Dosen!$H$4:$H$449,"s1") -> 0 | FL37: =COUNTIFS(Dosen!$P$4:$P$449,A37,Dosen!$H$4:$H$449,"sp.2") -> 0 | FM37: =COUNTIFS(Dosen!$P$4:$P$449,A37,Dosen!$H$4:$H$449,"sp.1") -> 0 | FN37: =COUNTIFS(Dosen!$P$4:$P$449,A37,Dosen!$K$4:$K$449,"NIDN") -> 3 | FO37: =COUNTIFS(Dosen!$P$4:$P$449,A37,Dosen!$K$4:$K$449,"NIDk") -> 0 | FP37: =COUNTIFS(Dosen!$P$4:$P$449,A37,Dosen!$K$4:$K$449,"belum") -> 0 | FQ37: =COUNTIFS(Dosen!$P$4:$P$449,A37,Dosen!$K$4:$K$449,"NUPTK") -> 0 | FR37: 113 | FS37: =COUNTIFS(Dosen!$P$4:$P$469,$A37,Dosen!$D$4:$D$469,"DT") -> 5 | FT37: =COUNTIFS(Dosen!$P$4:$P$469,$A37,Dosen!$D$4:$D$469,"CDTP") -> 0 | FU37: =COUNTIFS(Dosen!$P$4:$P$469,$A37,Dosen!$D$4:$D$469,"CDTSL") -> 0 | FV37: =COUNTIFS(Dosen!$P$4:$P$469,$A37,Dosen!$D$4:$D$469,"dosen kopertis") -> 0 | FW37: =COUNTIFS(Dosen!$P$4:$P$469,$A37,Dosen!$D$4:$D$469,"DBK") -> 0 | FX37: =COUNTIFS(Dosen!$P$4:$P$469,$A37,Dosen!$D$4:$D$469,"DPK") -> 1 | FY37: =COUNTIFS(Dosen!$P$4:$P$469,$A37,Dosen!$D$4:$D$469,"DLBK") -> 0 | FZ37: =SUM(FS37:FY37) -> 6 | GA37: =COUNTIFS(Dosen!$P$4:$P$469,$A37,Dosen!$E$4:$E$469,"Belum") -> 0 | GB37: =COUNTIFS(Dosen!$P$4:$P$469,$A37,Dosen!$E$4:$E$469,"Asisten Ahli") -> 0 | GC37: =COUNTIFS(Dosen!$P$4:$P$469,$A37,Dosen!$E$4:$E$469,"Lektor") -> 5 | GD37: =COUNTIFS(Dosen!$P$4:$P$469,$A37,Dosen!$E$4:$E$469,"Lektor Kepala") -> 1 | GE37: =COUNTIFS(Dosen!$P$4:$P$469,$A37,Dosen!$E$4:$E$469,"Guru Besar") -> 0 | GF37: =COUNTIFS(Dosen!$P$5:$P$449,$A37,Dosen!$I$5:$I$449,"Belum") -> 0 | GG37: =COUNTIFS(Dosen!$P$5:$P$449,$A37,Dosen!$I$5:$I$449,"SUDAH") -> 3 | GH37: =COUNTIFS(Dosen!$P$4:$P$449,$A37,Dosen!$H$4:$H$449,"s3") -> 1 | GI37: =COUNTIFS(Dosen!$P$4:$P$449,$A37,Dosen!$H$4:$H$449,"s2") -> 2 | GJ37: =COUNTIFS(Dosen!$P$4:$P$449,$A37,Dosen!$H$4:$H$449,"s1") -> 0 | GK37: =COUNTIFS(Dosen!$P$4:$P$449,$A37,Dosen!$H$4:$H$449,"sp.2") -> 0 | GL37: =COUNTIFS(Dosen!$P$4:$P$449,$A37,Dosen!$H$4:$H$449,"sp.1") -> 0 | GM37: =COUNTIFS(Dosen!$P$4:$P$449,$A37,Dosen!$K$4:$K$449,"NIDN") -> 3 | GN37: =COUNTIFS(Dosen!$P$4:$P$449,$A37,Dosen!$K$4:$K$449,"NIDk") -> 0 | GO37: =COUNTIFS(Dosen!$P$4:$P$449,$A37,Dosen!$K$4:$K$449,"belum") -> 0 | GP37: =COUNTIFS(Dosen!$P$4:$P$449,$A37,Dosen!$K$4:$K$449,"NUPTK") -> 0 | GQ37: 113 | GR37: 5 | GS37: 0 | GT37: 0 | GU37: 0 | GV37: 0 | GW37: 1 | GX37: 0 | GY37: 6 | GZ37: 0 | HA37: 0 | HB37: 5 | HC37: 1 | HD37: 0 | HE37: 1 | HF37: 5 | HG37: 2 | HH37: 4 | HI37: 0 | HJ37: 0 | HK37: 0 | HL37: 6 | HM37: 0 | HN37: 0 | HO37: 0 | HP37: 113 | HQ37: 5 | HR37: 0 | HS37: 0 | HT37: 0 | HU37: 0 | HV37: 1 | HW37: 0 | HX37: 6 | HY37: 0 | HZ37: 0 | IA37: 5 | IB37: 1 | IC37: 0 | ID37: 1 | IE37: 5 | IF37: 2 | IG37: 4 | IH37: 0 | II37: 0 | IJ37: 0 | IK37: 6 | IL37: 0 | IM37: 0 | IN37: 0 | IO37: 113 | IP37: 5 | IQ37: 0 | IR37: 0 | IS37: 0 | IT37: 0 | IU37: 1 | IV37: 0 | IW37: 6 | IX37: 0 | IY37: 0 | IZ37: 5 | JA37: 1 | JB37: 0 | JC37: 1 | JD37: 5 | JE37: 2 | JF37: 4 | JG37: 0 | JH37: 0 | JI37: 0 | JJ37: 6 | JK37: 0 | JL37: 0 | JM37: 0 | JN37: 113 | JO37: 5 | JP37: 0 | JQ37: 0 | JR37: 0 | JS37: 0 | JT37: 1 | JU37: 0 | JV37: 6 | JW37: 0 | JX37: 0 | JY37: 5 | JZ37: 1 | KA37: 0 | KB37: 0 | KC37: 6 | KD37: 2 | KE37: 4 | KF37: 0 | KG37: 0 | KH37: 0 | KI37: 6 | KJ37: 0 | KK37: 0 | KL37: 0 | KM37: 149 | KN37: =COUNTIFS(Dosen!$P$4:$P$469,$A37,Dosen!$D$4:$D$469,"DT") -> 5 | KO37: =COUNTIFS(Dosen!$P$4:$P$469,$A37,Dosen!$D$4:$D$469,"CDTP") -> 0 | KP37: =COUNTIFS(Dosen!$P$4:$P$469,$A37,Dosen!$D$4:$D$469,"CDTSL") -> 0 | KQ37: =COUNTIFS(Dosen!$P$4:$P$469,$A37,Dosen!$D$4:$D$469,"dosen kopertis") -> 0 | KR37: =COUNTIFS(Dosen!$P$4:$P$469,$A37,Dosen!$D$4:$D$469,"DBK") -> 0 | KS37: =COUNTIFS(Dosen!$P$4:$P$469,$A37,Dosen!$D$4:$D$469,"DPK") -> 1 | KT37: =COUNTIFS(Dosen!$P$4:$P$469,$A37,Dosen!$D$4:$D$469,"DLBK") -> 0 | KU37: =SUM(KN37:KT37) -> 6 | KV37: =COUNTIFS(Dosen!$P$4:$P$469,$A37,Dosen!$E$4:$E$469,"Belum") -> 0 | KW37: =COUNTIFS(Dosen!$P$4:$P$469,$A37,Dosen!$E$4:$E$469,"Asisten Ahli") -> 0 | KX37: =COUNTIFS(Dosen!$P$4:$P$469,$A37,Dosen!$E$4:$E$469,"Lektor") -> 5 | KY37: =COUNTIFS(Dosen!$P$4:$P$469,$A37,Dosen!$E$4:$E$469,"Lektor Kepala") -> 1 | KZ37: =COUNTIFS(Dosen!$P$4:$P$469,$A37,Dosen!$E$4:$E$469,"Guru Besar") -> 0 | LA37: =COUNTIFS(Dosen!$P$5:$P$495,$A37,Dosen!$I$5:$I$495,"Belum") -> 0 | LB37: =COUNTIFS(Dosen!$P$5:$P$495,$A37,Dosen!$I$5:$I$495,"SUDAH") -> 6 | LC37: =COUNTIFS(Dosen!$P$4:$P$495,$A37,Dosen!$H$4:$H$495,"s3") -> 2 | LD37: =COUNTIFS(Dosen!$P$4:$P$495,$A37,Dosen!$H$4:$H$495,"s2") -> 4 | LE37: =COUNTIFS(Dosen!$P$4:$P$495,$A37,Dosen!$H$4:$H$495,"s1") -> 0 | LF37: =COUNTIFS(Dosen!$P$4:$P$495,$A37,Dosen!$H$4:$H$495,"sp.2") -> 0 | LG37: =COUNTIFS(Dosen!$P$4:$P$495,$A37,Dosen!$H$4:$H$495,"sp.1") -> 0 | LH37: =COUNTIFS(Dosen!$P$4:$P$495,$A37,Dosen!$K$4:$K$495,"NIDN") -> 5 | LI37: =COUNTIFS(Dosen!$P$4:$P$495,$A37,Dosen!$K$4:$K$495,"NIDk") -> 1 | LJ37: =COUNTIFS(Dosen!$P$4:$P$495,$A37,Dosen!$K$4:$K$495,"belum") -> 0 | LK37: =COUNTIFS(Dosen!$P$4:$P$495,$A37,Dosen!$K$4:$K$495,"NUPTK") -> 0
A38: Program Magister Ilmu Komputer Fakultas Teknologi dan Rekayasa Cerdas | B38: 18 | C38: 6 | D38: 0 | E38: 0 | F38: 0 | G38: 0 | H38: 0 | I38: 0 | J38: 6 | K38: 0 | L38: 1 | M38: 3 | N38: 0 | O38: 2 | P38: 1 | Q38: 5 | R38: 6 | S38: 0 | T38: 0 | U38: 0 | V38: 0 | W38: 6 | X38: 0 | Y38: 0 | Z38: 18 | AA38: 6 | AB38: 0 | AC38: 0 | AD38: 0 | AE38: 0 | AF38: 0 | AG38: 0 | AH38: 6 | AI38: 0 | AJ38: 1 | AK38: 3 | AL38: 0 | AM38: 2 | AN38: 1 | AO38: 5 | AP38: 6 | AQ38: 0 | AR38: 0 | AS38: 0 | AT38: 0 | AU38: 6 | AV38: 0 | AW38: 0 | AX38: 18 | AY38: 6 | AZ38: 0 | BA38: 0 | BB38: 0 | BC38: 0 | BD38: 0 | BE38: 0 | BF38: 6 | BG38: 0 | BH38: 1 | BI38: 3 | BJ38: 0 | BK38: 2 | BL38: 1 | BM38: 5 | BN38: 6 | BO38: 0 | BP38: 0 | BQ38: 0 | BR38: 0 | BS38: 6 | BT38: 0 | BU38: 0 | BV38: 18 | BW38: 6 | BX38: 0 | BY38: 0 | BZ38: 0 | CA38: 0 | CB38: 0 | CC38: 0 | CD38: 6 | CE38: 0 | CF38: 1 | CG38: 3 | CH38: 0 | CI38: 2 | CJ38: 1 | CK38: 5 | CL38: 6 | CM38: 0 | CN38: 0 | CO38: 0 | CP38: 0 | CQ38: 6 | CR38: 0 | CS38: 0 | CT38: 0 | CU38: 18 | CV38: 6 | CW38: 0 | CX38: 0 | CY38: 0 | CZ38: 0 | DA38: 0 | DB38: 0 | DC38: 6 | DD38: 0 | DE38: 1 | DF38: 3 | DG38: 0 | DH38: 2 | DI38: 0 | DJ38: 6 | DK38: 6 | DL38: 0 | DM38: 0 | DN38: 0 | DO38: 0 | DP38: 6 | DQ38: 0 | DR38: 0 | DS38: 0 | DT38: 13 | DU38: =COUNTIFS(Dosen!$P$4:$P$469,A38,Dosen!$D$4:$D$469,"DT") -> 6 | DV38: =COUNTIFS(Dosen!$P$4:$P$469,A38,Dosen!$D$4:$D$469,"CDTP") -> 0 | DW38: =COUNTIFS(Dosen!$P$4:$P$469,A38,Dosen!$D$4:$D$469,"CDTSL") -> 0 | DX38: =COUNTIFS(Dosen!$P$4:$P$469,A38,Dosen!$D$4:$D$469,"dosen kopertis") -> 0 | DY38: =COUNTIFS(Dosen!$P$4:$P$469,A38,Dosen!$D$4:$D$469,"DBK") -> 0 | DZ38: =COUNTIFS(Dosen!$P$4:$P$469,A38,Dosen!$D$4:$D$469,"DPK") -> 0 | EA38: =COUNTIFS(Dosen!$P$4:$P$469,A38,Dosen!$D$4:$D$469,"DLBK") -> 0 | EB38: =SUM(DU38:EA38) -> 6 | EC38: =COUNTIFS(Dosen!$P$4:$P$469,A38,Dosen!$E$4:$E$469,"Belum") -> 0 | ED38: =COUNTIFS(Dosen!$P$4:$P$469,$A38,Dosen!$E$4:$E$469,"Asisten Ahli") -> 1 | EE38: =COUNTIFS(Dosen!$P$4:$P$469,$A38,Dosen!$E$4:$E$469,"Lektor") -> 3 | EF38: =COUNTIFS(Dosen!$P$4:$P$469,$A38,Dosen!$E$4:$E$469,"Lektor Kepala") -> 0 | EG38: =COUNTIFS(Dosen!$P$4:$P$469,$A38,Dosen!$E$4:$E$469,"Guru Besar") -> 2 | EH38: =COUNTIFS(Dosen!$P$5:$P$449,A38,Dosen!$I$5:$I$449,"Belum") -> 0 | EI38: =COUNTIFS(Dosen!$P$5:$P$449,A38,Dosen!$I$5:$I$449,"SUDAH") -> 6 | EJ38: =COUNTIFS(Dosen!$P$4:$P$449,A38,Dosen!$H$4:$H$449,"s3") -> 6 | EK38: =COUNTIFS(Dosen!$P$4:$P$449,A38,Dosen!$H$4:$H$449,"s2") -> 0 | EL38: =COUNTIFS(Dosen!$P$4:$P$449,A38,Dosen!$H$4:$H$449,"s1") -> 0 | EM38: =COUNTIFS(Dosen!$P$4:$P$449,A38,Dosen!$H$4:$H$449,"sp.2") -> 0 | EN38: =COUNTIFS(Dosen!$P$4:$P$449,A38,Dosen!$H$4:$H$449,"sp.1") -> 0 | EO38: =COUNTIFS(Dosen!$P$4:$P$449,A38,Dosen!$K$4:$K$449,"NIDN") -> 6 | EP38: =COUNTIFS(Dosen!$P$4:$P$449,A38,Dosen!$K$4:$K$449,"NIDk") -> 0 | EQ38: =COUNTIFS(Dosen!$P$4:$P$449,A38,Dosen!$K$4:$K$449,"belum") -> 0 | ER38: =COUNTIFS(Dosen!$P$4:$P$449,A38,Dosen!$K$4:$K$449,"NUPTK") -> 0 | ES38: 13 | ET38: =COUNTIFS(Dosen!$P$4:$P$469,A38,Dosen!$D$4:$D$469,"DT") -> 6 | EU38: =COUNTIFS(Dosen!$P$4:$P$469,A38,Dosen!$D$4:$D$469,"CDTP") -> 0 | EV38: =COUNTIFS(Dosen!$P$4:$P$469,A38,Dosen!$D$4:$D$469,"CDTSL") -> 0 | EW38: =COUNTIFS(Dosen!$P$4:$P$469,A38,Dosen!$D$4:$D$469,"dosen kopertis") -> 0 | EX38: =COUNTIFS(Dosen!$P$4:$P$469,A38,Dosen!$D$4:$D$469,"DBK") -> 0 | EY38: =COUNTIFS(Dosen!$P$4:$P$469,A38,Dosen!$D$4:$D$469,"DPK") -> 0 | EZ38: =COUNTIFS(Dosen!$P$4:$P$469,A38,Dosen!$D$4:$D$469,"DLBK") -> 0 | FA38: =SUM(ET38:EZ38) -> 6 | FB38: =COUNTIFS(Dosen!$P$4:$P$469,A38,Dosen!$E$4:$E$469,"Belum") -> 0 | FC38: =COUNTIFS(Dosen!$P$4:$P$469,$A38,Dosen!$E$4:$E$469,"Asisten Ahli") -> 1 | FD38: =COUNTIFS(Dosen!$P$4:$P$469,$A38,Dosen!$E$4:$E$469,"Lektor") -> 3 | FE38: =COUNTIFS(Dosen!$P$4:$P$469,$A38,Dosen!$E$4:$E$469,"Lektor Kepala") -> 0 | FF38: =COUNTIFS(Dosen!$P$4:$P$469,$A38,Dosen!$E$4:$E$469,"Guru Besar") -> 2 | FG38: =COUNTIFS(Dosen!$P$5:$P$449,$A38,Dosen!$I$5:$I$449,"Belum") -> 0 | FH38: =COUNTIFS(Dosen!$P$5:$P$449,A38,Dosen!$I$5:$I$449,"SUDAH") -> 6 | FI38: =COUNTIFS(Dosen!$P$4:$P$449,A38,Dosen!$H$4:$H$449,"s3") -> 6 | FJ38: =COUNTIFS(Dosen!$P$4:$P$449,A38,Dosen!$H$4:$H$449,"s2") -> 0 | FK38: =COUNTIFS(Dosen!$P$4:$P$449,A38,Dosen!$H$4:$H$449,"s1") -> 0 | FL38: =COUNTIFS(Dosen!$P$4:$P$449,A38,Dosen!$H$4:$H$449,"sp.2") -> 0 | FM38: =COUNTIFS(Dosen!$P$4:$P$449,A38,Dosen!$H$4:$H$449,"sp.1") -> 0 | FN38: =COUNTIFS(Dosen!$P$4:$P$449,A38,Dosen!$K$4:$K$449,"NIDN") -> 6 | FO38: =COUNTIFS(Dosen!$P$4:$P$449,A38,Dosen!$K$4:$K$449,"NIDk") -> 0 | FP38: =COUNTIFS(Dosen!$P$4:$P$449,A38,Dosen!$K$4:$K$449,"belum") -> 0 | FQ38: =COUNTIFS(Dosen!$P$4:$P$449,A38,Dosen!$K$4:$K$449,"NUPTK") -> 0 | FR38: 13 | FS38: =COUNTIFS(Dosen!$P$4:$P$469,$A38,Dosen!$D$4:$D$469,"DT") -> 6 | FT38: =COUNTIFS(Dosen!$P$4:$P$469,$A38,Dosen!$D$4:$D$469,"CDTP") -> 0 | FU38: =COUNTIFS(Dosen!$P$4:$P$469,$A38,Dosen!$D$4:$D$469,"CDTSL") -> 0 | FV38: =COUNTIFS(Dosen!$P$4:$P$469,$A38,Dosen!$D$4:$D$469,"dosen kopertis") -> 0 | FW38: =COUNTIFS(Dosen!$P$4:$P$469,$A38,Dosen!$D$4:$D$469,"DBK") -> 0 | FX38: =COUNTIFS(Dosen!$P$4:$P$469,$A38,Dosen!$D$4:$D$469,"DPK") -> 0 | FY38: =COUNTIFS(Dosen!$P$4:$P$469,$A38,Dosen!$D$4:$D$469,"DLBK") -> 0 | FZ38: =SUM(FS38:FY38) -> 6 | GA38: =COUNTIFS(Dosen!$P$4:$P$469,$A38,Dosen!$E$4:$E$469,"Belum") -> 0 | GB38: =COUNTIFS(Dosen!$P$4:$P$469,$A38,Dosen!$E$4:$E$469,"Asisten Ahli") -> 1 | GC38: =COUNTIFS(Dosen!$P$4:$P$469,$A38,Dosen!$E$4:$E$469,"Lektor") -> 3 | GD38: =COUNTIFS(Dosen!$P$4:$P$469,$A38,Dosen!$E$4:$E$469,"Lektor Kepala") -> 0 | GE38: =COUNTIFS(Dosen!$P$4:$P$469,$A38,Dosen!$E$4:$E$469,"Guru Besar") -> 2 | GF38: =COUNTIFS(Dosen!$P$5:$P$449,$A38,Dosen!$I$5:$I$449,"Belum") -> 0 | GG38: =COUNTIFS(Dosen!$P$5:$P$449,$A38,Dosen!$I$5:$I$449,"SUDAH") -> 6 | GH38: =COUNTIFS(Dosen!$P$4:$P$449,$A38,Dosen!$H$4:$H$449,"s3") -> 6 | GI38: =COUNTIFS(Dosen!$P$4:$P$449,$A38,Dosen!$H$4:$H$449,"s2") -> 0 | GJ38: =COUNTIFS(Dosen!$P$4:$P$449,$A38,Dosen!$H$4:$H$449,"s1") -> 0 | GK38: =COUNTIFS(Dosen!$P$4:$P$449,$A38,Dosen!$H$4:$H$449,"sp.2") -> 0 | GL38: =COUNTIFS(Dosen!$P$4:$P$449,$A38,Dosen!$H$4:$H$449,"sp.1") -> 0 | GM38: =COUNTIFS(Dosen!$P$4:$P$449,$A38,Dosen!$K$4:$K$449,"NIDN") -> 6 | GN38: =COUNTIFS(Dosen!$P$4:$P$449,$A38,Dosen!$K$4:$K$449,"NIDk") -> 0 | GO38: =COUNTIFS(Dosen!$P$4:$P$449,$A38,Dosen!$K$4:$K$449,"belum") -> 0 | GP38: =COUNTIFS(Dosen!$P$4:$P$449,$A38,Dosen!$K$4:$K$449,"NUPTK") -> 0 | GQ38: 13 | GR38: 6 | GS38: 0 | GT38: 0 | GU38: 0 | GV38: 0 | GW38: 0 | GX38: 0 | GY38: 6 | GZ38: 0 | HA38: 1 | HB38: 3 | HC38: 0 | HD38: 2 | HE38: 1 | HF38: 5 | HG38: 6 | HH38: 0 | HI38: 0 | HJ38: 0 | HK38: 0 | HL38: 6 | HM38: 0 | HN38: 0 | HO38: 0 | HP38: 13 | HQ38: 6 | HR38: 0 | HS38: 0 | HT38: 0 | HU38: 0 | HV38: 0 | HW38: 0 | HX38: 6 | HY38: 0 | HZ38: 1 | IA38: 3 | IB38: 0 | IC38: 2 | ID38: 1 | IE38: 5 | IF38: 6 | IG38: 0 | IH38: 0 | II38: 0 | IJ38: 0 | IK38: 6 | IL38: 0 | IM38: 0 | IN38: 0 | IO38: 13 | IP38: 6 | IQ38: 0 | IR38: 0 | IS38: 0 | IT38: 0 | IU38: 0 | IV38: 0 | IW38: 6 | IX38: 0 | IY38: 1 | IZ38: 3 | JA38: 0 | JB38: 2 | JC38: 1 | JD38: 5 | JE38: 6 | JF38: 0 | JG38: 0 | JH38: 0 | JI38: 0 | JJ38: 6 | JK38: 0 | JL38: 0 | JM38: 0 | JN38: 13 | JO38: 6 | JP38: 0 | JQ38: 0 | JR38: 0 | JS38: 0 | JT38: 0 | JU38: 0 | JV38: 6 | JW38: 0 | JX38: 1 | JY38: 3 | JZ38: 0 | KA38: 2 | KB38: 0 | KC38: 6 | KD38: 6 | KE38: 0 | KF38: 0 | KG38: 0 | KH38: 0 | KI38: 6 | KJ38: 0 | KK38: 0 | KL38: 0 | KM38: 14 | KN38: =COUNTIFS(Dosen!$P$4:$P$469,$A38,Dosen!$D$4:$D$469,"DT") -> 6 | KO38: =COUNTIFS(Dosen!$P$4:$P$469,$A38,Dosen!$D$4:$D$469,"CDTP") -> 0 | KP38: =COUNTIFS(Dosen!$P$4:$P$469,$A38,Dosen!$D$4:$D$469,"CDTSL") -> 0 | KQ38: =COUNTIFS(Dosen!$P$4:$P$469,$A38,Dosen!$D$4:$D$469,"dosen kopertis") -> 0 | KR38: =COUNTIFS(Dosen!$P$4:$P$469,$A38,Dosen!$D$4:$D$469,"DBK") -> 0 | KS38: =COUNTIFS(Dosen!$P$4:$P$469,$A38,Dosen!$D$4:$D$469,"DPK") -> 0 | KT38: =COUNTIFS(Dosen!$P$4:$P$469,$A38,Dosen!$D$4:$D$469,"DLBK") -> 0 | KU38: =SUM(KN38:KT38) -> 6 | KV38: =COUNTIFS(Dosen!$P$4:$P$469,$A38,Dosen!$E$4:$E$469,"Belum") -> 0 | KW38: =COUNTIFS(Dosen!$P$4:$P$469,$A38,Dosen!$E$4:$E$469,"Asisten Ahli") -> 1 | KX38: =COUNTIFS(Dosen!$P$4:$P$469,$A38,Dosen!$E$4:$E$469,"Lektor") -> 3 | KY38: =COUNTIFS(Dosen!$P$4:$P$469,$A38,Dosen!$E$4:$E$469,"Lektor Kepala") -> 0 | KZ38: =COUNTIFS(Dosen!$P$4:$P$469,$A38,Dosen!$E$4:$E$469,"Guru Besar") -> 2 | LA38: =COUNTIFS(Dosen!$P$5:$P$495,$A38,Dosen!$I$5:$I$495,"Belum") -> 0 | LB38: =COUNTIFS(Dosen!$P$5:$P$495,$A38,Dosen!$I$5:$I$495,"SUDAH") -> 6 | LC38: =COUNTIFS(Dosen!$P$4:$P$495,$A38,Dosen!$H$4:$H$495,"s3") -> 6 | LD38: =COUNTIFS(Dosen!$P$4:$P$495,$A38,Dosen!$H$4:$H$495,"s2") -> 0 | LE38: =COUNTIFS(Dosen!$P$4:$P$495,$A38,Dosen!$H$4:$H$495,"s1") -> 0 | LF38: =COUNTIFS(Dosen!$P$4:$P$495,$A38,Dosen!$H$4:$H$495,"sp.2") -> 0 | LG38: =COUNTIFS(Dosen!$P$4:$P$495,$A38,Dosen!$H$4:$H$495,"sp.1") -> 0 | LH38: =COUNTIFS(Dosen!$P$4:$P$495,$A38,Dosen!$K$4:$K$495,"NIDN") -> 6 | LI38: =COUNTIFS(Dosen!$P$4:$P$495,$A38,Dosen!$K$4:$K$495,"NIDk") -> 0 | LJ38: =COUNTIFS(Dosen!$P$4:$P$495,$A38,Dosen!$K$4:$K$495,"belum") -> 0 | LK38: =COUNTIFS(Dosen!$P$4:$P$495,$A38,Dosen!$K$4:$K$495,"NUPTK") -> 0
